{ "extent": { "ymin": 2135965.179399997, "xmin": -20037507.067200001, "ymax": 11597575.179399997, "xmax": -7130157.0672000013, "spatialReference": { "latestWkid": 3857, "wkid": 102100 } }, "blockWidth": 2048, "mosaicOperator": "First", "serviceSourceType": "esriImageServiceSourceTypeMosaicDataset", "hasMultidimensions": false, "maxImageWidth": 100000, "maxRecordCount": 1000, "meanValues": [2937.9624647058376], "hasColormap": false, "compressionType": "None", "defaultCompressionQuality": 75, "maxValues": [136700], "hasHistograms": true, "datasetFormat": "AMD", "maxImageHeight": 100000, "sortField": "", "bandNames": ["Band_1"], "spatialReference": { "latestWkid": 3857, "wkid": 102100 }, "fullExtent": { "ymin": 2135965.179399997, "xmin": -20037507.067200001, "ymax": 11597575.179399997, "xmax": -7130157.0672000013, "spatialReference": { "latestWkid": 3857, "wkid": 102100 } }, "bandCount": 1, "rasterFunctionInfos": [ { "help": "", "name": "BurnProbability_32Bitsigned_RFt", "description": "raster function template" }, { "help": "", "name": "None", "description": "Make a Raster or Raster Dataset into a Function Raster Dataset." } ], "supportsStatistics": true, "sortableFields": "minps,maxps,lowps,highps,centerx,centery,zorder,st_area(shape),st_perimeter(shape)", "minValues": [0], "allowRasterFunction": true, "allowComputeTiePoints": false, "serviceDataType": "esriImageServiceDataTypeThematic", "supportsAdvancedQueries": true, "maxDownloadSizeLimit": 2048, "currentVersion": 12, "sortValue": null, "objectIdField": "objectid", "blockHeight": 256, "initialExtent": { "ymin": 2135965.179399997, "xmin": -20037507.067200001, "ymax": 11597575.179399997, "xmax": -7130157.0672000013, "spatialReference": { "latestWkid": 3857, "wkid": 102100 } }, "pixelSizeX": 270, "pixelSizeY": 270, "defaultMosaicMethod": "Northwest", "name": "Fire_Aviation/USFS_EDW_RMRS_ProbabilisticWildfireRiskBurnProbability", "allowedMosaicMethods": "NorthWest,Center,LockRaster,ByAttribute,Nadir,Viewpoint,Seamline,None", "maxDownloadImageCount": 20, "fields": [ { "domain": null, "name": "objectid", "alias": "objectid", "type": "esriFieldTypeOID" }, { "domain": null, "name": "name", "length": 200, "alias": "name", "type": "esriFieldTypeString" }, { "domain": null, "name": "minps", "alias": "minps", "type": "esriFieldTypeDouble" }, { "domain": null, "name": "maxps", "alias": "maxps", "type": "esriFieldTypeDouble" }, { "domain": null, "name": "lowps", "alias": "lowps", "type": "esriFieldTypeDouble" }, { "domain": null, "name": "highps", "alias": "highps", "type": "esriFieldTypeDouble" }, { "domain": { "splitPolicy": "esriSPTDefaultValue", "name": "MosaicCatalogItemCategoryDomain", "description": "Catalog item categories.", "type": "codedValue", "codedValues": [ { "code": 0, "name": "Unknown" }, { "code": 1, "name": "Primary" }, { "code": 2, "name": "Overview" }, { "code": 3, "name": "Unprocessed Overview" }, { "code": 4, "name": "Partial Overview" }, { "code": 5, "name": "Inactive" }, { "code": 253, "name": "Uploaded" }, { "code": 254, "name": "Incomplete" }, { "code": 255, "name": "Custom" } ], "mergePolicy": "esriMPTDefaultValue" }, "name": "category", "alias": "category", "type": "esriFieldTypeInteger" }, { "domain": null, "name": "tag", "length": 100, "alias": "tag", "type": "esriFieldTypeString" }, { "domain": null, "name": "groupname", "length": 100, "alias": "groupname", "type": "esriFieldTypeString" }, { "domain": null, "name": "productname", "length": 100, "alias": "productname", "type": "esriFieldTypeString" }, { "domain": null, "name": "centerx", "alias": "centerx", "type": "esriFieldTypeDouble" }, { "domain": null, "name": "centery", "alias": "centery", "type": "esriFieldTypeDouble" }, { "domain": null, "name": "zorder", "alias": "zorder", "type": "esriFieldTypeInteger" }, { "domain": null, "name": "shape", "alias": "shape", "type": "esriFieldTypeGeometry" } ], "allowAnalysis": true, "hasRasterAttributeTable": false, "useStandardizedQueries": true, "description": "
National data on burn probability (BP) were generated for the conterminous United States (CONUS), Alaska, and Hawaii using a geospatial Fire Simulation (FSim) system developed by the USDA Forest Service Missoula Fire Sciences Laboratory. The FSim system includes modules for weather generation, wildfire occurrence, fire growth, and fire suppression. FSim is designed to simulate the occurrence and growth of wildfires under tens of thousands of hypothetical contemporary fire seasons in order to estimate the probability of a given area (i.e., pixel) burning under current (end of 2020) landscape conditions and fire management practices. The data presented here represent modeled BP and FLPs for the United States (US) at a 270-meter grid spatial resolution. Flame-length probability is estimated for six standard Fire Intensity Levels. The six FILs correspond to flame-length classes as follows: FLP1 = < 2 feet (ft); FLP2 = 2 < 4 ft.; FLP3 = 4 < 6 ft.; FLP4 = 6 < 8 ft.; FLP5 = 8 < 12 ft.; FLP6 = 12+ ft. Because they indicate conditional probabilities (i.e., representing the likelihood of burning at a certain intensity level, given that a fire occurs), the FLP data must be used in conjunction with the BP data for risk assessment.These data are a newer edition of the Short et al. (2016, 2020) data publications. This third edition is based on circa 2020 landscape data, which were the most current LANDFIRE products available at the time of production. The methods used to generate these data generally followed the same process used in previous editions, with improvements made at specific steps. The process steps outlined in the Data Quality, Lineage section of this metadata document are expanded from previous editions to more fully explain each step and provide additional details on methods for this edition. Beyond the newer input landscape data from LANDFIRE, we also used updated datasets for other inputs such as fire occurrence, observed gridded daily weather, and wind data from weather stations. To better capture recent climate conditions, we also shortened the time period of historical weather records used to inform the generation of simulated weather streams for simulation runs, using the most recent 15 years this time (2006-2020) rather than full record from 1972-2012 in the second edition. See the process steps described in the Data Quality, Lineage section for more details.<\/span><\/p><\/div><\/div><\/div>",
"pixelType": "S32",
"meanPixelSize": 270,
"exportTilesAllowed": false,
"editFieldsInfo": null,
"rasterTypeInfos": [{
"help": "",
"name": "Raster Dataset",
"description": "Supports all ArcGIS Raster Datasets"
}],
"defaultResamplingMethod": "Nearest",
"itemAccess": false,
"minScale": 0,
"serviceProperties": " National data on burn probability (BP) were generated for the conterminous United States (CONUS), Alaska, and Hawaii using a geospatial Fire Simulation (FSim) system developed by the USDA Forest Service Missoula Fire Sciences Laboratory. The FSim system includes modules for weather generation, wildfire occurrence, fire growth, and fire suppression. FSim is designed to simulate the occurrence and growth of wildfires under tens of thousands of hypothetical contemporary fire seasons in order to estimate the probability of a given area (i.e., pixel) burning under current (end of 2020) landscape conditions and fire management practices. The data presented here represent modeled BP and FLPs for the United States (US) at a 270-meter grid spatial resolution. Flame-length probability is estimated for six standard Fire Intensity Levels. The six FILs correspond to flame-length classes as follows: FLP1 = < 2 feet (ft); FLP2 = 2 < 4 ft.; FLP3 = 4 < 6 ft.; FLP4 = 6 < 8 ft.; FLP5 = 8 < 12 ft.; FLP6 = 12+ ft. Because they indicate conditional probabilities (i.e., representing the likelihood of burning at a certain intensity level, given that a fire occurs), the FLP data must be used in conjunction with the BP data for risk assessment.These data are a newer edition of the Short et al. (2016, 2020) data publications. This third edition is based on circa 2020 landscape data, which were the most current LANDFIRE products available at the time of production. The methods used to generate these data generally followed the same process used in previous editions, with improvements made at specific steps. The process steps outlined in the Data Quality, Lineage section of this metadata document are expanded from previous editions to more fully explain each step and provide additional details on methods for this edition. Beyond the newer input landscape data from LANDFIRE, we also used updated datasets for other inputs such as fire occurrence, observed gridded daily weather, and wind data from weather stations. To better capture recent climate conditions, we also shortened the time period of historical weather records used to inform the generation of simulated weather streams for simulation runs, using the most recent 15 years this time (2006-2020) rather than full record from 1972-2012 in the second edition. See the process steps described in the Data Quality, Lineage section for more details.<\/SPAN><\/P><\/DIV><\/DIV><\/DIV>",
"allowCopy": true,
"copyrightText": "USDA Forest Service, Rocky Mountain Research Station, Missoula Fire Sciences Laboratory.\n5775 US Hwy 10 W\nMissoula\nMT\n59808\nPh. 406-329-4800",
"mensurationCapabilities": "Basic",
"ownershipBasedAccessControlForRasters": null
}