{ "extent": { "ymin": 3668791.9071587436, "xmin": -13885743.165199999, "ymax": 6275390.0155000016, "xmax": -11058647.331681836, "spatialReference": { "latestWkid": 3857, "wkid": 102100 } }, "blockWidth": 2048, "mosaicOperator": "First", "serviceSourceType": "esriImageServiceSourceTypeMosaicDataset", "hasMultidimensions": false, "maxImageWidth": 100000, "maxRecordCount": 1000, "meanValues": [2.3976164276255685], "hasColormap": false, "compressionType": "None", "defaultCompressionQuality": 75, "maxValues": [5], "hasHistograms": true, "datasetFormat": "AMD", "maxImageHeight": 100000, "sortField": "", "bandNames": ["Band_1"], "spatialReference": { "latestWkid": 3857, "wkid": 102100 }, "fullExtent": { "ymin": 3668791.9071587436, "xmin": -13885743.165199999, "ymax": 6275390.0155000016, "xmax": -11058647.331681836, "spatialReference": { "latestWkid": 3857, "wkid": 102100 } }, "bandCount": 1, "rasterFunctionInfos": [{ "help": "", "name": "None", "description": "" }], "supportsStatistics": true, "sortableFields": "minps,maxps,lowps,highps,centerx,centery,zorder,st_area(shape),st_perimeter(shape)", "minValues": [0], "allowRasterFunction": true, "allowComputeTiePoints": false, "serviceDataType": "esriImageServiceDataTypeGeneric", "supportsAdvancedQueries": true, "maxDownloadSizeLimit": 2048, "currentVersion": 11.5, "sortValue": null, "objectIdField": "objectid", "blockHeight": 256, "initialExtent": { "ymin": 3668791.9071587436, "xmin": -13885743.165199999, "ymax": 6275390.0155000016, "xmax": -11058647.331681836, "spatialReference": { "latestWkid": 3857, "wkid": 102100 } }, "pixelSizeX": 7874.9187563180012, "pixelSizeY": 7874.9187563180003, "defaultMosaicMethod": "Northwest", "name": "Fire_Aviation/USFS_EDW_IRAPriorityFiresheds", "allowedMosaicMethods": "NorthWest,Center,LockRaster,ByAttribute,Nadir,Viewpoint,Seamline,None", "maxDownloadImageCount": 20, "fields": [ { "domain": null, "name": "objectid", "alias": "objectid", "type": "esriFieldTypeOID" }, { "domain": null, "name": "name", "length": 200, "alias": "name", "type": "esriFieldTypeString" }, { "domain": null, "name": "minps", "alias": "minps", "type": "esriFieldTypeDouble" }, { "domain": null, "name": "maxps", "alias": "maxps", "type": "esriFieldTypeDouble" }, { "domain": null, "name": "lowps", "alias": "lowps", "type": "esriFieldTypeDouble" }, { "domain": null, "name": "highps", "alias": "highps", "type": "esriFieldTypeDouble" }, { "domain": { "splitPolicy": "esriSPTDefaultValue", "name": "MosaicCatalogItemCategoryDomain", "description": "Catalog item categories.", "type": "codedValue", "codedValues": [ { "code": 0, "name": "Unknown" }, { "code": 1, "name": "Primary" }, { "code": 2, "name": "Overview" }, { "code": 3, "name": "Unprocessed Overview" }, { "code": 4, "name": "Partial Overview" }, { "code": 5, "name": "Inactive" }, { "code": 253, "name": "Uploaded" }, { "code": 254, "name": "Incomplete" }, { "code": 255, "name": "Custom" } ], "mergePolicy": "esriMPTDefaultValue" }, "name": "category", "alias": "category", "type": "esriFieldTypeInteger" }, { "domain": null, "name": "tag", "length": 100, "alias": "tag", "type": "esriFieldTypeString" }, { "domain": null, "name": "groupname", "length": 100, "alias": "groupname", "type": "esriFieldTypeString" }, { "domain": null, "name": "productname", "length": 100, "alias": "productname", "type": "esriFieldTypeString" }, { "domain": null, "name": "centerx", "alias": "centerx", "type": "esriFieldTypeDouble" }, { "domain": null, "name": "centery", "alias": "centery", "type": "esriFieldTypeDouble" }, { "domain": null, "name": "zorder", "alias": "zorder", "type": "esriFieldTypeInteger" }, { "domain": null, "name": "shape", "alias": "shape", "type": "esriFieldTypeGeometry" }, { "domain": null, "name": "title", "length": 1024, "alias": "Title", "type": "esriFieldTypeString" }, { "domain": null, "name": "description", "length": 1024, "alias": "Description", "type": "esriFieldTypeString" }, { "domain": null, "name": "url", "length": 1024, "alias": "Url", "type": "esriFieldTypeString" }, { "domain": null, "name": "inputranges", "length": 2048, "alias": "InputRanges", "type": "esriFieldTypeString" }, { "domain": null, "name": "nodataranges", "length": 256, "alias": "NoDataRanges", "type": "esriFieldTypeString" }, { "domain": null, "name": "rangelabels", "length": 1024, "alias": "RangeLabels", "type": "esriFieldTypeString" }, { "domain": null, "name": "nodatarangelabels", "length": 1024, "alias": "NoDataRangeLabels", "type": "esriFieldTypeString" }, { "domain": null, "name": "outputvalues", "length": 256, "alias": "OutputValues", "type": "esriFieldTypeString" }, { "domain": null, "name": "metadata", "length": 1024, "alias": "Metadata", "type": "esriFieldTypeString" }, { "domain": null, "name": "dataset_id", "length": 1024, "alias": "dataset_id", "type": "esriFieldTypeString" }, { "domain": null, "name": "st_area(shape)", "alias": "st_area(shape)", "type": "esriFieldTypeDouble" }, { "domain": null, "name": "st_perimeter(shape)", "alias": "st_perimeter(shape)", "type": "esriFieldTypeDouble" } ], "allowAnalysis": true, "hasRasterAttributeTable": false, "useStandardizedQueries": true, "description": "
IRA Priority Firesheds<\/SPAN><\/P><\/DIV><\/DIV><\/DIV>",
"pixelType": "U4",
"meanPixelSize": 7874.9187563180003,
"exportTilesAllowed": false,
"editFieldsInfo": null,
"rasterTypeInfos": [{
"help": "",
"name": "Raster Dataset",
"description": "Supports all ArcGIS Raster Datasets"
}],
"defaultResamplingMethod": "Nearest",
"itemAccess": false,
"minScale": 0,
"serviceProperties": " IRA Priority Firesheds<\/SPAN><\/P><\/DIV><\/DIV><\/DIV>",
"allowCopy": true,
"copyrightText": "USDA - GEO; USDA - USFS \u2013 GTAC",
"mensurationCapabilities": "Basic",
"ownershipBasedAccessControlForRasters": null
}