<?xml version="1.0" encoding="UTF-8" standalone="no"?>
<metadata xml:lang="en">
<Esri>
<CreaDate>20250811</CreaDate>
<CreaTime>13471800</CreaTime>
<ArcGISFormat>1.0</ArcGISFormat>
<SyncOnce>FALSE</SyncOnce>
<DataProperties>
<itemProps>
<itemName Sync="FALSE">A_USFS_EDW_BAER_SoilBurnSeverityClassification</itemName>
<nativeExtBox>
<westBL Sync="TRUE">-13855856.934800</westBL>
<eastBL Sync="TRUE">-8561484.934800</eastBL>
<southBL Sync="TRUE">3690355.859500</southBL>
<northBL Sync="TRUE">6450607.859500</northBL>
<exTypeCode Sync="TRUE">1</exTypeCode>
</nativeExtBox>
<imsContentType export="False">
</imsContentType>
</itemProps>
<coordRef>
<type Sync="TRUE">Projected</type>
<geogcsn Sync="TRUE">GCS_WGS_1984</geogcsn>
<csUnits Sync="TRUE">Linear Unit: Meter (1.000000)</csUnits>
<projcsn Sync="TRUE">WGS_1984_Web_Mercator_Auxiliary_Sphere</projcsn>
<peXml Sync="TRUE">&lt;ProjectedCoordinateSystem xsi:type='typens:ProjectedCoordinateSystem' xmlns:xsi='http://www.w3.org/2001/XMLSchema-instance' xmlns:xs='http://www.w3.org/2001/XMLSchema' xmlns:typens='http://www.esri.com/schemas/ArcGIS/3.5.0'&gt;&lt;WKT&gt;PROJCS[&amp;quot;WGS_1984_Web_Mercator_Auxiliary_Sphere&amp;quot;,GEOGCS[&amp;quot;GCS_WGS_1984&amp;quot;,DATUM[&amp;quot;D_WGS_1984&amp;quot;,SPHEROID[&amp;quot;WGS_1984&amp;quot;,6378137.0,298.257223563]],PRIMEM[&amp;quot;Greenwich&amp;quot;,0.0],UNIT[&amp;quot;Degree&amp;quot;,0.0174532925199433]],PROJECTION[&amp;quot;Mercator_Auxiliary_Sphere&amp;quot;],PARAMETER[&amp;quot;False_Easting&amp;quot;,0.0],PARAMETER[&amp;quot;False_Northing&amp;quot;,0.0],PARAMETER[&amp;quot;Central_Meridian&amp;quot;,0.0],PARAMETER[&amp;quot;Standard_Parallel_1&amp;quot;,0.0],PARAMETER[&amp;quot;Auxiliary_Sphere_Type&amp;quot;,0.0],UNIT[&amp;quot;Meter&amp;quot;,1.0],AUTHORITY[&amp;quot;EPSG&amp;quot;,3857]]&lt;/WKT&gt;&lt;XOrigin&gt;-20037700&lt;/XOrigin&gt;&lt;YOrigin&gt;-30241100&lt;/YOrigin&gt;&lt;XYScale&gt;148923141.92838538&lt;/XYScale&gt;&lt;ZOrigin&gt;-100000&lt;/ZOrigin&gt;&lt;ZScale&gt;10000&lt;/ZScale&gt;&lt;MOrigin&gt;-100000&lt;/MOrigin&gt;&lt;MScale&gt;10000&lt;/MScale&gt;&lt;XYTolerance&gt;0.001&lt;/XYTolerance&gt;&lt;ZTolerance&gt;0.001&lt;/ZTolerance&gt;&lt;MTolerance&gt;0.001&lt;/MTolerance&gt;&lt;HighPrecision&gt;true&lt;/HighPrecision&gt;&lt;WKID&gt;102100&lt;/WKID&gt;&lt;LatestWKID&gt;3857&lt;/LatestWKID&gt;&lt;/ProjectedCoordinateSystem&gt;</peXml>
</coordRef>
<RasterProperties>
<General>
<PixelDepth Sync="TRUE">4</PixelDepth>
<HasColormap Sync="TRUE">FALSE</HasColormap>
<CompressionType Sync="TRUE">None</CompressionType>
<NumBands Sync="TRUE">1</NumBands>
<Format Sync="TRUE">AMD</Format>
<HasPyramids Sync="TRUE">TRUE</HasPyramids>
<SourceType Sync="TRUE">continuous</SourceType>
<PixelType Sync="TRUE">unsigned integer</PixelType>
<NoDataValue Sync="TRUE">
</NoDataValue>
</General>
<Properties>
<MaxImageHeight Sync="TRUE">100000</MaxImageHeight>
<MaxImageWidth Sync="TRUE">100000</MaxImageWidth>
<MaxRecordCount Sync="TRUE">1000</MaxRecordCount>
<MaxDownloadImageCount Sync="TRUE">20</MaxDownloadImageCount>
<MaxDownloadSizeLimit Sync="TRUE">2048</MaxDownloadSizeLimit>
<MaxMosaicImageCount Sync="TRUE">100</MaxMosaicImageCount>
<DefaultCompressionQuality Sync="TRUE">75</DefaultCompressionQuality>
<DefaultCompressionTolerance Sync="TRUE">0.01</DefaultCompressionTolerance>
<BlendWidth Sync="TRUE">10</BlendWidth>
<ViewpointSpacingX Sync="TRUE">600</ViewpointSpacingX>
<ViewpointSpacingY Sync="TRUE">300</ViewpointSpacingY>
<AllowedItemMetadata Sync="TRUE">Basic</AllowedItemMetadata>
<DefaultResamplingMethod Sync="TRUE">1</DefaultResamplingMethod>
<AllowedMosaicMethods Sync="TRUE">NorthWest,Center,LockRaster,ByAttribute,Nadir,Viewpoint,Seamline,None</AllowedMosaicMethods>
<AllowedCompressions Sync="TRUE">None,JPEG,LZ77,LERC</AllowedCompressions>
<AllowedMensurationCapabilities Sync="TRUE">Basic</AllowedMensurationCapabilities>
<AvailableMensurationCapabilities Sync="TRUE">None,Basic,Base-Top Height,Top-Top Shadow Height,Base-Top Shadow Height,3D</AvailableMensurationCapabilities>
<ClipToBoundary Sync="TRUE">-1</ClipToBoundary>
<FootprintMayContainNoData Sync="TRUE">-1</FootprintMayContainNoData>
<CellSizeTolerance Sync="TRUE">0.8</CellSizeTolerance>
<MinimumPixelContribution Sync="TRUE">1</MinimumPixelContribution>
<AvailableMosaicMethods Sync="TRUE">NorthWest,Center,LockRaster,ByAttribute,Nadir,Viewpoint,Seamline,None</AvailableMosaicMethods>
<AvailableCompressionMethods Sync="TRUE">None,JPEG,LZ77,LERC</AvailableCompressionMethods>
<AvailableItemMetadataLevels Sync="TRUE">None,Basic,Full</AvailableItemMetadataLevels>
<BandDefinitionKeyword Sync="TRUE">NONE</BandDefinitionKeyword>
<_docversion_ Sync="TRUE">10</_docversion_>
<AllowedFields Sync="TRUE">name,minps,maxps,lowps,highps,tag,groupname,productname,centerx,centery,zorder,st_area(shape),st_perimeter(shape),beginyear,endyear</AllowedFields>
<ClipToFootprint Sync="TRUE">-1</ClipToFootprint>
<DataType Sync="TRUE">Generic</DataType>
<LowCellSize Sync="TRUE">4</LowCellSize>
<HighCellSize Sync="TRUE">65536</HighCellSize>
<MaxCellSize Sync="TRUE">0</MaxCellSize>
<AvailableFields Sync="TRUE">name,minps,maxps,lowps,highps,tag,groupname,productname,centerx,centery,zorder,beginyear,endyear,st_area(shape),st_perimeter(shape)</AvailableFields>
<SortableFields Sync="TRUE">minps,maxps,lowps,highps,centerx,centery,zorder,st_area(shape),st_perimeter(shape),beginyear,endyear</SortableFields>
<SortAscending Sync="TRUE">-1</SortAscending>
<MosaicOperator Sync="TRUE">1</MosaicOperator>
<BlendWidthUnits Sync="TRUE">1</BlendWidthUnits>
<ClipOverviewsToFootprint Sync="TRUE">0</ClipOverviewsToFootprint>
<HasDodgingTable Sync="TRUE">0</HasDodgingTable>
<ApplyColorCorrection Sync="TRUE">0</ApplyColorCorrection>
<UseTime Sync="TRUE">-1</UseTime>
<StartTimeFieldName Sync="TRUE">beginyear</StartTimeFieldName>
<EndTimeFieldName Sync="TRUE">endyear</EndTimeFieldName>
<TimeValueFormat Sync="TRUE">YYYY</TimeValueFormat>
<UseRange Sync="TRUE">0</UseRange>
<TimeInterval Sync="TRUE">
</TimeInterval>
<TimeIntervalUnits Sync="TRUE">Years</TimeIntervalUnits>
</Properties>
<Functions Sync="TRUE">
<Function Description="Performs on-the-fly mosaic on a raster catalog." Name="Mosaic Function">
</Function>
</Functions>
</RasterProperties>
</DataProperties>
<scaleRange>
<minScale>150000000</minScale>
<maxScale>5000</maxScale>
</scaleRange>
<SyncDate>20250811</SyncDate>
<SyncTime>14253300</SyncTime>
<ModDate>20260604</ModDate>
<ModTime>14295200</ModTime>
<ArcGISProfile>ISO19115_3</ArcGISProfile>
</Esri>
<mdLang>
<languageCode Sync="TRUE" value="eng">
</languageCode>
<countryCode Sync="TRUE" value="USA">
</countryCode>
</mdLang>
<mdChar>
<CharSetCd value="004">
</CharSetCd>
</mdChar>
<mdHrLv>
<ScopeCd value="005">
</ScopeCd>
</mdHrLv>
<mdContact>
<rpOrgName>USFS Chief Information Office, Enterprise Data Warehouse</rpOrgName>
<rpCntInfo>
<cntPhone>
<voiceNum>Please send an e-mail to the address below.</voiceNum>
</cntPhone>
<cntAddress addressType="physical">
<city>Washington</city>
<adminArea>DC</adminArea>
<postCode>20250</postCode>
<eMailAdd>SM.FS.data@usda.gov</eMailAdd>
</cntAddress>
</rpCntInfo>
<role>
<RoleCd value="007">
</RoleCd>
</role>
</mdContact>
<mdDateSt Sync="TRUE">20260604</mdDateSt>
<mdStanName>ArcGIS Metadata</mdStanName>
<mdStanVer>1.0</mdStanVer>
<distInfo>
<distTranOps>
<onLineSrc>
<linkage>https://fsapps.nwcg.gov/baer/baer-imagery-support-data-download</linkage>
</onLineSrc>
</distTranOps>
</distInfo>
<dataIdInfo>
<idCitation>
<resTitle>USFS_EDW_BAER_SoilBurnSeverityClassification</resTitle>
<date>
<pubDate>2019-05-06</pubDate>
</date>
<citRespParty>
<rpOrgName>USDA Forest Service</rpOrgName>
<role>
<RoleCd value="006">
</RoleCd>
</role>
</citRespParty>
<citRespParty>
<rpOrgName>BAER Imagery Support Program</rpOrgName>
<role>
<RoleCd value="006">
</RoleCd>
</role>
<rpCntInfo>
<cntAddress addressType="">
<eMailAdd>SM.FS.BAERImagery@usda.gov</eMailAdd>
</cntAddress>
</rpCntInfo>
</citRespParty>
<citRespParty>
<rpOrgName>Geospatial Technology and Applications Center</rpOrgName>
<role>
<RoleCd value="006">
</RoleCd>
</role>
</citRespParty>
<presForm>
<PresFormCd value="005">
</PresFormCd>
</presForm>
<presForm>
<fgdcGeoform>raster digital data</fgdcGeoform>
</presForm>
</idCitation>
<idAbs>&lt;div style='text-align:Left;'&gt;&lt;div&gt;&lt;div&gt;&lt;p&gt;&lt;span&gt;The USDA Forest Service Burned Area Emergency Response (BAER) Imagery Support program produces geospatial data of post-fire burn severities using standardized change detection methods based on Landsat, Sentinel-2, or similar multispectral satellite imagery. The BAER Imagery Support program provides an initial Burned Area Reflectance Classification (BARC) product to BAER teams. The BARC is a preliminary vegetation burn severity product which assesses severity based on the magnitude of detectable change to above ground biomass. The BAER teams collect field data on post-fire soil conditions that is used with the BARC to create the final soil burn severity (SBS) classification product for each BAER assessment. The SBS data is preferred for sharing publicly since it has been validated by the BAER team in the field. BAER teams use the soil burn severity product to assess the need for and application of emergency soil stabilization treatments following a wildfire. National mosaics compiling SBS classification products from individual BAER assessments are prepared on an annual basis. This SBS dataset is a compilation of final burn severity data products created by USDA Forest Service BAER teams from 2017 through the most recent completed fire year. It is a thematic raster dataset with four burn severity classes: unburned to very low, low, moderate, and high. The spatial resolution is variable based on the imagery used to create the initial BARC product and subsequent processing by the BAER teams. Datasets are typically 30m for Landsat assessments and 20m for Sentinel-2 assessments.&lt;/span&gt;&lt;/p&gt;&lt;/div&gt;&lt;/div&gt;&lt;/div&gt;</idAbs>
<idPurp>Soil Burn Severity Classification for all USDA Forest Service Burned Area Emergency Response incidents from 2017 through the most recent completed fire year. These data were created by Burned Area Emergency Response (BAER) teams using data derived from an initial Burned Area Reflectance Classification (BARC) provided by the USDA Forest Service Geospatial Technology and Applications Center (GTAC).</idPurp>
<idCredit>BAER Imagery Support Program: SM.FS.BAERImagery@usda.gov</idCredit>
<idStatus>
<ProgCd value="001">
</ProgCd>
</idStatus>
<idPoC>
<rpOrgName>USFS Chief Information Office, Enterprise Data Warehouse</rpOrgName>
<rpCntInfo>
<cntPhone>
<voiceNum tddtty="">Please send an e-mail to the address below.</voiceNum>
</cntPhone>
<cntAddress addressType="physical">
<city>Washington</city>
<adminArea>DC</adminArea>
<postCode>20250</postCode>
<country>US</country>
<eMailAdd>SM.FS.data@usda.gov</eMailAdd>
</cntAddress>
</rpCntInfo>
<role>
<RoleCd value="007">
</RoleCd>
</role>
</idPoC>
<resMaint>
<maintFreq>
<MaintFreqCd value="009">
</MaintFreqCd>
</maintFreq>
</resMaint>
<themeKeys>
<thesaName>
<resTitle>ISO 19115 Topic Categories</resTitle>
</thesaName>
<keyword>Soils</keyword>
</themeKeys>
<themeKeys>
<keyword>Fire Severity</keyword>
<keyword>BARC</keyword>
<keyword>BAER</keyword>
<keyword>Wildland Fire</keyword>
<keyword>dNBR</keyword>
<keyword>Wildfire</keyword>
<keyword>USDA Forest Service</keyword>
<keyword>Burned Area Emergency Response</keyword>
<keyword>Burn Severity</keyword>
<keyword>30 meter pixel</keyword>
</themeKeys>
<searchKeys>
<keyword>BAER</keyword>
<keyword>Soils</keyword>
<keyword>Fire Severity</keyword>
<keyword>BARC</keyword>
<keyword>BAER</keyword>
<keyword>Wildland Fire</keyword>
<keyword>dNBR</keyword>
<keyword>Wildfire</keyword>
<keyword>USDA Forest Service</keyword>
<keyword>Burned Area Emergency Response</keyword>
<keyword>Burn</keyword>
<keyword>Severity</keyword>
<keyword>30 meter pixel</keyword>
<keyword>2017</keyword>
<keyword>2018</keyword>
<keyword>2019</keyword>
<keyword>2020</keyword>
<keyword>2021</keyword>
<keyword>2022</keyword>
<keyword>2023</keyword>
<keyword>2024</keyword>
<keyword>2025</keyword>
<keyword>2026</keyword>
</searchKeys>
<resConst>
<Consts>
<useLimit>&lt;div style='text-align:Left;'&gt;&lt;div&gt;&lt;div&gt;&lt;p&gt;&lt;span&gt;The USDA Forest Service makes no warranty, expressed or implied, including the warranties of merchantability and fitness for a particular purpose, nor assumes any legal liability or responsibility for the accuracy, reliability, completeness or utility of these geospatial data, or for the improper or incorrect use of these geospatial data. These geospatial data and related maps or graphics are not legal documents and are not intended to be used as such. The data and maps may not be used to determine title, ownership, legal descriptions or boundaries, legal jurisdiction, or restrictions that may be in place on either public or private land. Natural hazards may or may not be depicted on the data and maps, and land users should exercise due caution. The data are dynamic and may change over time. The user is responsible to verify the limitations of the geospatial data and to use the data accordingly. &lt;/span&gt;&lt;/p&gt;&lt;p&gt;&lt;span&gt;Additionally, the U.S. Forest Service waives copyright and related rights in the work worldwide through the CC0 (which can be found at https://creativecommons.org/public-domain/cc0/). &lt;/span&gt;&lt;/p&gt;&lt;p&gt;&lt;span&gt;In accordance with Federal civil rights law and U.S. Department of Agriculture (USDA) civil rights regulations and policies, the USDA, its Agencies, offices, and employees, and institutions participating in or administering USDA programs are prohibited from discriminating based on race, color, national origin, religion, sex, disability, age, marital status, family/parental status, income derived from a public assistance program, political beliefs, or reprisal or retaliation for prior civil rights activity, in any program or activity conducted or funded by USDA (not all bases apply to all programs). Remedies and complaint filing deadlines vary by program or incident. &lt;/span&gt;&lt;/p&gt;&lt;p&gt;&lt;span&gt;Persons with disabilities who require alternative means of communication for program information (e.g., Braille, large print, audiotape, American Sign Language, etc.) should contact the State or local Agency that administers the program or contact USDA through the Telecommunications Relay Service at 711 (voice and TTY). Additionally, program information may be made available in languages other than English. &lt;/span&gt;&lt;/p&gt;&lt;p&gt;&lt;span&gt;To file a program discrimination complaint, complete the USDA Program Discrimination Complaint Form, AD-3027, found online at How to File a Program Discrimination Complaint and at any USDA office or write a letter addressed to USDA and provide in the letter all of the information requested in the form. To request a copy of the complaint form, call (866) 632-9992. Submit your completed form or letter to USDA by: (1) mail: U.S. Department of Agriculture, Office of the Assistant Secretary for Civil Rights, 1400 Independence Avenue, SW, Mail Stop 9410, Washington, D.C. 20250-9410; (2) fax: (202) 690-7442; or (3) email: program.intake@usda.gov. &lt;/span&gt;&lt;/p&gt;&lt;p&gt;&lt;span /&gt;&lt;/p&gt;&lt;p&gt;&lt;span&gt;USDA is an equal opportunity provider, employer, and lender. &lt;/span&gt;&lt;/p&gt;&lt;/div&gt;&lt;/div&gt;&lt;/div&gt;</useLimit>
</Consts>
</resConst>
<resConst>
<LegConsts>
<useLimit>The U.S. Forest Service makes no warranty, express or implied, nor assumes any liability or responsibility for the accuracy, reliability, completeness, or utility of these geospatial data or for the improper or incorrect use of those data. The data are dynamic and may change over time. The user is responsible for verifying the limitations of the geospatial data and for using the data accordingly.</useLimit>
</LegConsts>
</resConst>
<spatRpType>
<SpatRepTypCd value="002">
</SpatRepTypCd>
</spatRpType>
<envirDesc>Esri ArcGIS 10.3.1.5004</envirDesc>
<dataExt>
<geoEle>
<GeoBndBox>
<exTypeCode>true</exTypeCode>
<westBL>-126.767231</westBL>
<eastBL>-104.163759</eastBL>
<northBL>50.516032</northBL>
<southBL>31.637226</southBL>
</GeoBndBox>
</geoEle>
</dataExt>
<dataExt>
<exDesc>Data are current to the date of publication.</exDesc>
<tempEle>
<TempExtent>
<exTemp>
<TM_Period>
<tmBegin>2018-01-01</tmBegin>
<tmEnd>2018-12-31</tmEnd>
</TM_Period>
</exTemp>
</TempExtent>
</tempEle>
</dataExt>
<suppInfo>Each individual soil burn severity dataset was derived from satellite imagery, primarily Landsat 8 and Sentinel 2, and field validated by a Forest Service Burned Area Emergency Response (BAER) team. It is based upon an initial Burned Area Reflectance Classification (BARC). The BARC is created by analyzing pre-fire and post-fire satellite scenes and then calculating a differenced Normalized Burn Ratio (dNBR) image. The dNBR image attempts to portray the variation of burn severity within a fire and captures the combined effects of the fire to vegetation and soil components of the ecosystem. Additional documentation on BARC products is available at: https://www.fs.fed.us/eng/rsac/baer/barc.html. The preliminary BARC dataset was assessed by a Forest Service BAER team and modified, if necessary, based on field conditions.</suppInfo>
<dataLang>
<languageCode Sync="TRUE" value="eng">
</languageCode>
<countryCode Sync="TRUE" value="USA">
</countryCode>
</dataLang>
<dataExt>
<geoEle>
<GeoBndBox esriExtentType="search">
<exTypeCode Sync="TRUE">1</exTypeCode>
<westBL Sync="TRUE">-124.469281</westBL>
<eastBL Sync="TRUE">-76.909128</eastBL>
<northBL Sync="TRUE">50.025008</northBL>
<southBL Sync="TRUE">31.442541</southBL>
</GeoBndBox>
</geoEle>
</dataExt>
<tempKeys>
<keyword>2017, 2018, 2019, 2020, 2021, 2022, 2023, 2024, 2025, 2026</keyword>
</tempKeys>
<tpCat>
<TopicCatCd value="007">
</TopicCatCd>
</tpCat>
<tpCat>
<TopicCatCd value="010">
</TopicCatCd>
</tpCat>
</dataIdInfo>
<dqInfo>
<dqScope>
<scpLvl>
<ScopeCd value="005">
</ScopeCd>
</scpLvl>
</dqScope>
<report type="DQQuanAttAcc">
<measDesc>This dataset is derived from either Landsat 8 or Sentinel 2 satellite imagery. Both of those platforms maintain robust data quality controls. The U.S. Geological Survey tests and calibrates Landsat 8 data on an on-going basis and the European Space Agency does the same for Sentinel 2 data. Adjustments to either the onboard sensors or the processing of the data stream are made when any issue regarding the integrity of the image quality is found. In addition, both platforms include an image quality band for reference.</measDesc>
</report>
<report type="DQConcConsis">
<measDesc>Landsat 8 and Sentinel 2 data are terrain corrected using ground control points and processed to an RMSE of less than 1/2 pixel.</measDesc>
</report>
<report type="DQCompOm">
<measDesc>Data is complete as of publication.</measDesc>
</report>
<report dimension="horizontal" type="DQAbsExtPosAcc">
<measDesc>The horizontal positional accuracy of both sensors is less than 0.5 pixels, meaning the data are aligned with the earth such that they are mis-registered by no more than 10-15m. </measDesc>
</report>
<dataLineage>
<prcStep>
<stepDesc>These data products are derived from Landsat 8 and Sentinel 2 data. Pre-fire and post-fire scenes were analyzed to create a differenced Normalized Burn Ratio (dNBR) image. The dNBR image portrays the variation of burn severity within the fire. The pre- and post-fire images are terrain corrected and further processed to convert top of atmosphere reflectance. The Normalized Burn Ratio (NBR) is computed for the pre- and post-fire images using the following formula: (NIR Band - SWIR Band) / (NIR Band + SWIR Band) = NBR.</stepDesc>
<stepDateTm>2019-01-01</stepDateTm>
</prcStep>
</dataLineage>
</dqInfo>
<spatRepInfo>
<Georect>
<numDims>2</numDims>
<axisDimension type="001">
<dimSize>61524</dimSize>
<dimResol>
<value Sync="TRUE" uom="m">4.000000</value>
</dimResol>
</axisDimension>
<axisDimension type="002">
<dimSize>51525</dimSize>
<dimResol>
<value Sync="TRUE" uom="m">4.000000</value>
</dimResol>
</axisDimension>
<cellGeo>
<CellGeoCd Sync="TRUE" value="002">
</CellGeoCd>
</cellGeo>
<tranParaAv Sync="TRUE">1</tranParaAv>
<chkPtAv Sync="TRUE">0</chkPtAv>
<cornerPts>
<pos Sync="TRUE">-13855856.934800 3690355.859500</pos>
</cornerPts>
<cornerPts>
<pos Sync="TRUE">-13855856.934800 6450607.859500</pos>
</cornerPts>
<cornerPts>
<pos Sync="TRUE">-8561484.934800 6450607.859500</pos>
</cornerPts>
<cornerPts>
<pos Sync="TRUE">-8561484.934800 3690355.859500</pos>
</cornerPts>
<centerPt>
<pos Sync="TRUE">-11208670.934800 5070481.859500</pos>
</centerPt>
<ptInPixel>
<PixOrientCd Sync="TRUE" value="001">
</PixOrientCd>
</ptInPixel>
</Georect>
</spatRepInfo>
<refSysInfo>
<RefSystem>
<refSysID>
<identCode Sync="TRUE" code="3857">
</identCode>
<idCodeSpace Sync="TRUE">EPSG</idCodeSpace>
<idVersion Sync="TRUE">6.18.3(9.3.1.2)</idVersion>
</refSysID>
</RefSystem>
</refSysInfo>
<contInfo>
<ImgDesc>
<contentTyp>
<ContentTypCd Sync="TRUE" value="001">
</ContentTypCd>
</contentTyp>
<covDim>
<Band>
<dimDescrp Sync="TRUE">Band_1</dimDescrp>
<bitsPerVal Sync="TRUE">4</bitsPerVal>
<valUnit>
<UOM type="length">
</UOM>
</valUnit>
</Band>
</covDim>
</ImgDesc>
</contInfo>
<eainfo>
<detailed>
<enttyp>
<enttypl>2018_sbs_usfs_baer.tif</enttypl>
<enttypd>A spatial data model that defines space as an array of equally sized cells arranged in rows and columns, and composed of single or multiple bands. Each cell contains an attribute value and location coordinates. Unlike a vector structure, which stores coordinates explicitly, raster coordinates are contained in the ordering of the matrix. Groups of cells that share the same value represent the same type of geographic feature.</enttypd>
<enttypds>Esri GIS Data Dictionary</enttypds>
</enttyp>
<attr>
<attrlabl>OID</attrlabl>
<attrdef>Internal feature number.</attrdef>
<attrdefs>Esri</attrdefs>
<attrdomv>
<udom>Sequential unique whole numbers that are automatically generated.</udom>
</attrdomv>
</attr>
<attr>
<attrlabl>Value</attrlabl>
<attrdef>Severity class</attrdef>
<attrdefs>U.S. Forest Service</attrdefs>
<attrdomv>
<edom>
<edomv>1</edomv>
<edomvd>Class 1 - Unburned to very low: The area after the fire was indistinguishable from pre-fire conditions. This does not always indicate the area did not burn (i.e. canopy may be occluding the burn signal).</edomvd>
<edomvds>U.S. Forest Service</edomvds>
</edom>
<edom>
<edomv>2</edomv>
<edomvd>Class 2 - Low: Areas of surface fire with little detected change in cover and little detected mortality of the dominant vegetation. Little to no change in the soil color, structure and condition occurred.</edomvd>
<edomvds>U.S. Forest Service</edomvds>
</edom>
<edom>
<edomv>3</edomv>
<edomvd>Class 3 - Moderate: This severity class is between low and high and means there is a mixture of detected effects on the dominant vegetation.</edomvd>
<edomvds>U.S. Forest Service</edomvds>
</edom>
<edom>
<edomv>4</edomv>
<edomvd>Class 4 - High: Areas where the canopy has high to complete consumption. Changes to soil structure, color and condition are significant and hydrophobicity may have occurred.</edomvd>
<edomvds>U.S. Forest Service</edomvds>
</edom>
</attrdomv>
</attr>
<attr>
<attrlabl>Count</attrlabl>
<attrdef>The number of cells in the raster dataset with the cell value in the VALUE column.</attrdef>
<attrdefs>Esri</attrdefs>
<attrdomv>
<udom>Integer</udom>
</attrdomv>
</attr>
<attr>
<attrlabl>Opacity</attrlabl>
<attrdef>Indicates the values that should be displayed as transparent.</attrdef>
<attrdefs>U.S. Forest Service</attrdefs>
<attrdomv>
<edom>
<edomv>0</edomv>
<edomvd>Display with 100% transparency</edomvd>
<edomvds>U.S. Forest Service</edomvds>
</edom>
<edom>
<edomv>1</edomv>
<edomvd>Display with 0% transparency</edomvd>
