<?xml version="1.0" encoding="UTF-8" standalone="no"?>
<metadata xml:lang="en">
<Esri>
<CreaDate>20260902</CreaDate>
<CreaTime>07334100</CreaTime>
<ArcGISFormat>1.0</ArcGISFormat>
<SyncOnce>FALSE</SyncOnce>
<DataProperties>
<itemProps>
<itemName Sync="FALSE">USFS_ForestPestDistributions_NorthAmerica_v2</itemName>
<nativeExtBox>
<westBL Sync="TRUE">-20037507.067200</westBL>
<eastBL Sync="TRUE">20037507.842788</eastBL>
<southBL Sync="TRUE">300971.458400</southBL>
<northBL Sync="TRUE">30240971.458386</northBL>
<exTypeCode Sync="TRUE">1</exTypeCode>
</nativeExtBox>
<imsContentType export="False">
</imsContentType>
</itemProps>
<coordRef>
<type Sync="TRUE">Projected</type>
<geogcsn Sync="TRUE">GCS_WGS_1984</geogcsn>
<csUnits Sync="TRUE">Linear Unit: Meter (1.000000)</csUnits>
<projcsn Sync="TRUE">WGS_1984_Web_Mercator_Auxiliary_Sphere</projcsn>
<peXml Sync="TRUE">&lt;ProjectedCoordinateSystem xsi:type='typens:ProjectedCoordinateSystem' xmlns:xsi='http://www.w3.org/2001/XMLSchema-instance' xmlns:xs='http://www.w3.org/2001/XMLSchema' xmlns:typens='http://www.esri.com/schemas/ArcGIS/3.6.0'&gt;&lt;WKT&gt;PROJCS[&amp;quot;WGS_1984_Web_Mercator_Auxiliary_Sphere&amp;quot;,GEOGCS[&amp;quot;GCS_WGS_1984&amp;quot;,DATUM[&amp;quot;D_WGS_1984&amp;quot;,SPHEROID[&amp;quot;WGS_1984&amp;quot;,6378137.0,298.257223563]],PRIMEM[&amp;quot;Greenwich&amp;quot;,0.0],UNIT[&amp;quot;Degree&amp;quot;,0.0174532925199433]],PROJECTION[&amp;quot;Mercator_Auxiliary_Sphere&amp;quot;],PARAMETER[&amp;quot;False_Easting&amp;quot;,0.0],PARAMETER[&amp;quot;False_Northing&amp;quot;,0.0],PARAMETER[&amp;quot;Central_Meridian&amp;quot;,0.0],PARAMETER[&amp;quot;Standard_Parallel_1&amp;quot;,0.0],PARAMETER[&amp;quot;Auxiliary_Sphere_Type&amp;quot;,0.0],UNIT[&amp;quot;Meter&amp;quot;,1.0],AUTHORITY[&amp;quot;EPSG&amp;quot;,3857]]&lt;/WKT&gt;&lt;XOrigin&gt;-20037700&lt;/XOrigin&gt;&lt;YOrigin&gt;-30241100&lt;/YOrigin&gt;&lt;XYScale&gt;148923141.92838538&lt;/XYScale&gt;&lt;ZOrigin&gt;-100000&lt;/ZOrigin&gt;&lt;ZScale&gt;10000&lt;/ZScale&gt;&lt;MOrigin&gt;-100000&lt;/MOrigin&gt;&lt;MScale&gt;10000&lt;/MScale&gt;&lt;XYTolerance&gt;0.001&lt;/XYTolerance&gt;&lt;ZTolerance&gt;0.001&lt;/ZTolerance&gt;&lt;MTolerance&gt;0.001&lt;/MTolerance&gt;&lt;HighPrecision&gt;true&lt;/HighPrecision&gt;&lt;WKID&gt;102100&lt;/WKID&gt;&lt;LatestWKID&gt;3857&lt;/LatestWKID&gt;&lt;/ProjectedCoordinateSystem&gt;</peXml>
</coordRef>
<RasterProperties>
<General>
<PixelDepth Sync="TRUE">32</PixelDepth>
<HasColormap Sync="TRUE">FALSE</HasColormap>
<CompressionType Sync="TRUE">None</CompressionType>
<NumBands Sync="TRUE">1</NumBands>
<Format Sync="TRUE">AMD</Format>
<HasPyramids Sync="TRUE">TRUE</HasPyramids>
<SourceType Sync="TRUE">continuous</SourceType>
<PixelType Sync="TRUE">floating point</PixelType>
<NoDataValue Sync="TRUE">
</NoDataValue>
</General>
<Properties>
<MaxImageHeight Sync="TRUE">100000</MaxImageHeight>
<MaxImageWidth Sync="TRUE">100000</MaxImageWidth>
<MaxRecordCount Sync="TRUE">1000</MaxRecordCount>
<MaxDownloadImageCount Sync="TRUE">20</MaxDownloadImageCount>
<MaxDownloadSizeLimit Sync="TRUE">2048</MaxDownloadSizeLimit>
<MaxMosaicImageCount Sync="TRUE">100</MaxMosaicImageCount>
<DefaultCompressionQuality Sync="TRUE">75</DefaultCompressionQuality>
<DefaultCompressionTolerance Sync="TRUE">0.01</DefaultCompressionTolerance>
<BlendWidth Sync="TRUE">10</BlendWidth>
<ViewpointSpacingX Sync="TRUE">600</ViewpointSpacingX>
<ViewpointSpacingY Sync="TRUE">300</ViewpointSpacingY>
<AllowedItemMetadata Sync="TRUE">Basic</AllowedItemMetadata>
<DefaultResamplingMethod Sync="TRUE">0</DefaultResamplingMethod>
<AllowedMosaicMethods Sync="TRUE">NorthWest,Center,LockRaster,ByAttribute,Nadir,Viewpoint,Seamline,None</AllowedMosaicMethods>
<AllowedCompressions Sync="TRUE">None,JPEG,LZ77,LERC</AllowedCompressions>
<AllowedMensurationCapabilities Sync="TRUE">None</AllowedMensurationCapabilities>
<AvailableMensurationCapabilities Sync="TRUE">None,Basic,Base-Top Height,Top-Top Shadow Height,Base-Top Shadow Height,3D</AvailableMensurationCapabilities>
<ClipToBoundary Sync="TRUE">-1</ClipToBoundary>
<FootprintMayContainNoData Sync="TRUE">-1</FootprintMayContainNoData>
<CellSizeTolerance Sync="TRUE">0.8</CellSizeTolerance>
<MinimumPixelContribution Sync="TRUE">1</MinimumPixelContribution>
<AvailableMosaicMethods Sync="TRUE">NorthWest,Center,LockRaster,ByAttribute,Nadir,Viewpoint,Seamline,None</AvailableMosaicMethods>
<AvailableCompressionMethods Sync="TRUE">None,JPEG,LZ77,LERC</AvailableCompressionMethods>
<AvailableItemMetadataLevels Sync="TRUE">None,Basic,Full</AvailableItemMetadataLevels>
<BandDefinitionKeyword Sync="TRUE">NONE</BandDefinitionKeyword>
<_docversion_ Sync="TRUE">10</_docversion_>
<AllowedFields Sync="TRUE">name,minps,maxps,lowps,highps,tag,groupname,productname,centerx,centery,zorder,variable,Dimensions,model_scenario</AllowedFields>
<MaxCellSize Sync="TRUE">200000</MaxCellSize>
<LowCellSize Sync="TRUE">20000</LowCellSize>
<HighCellSize Sync="TRUE">20000</HighCellSize>
<AvailableFields Sync="TRUE">name,minps,maxps,lowps,highps,tag,groupname,productname,centerx,centery,zorder,st_area(shape),st_perimeter(shape)</AvailableFields>
<SortableFields Sync="TRUE">minps,maxps,lowps,highps,centerx,centery,zorder,st_area(shape),st_perimeter(shape)</SortableFields>
<SortAscending Sync="TRUE">-1</SortAscending>
<MosaicOperator Sync="TRUE">1</MosaicOperator>
<BlendWidthUnits Sync="TRUE">1</BlendWidthUnits>
<ClipToFootprint Sync="TRUE">0</ClipToFootprint>
<ClipOverviewsToFootprint Sync="TRUE">0</ClipOverviewsToFootprint>
<HasDodgingTable Sync="TRUE">0</HasDodgingTable>
<ApplyColorCorrection Sync="TRUE">0</ApplyColorCorrection>
<UseTime Sync="TRUE">0</UseTime>
<StartTimeFieldName Sync="TRUE">
</StartTimeFieldName>
<EndTimeFieldName Sync="TRUE">
</EndTimeFieldName>
<TimeValueFormat Sync="TRUE">
</TimeValueFormat>
<UseRange Sync="TRUE">0</UseRange>
<TimeInterval Sync="TRUE">
</TimeInterval>
<TimeIntervalUnits Sync="TRUE">
</TimeIntervalUnits>
</Properties>
<Functions Sync="TRUE">
<Function Description="Performs on-the-fly mosaic on a raster catalog." Name="Mosaic Function">
</Function>
</Functions>
</RasterProperties>
</DataProperties>
<SyncDate>20260902</SyncDate>
<SyncTime>13392700</SyncTime>
<ModDate>20260903</ModDate>
<ModTime>11155300</ModTime>
<ArcGISProfile>ISO19115_3</ArcGISProfile>
<scaleRange>
<minScale>50000000</minScale>
<maxScale>5000</maxScale>
</scaleRange>
</Esri>
<dataIdInfo>
<envirDesc Sync="FALSE">Esri ArcGIS 13.6.0.59527</envirDesc>
<dataLang>
<languageCode Sync="TRUE" value="eng">
</languageCode>
<countryCode Sync="TRUE" value="USA">
</countryCode>
</dataLang>
<idCitation>
<resTitle Sync="FALSE">USFS_ForestPestDistributions_NorthAmerica</resTitle>
<presForm>
<PresFormCd Sync="TRUE" value="005">
</PresFormCd>
</presForm>
<otherCitDet>Citation_Information:
Originator: Clipp, Hannah L.
Originator: Prasad, Anantha M.
Originator: Peters, Matthew P.
Originator: Matthews, Stephen N.
Originator: Gougherty, Andrew V.
Publication_Date: 2026
Title:
Tree pests rarely fill the geographical ranges of their host species, but host range filling may increase with future climate change
Geospatial_Data_Presentation_Form: journal article
Series_Information:
Series_Name: Global Ecology and Biogeography
Other_Citation_Details:
[In press]</otherCitDet>
</idCitation>
<spatRpType>
<SpatRepTypCd Sync="TRUE" value="002">
</SpatRepTypCd>
</spatRpType>
<dataExt>
<geoEle>
<GeoBndBox esriExtentType="search">
<exTypeCode Sync="TRUE">1</exTypeCode>
<westBL Sync="FALSE">-165.6</westBL>
<eastBL Sync="FALSE">-69.2</eastBL>
<northBL Sync="FALSE">54.4</northBL>
<southBL Sync="FALSE">9.9</southBL>
</GeoBndBox>
</geoEle>
</dataExt>
<idPurp>Phytophagous insects, pathogens, and parasitic plants (collectively referred to as tree pests) are important components of forest ecosystems. Understanding their current distributions, as well as where they could potentially occur in the future, is vital for assessing tree species vulnerability to pest damage. Our data will aid landowners and natural resource managers in planning for the future.</idPurp>
<idAbs>&lt;div style='text-align:Left;'&gt;&lt;div&gt;&lt;div&gt;&lt;p&gt;&lt;span&gt;Habitat suitability models were created for 85 pest species that negatively impact tree species across the USA and Canada. Each model was produced as an ensemble of species distribution models that associated the occurrence of pest species with climate factors, topographical characteristics, host tree abundance, and, for non-native pest species, a dispersal metric capturing their spatiotemporal spread from their origin site in North America. Pest species occurrences from 1991-2025 were gathered from multiple online sources, including the USDA Forest Service, Forest Inventory and Analysis program; USDA Forest Service Forest, Insect and Disease Survey database; Global Biodiversity Information Facility; Canadian Forest Service Forest Invasive Alien Species; and numerous regional surveys. This data publication includes raster and image files of current projected distributions (1991-2020) of 85 pest species, as well as projected distributions that incorporate future climate scenarios (2070-2100) corresponding to high and low greenhouse gas emissions and future tree distribution scenarios in which trees do or do not migrate in response to future climate change. Each map is presented as both a probability surface (ranging from 0 to 1000) and a binary classification (0 and 1).&lt;/span&gt;&lt;/p&gt;&lt;/div&gt;&lt;/div&gt;&lt;/div&gt;</idAbs>
<themeKeys>
<keyword>National Research &amp; Development Taxonomy; climate change; climate change effects; ecology; ecosystems; environment; forest &amp; plant health; insects; pest management; plant diseases; natural resource management &amp; use; forest management;</keyword>
</themeKeys>
<placeKeys>
<keyword>North America; Canada; Mexico; United States;</keyword>
</placeKeys>
<resConst>
<Consts>
<useLimit>&lt;div style='text-align:Left;'&gt;&lt;div&gt;&lt;div&gt;&lt;p&gt;&lt;span&gt;These data were collected using funding from the U.S. Government and can be used without additional permissions or fees. If you use these data in a publication, presentation, or other research product please use the following citation:&lt;/span&gt;&lt;/p&gt;&lt;p&gt;&lt;span&gt;Clipp, Hannah L.; Prasad, Anantha M.; Peters, Matthew P.; Matthews, Stephen N.; Gougherty, Andrew V. 2026. Current and potential future distributions of 85 pest species affecting trees in North America. Fort Collins, CO: Forest Service Research Data Archive. https://doi.org/10.2737/RDS-2026-0035&lt;/span&gt;&lt;/p&gt;&lt;p&gt;&lt;span&gt;USDA Use Limitations:&lt;/span&gt;&lt;/p&gt;&lt;p&gt;&lt;span&gt;The USDA Forest Service makes no warranty, expressed or implied, including the warranties of merchantability and fitness for a particular purpose, nor assumes any legal liability or responsibility for the accuracy, reliability, completeness or utility of these geospatial data, or for the improper or incorrect use of these geospatial data. These geospatial data and related maps or graphics are not legal documents and are not intended to be used as such. The data and maps may not be used to determine title, ownership, legal descriptions or boundaries, legal jurisdiction, or restrictions that may be in place on either public or private land. Natural hazards may or may not be depicted on the data and maps, and users should exercise due caution. The data are dynamic and may change over time. The user is responsible to verify the limitations of the geospatial data and to use the data accordingly.&lt;/span&gt;&lt;/p&gt;&lt;p&gt;&lt;span&gt;Additionally, The U.S. Forest Service waives copyright and related rights in the work worldwide through the CC0 (which can be found at https://creativecommons.org/public-domain/cc0/).&lt;/span&gt;&lt;/p&gt;&lt;p&gt;&lt;span&gt;Non-Discrimination Statement:&lt;/span&gt;&lt;/p&gt;&lt;p&gt;&lt;span&gt;In accordance with Federal civil rights law and U.S. Department of Agriculture (USDA) civil rights regulations and policies, the USDA, its Agencies, offices, and employees, and institutions participating in or administering USDA programs are prohibited from discriminating based on race, color, national origin, religion, sex, disability, age, marital status, family/parental status, income derived from a public assistance program, political beliefs, or reprisal or retaliation for prior civil rights activity, in any program or activity conducted or funded by USDA (not all bases apply to all programs). Remedies and complaint filing deadlines vary by program or incident.&lt;/span&gt;&lt;/p&gt;&lt;p&gt;&lt;span&gt;Persons with disabilities who require alternative means of communication for program information (e.g., Braille, large print, audiotape, American Sign Language, etc.) should contact the State or local Agency that administers the program or contact USDA through the Telecommunications Relay Service at 711 (voice and TTY). Additionally, program information may be made available in languages other than English.&lt;/span&gt;&lt;/p&gt;&lt;p&gt;&lt;span&gt;To file a program discrimination complaint, complete the USDA Program Discrimination Complaint Form, AD-3027, found online at How to File a Program Discrimination Complaint and at any USDA office or write a letter addressed to USDA and provide in the letter all of the information requested in the form. To request a copy of the complaint form, call (866) 632-9992. Submit your completed form or letter to USDA by: (1) mail: U.S. Department of Agriculture, Office of the Assistant Secretary for Civil Rights, 1400 Independence Avenue, SW, Mail Stop 9410, Washington, D.C. 20250-9410; (2) fax: (202) 690-7442; or (3) email: program.intake@usda.gov.&lt;/span&gt;&lt;/p&gt;&lt;p&gt;&lt;span&gt;USDA is an equal opportunity provider, employer, and lender.&lt;/span&gt;&lt;/p&gt;&lt;/div&gt;&lt;/div&gt;&lt;/div&gt;</useLimit>
</Consts>
</resConst>
<dataChar>
<CharSetCd value="004">
</CharSetCd>
</dataChar>
<idCredit>This project was funded by the USDA Forest Service, Northern Research Station.
Author Information:
Hannah L. Clipp
USDA Forest Service, Northern Research Station (former ORISE postdoctoral researcher)
https://orcid.org/0000-0002-8555-7398
Anantha M. Prasad
USDA Forest Service, Northern Research Station (former employee)
https://orcid.org/0000-0002-4645-6260
Matthew P. Peters
USDA Forest Service, Northern Research Station
https://orcid.org/0000-0002-4793-0075
Stephen N. Matthews
USDA Forest Service, Northern Research Station
https://orcid.org/0000-0001-9175-7778
Andrew V. Gougherty
USDA Forest Service, Northern Research Station
https://orcid.org/0000-0002-3905-8539</idCredit>
<searchKeys>
<keyword>National Research &amp; Development Taxonomy</keyword>
<keyword>climate change</keyword>
<keyword>climate change effects</keyword>
<keyword>ecology</keyword>
<keyword>ecosystems</keyword>
<keyword>environment</keyword>
<keyword>forest &amp; plant health</keyword>
<keyword>insects</keyword>
<keyword>pest management</keyword>
<keyword>plant diseases</keyword>
<keyword>natural resource management &amp; use</keyword>
<keyword>forest management</keyword>
<keyword>North America</keyword>
<keyword>Canada</keyword>
<keyword>Mexico</keyword>
<keyword>United States</keyword>
</searchKeys>
<tpCat>
<TopicCatCd value="002">
</TopicCatCd>
</tpCat>
<tpCat>
<TopicCatCd value="004">
</TopicCatCd>
</tpCat>
</dataIdInfo>
<mdLang>
<languageCode Sync="TRUE" value="eng">
</languageCode>
<countryCode Sync="TRUE" value="USA">
</countryCode>
</mdLang>
<refSysInfo>
<RefSystem dimension="">
<refSysID>
<identCode Sync="TRUE" code="3857">
</identCode>
<idCodeSpace Sync="TRUE">EPSG</idCodeSpace>
<idVersion Sync="TRUE">6.18.3(9.3.1.2)</idVersion>
</refSysID>
</RefSystem>
</refSysInfo>
<spatRepInfo>
<Georect>
<cellGeo>
<CellGeoCd Sync="TRUE" value="002">
</CellGeoCd>
</cellGeo>
<numDims Sync="TRUE">2</numDims>
<tranParaAv Sync="TRUE">1</tranParaAv>
<chkPtAv Sync="TRUE">0</chkPtAv>
<cornerPts>
<pos Sync="TRUE">-20037507.067200 300971.458400</pos>
</cornerPts>
<cornerPts>
<pos Sync="TRUE">-20037507.067200 30240971.458386</pos>
</cornerPts>
<cornerPts>
<pos Sync="TRUE">20037507.842788 30240971.458386</pos>
</cornerPts>
<cornerPts>
<pos Sync="TRUE">20037507.842788 300971.458400</pos>
</cornerPts>
<centerPt>
<pos Sync="TRUE">0.387794 15270971.458393</pos>
</centerPt>
<axisDimension type="002">
<dimSize Sync="TRUE">2004</dimSize>
<dimResol>
<value Sync="TRUE" uom="m">19997.512430</value>
</dimResol>
</axisDimension>
<axisDimension type="001">
<dimSize Sync="TRUE">1497</dimSize>
<dimResol>
<value Sync="TRUE" uom="m">20000.000000</value>
</dimResol>
</axisDimension>
<ptInPixel>
<PixOrientCd Sync="TRUE" value="001">
</PixOrientCd>
</ptInPixel>
</Georect>
</spatRepInfo>
<contInfo>
<ImgDesc>
<contentTyp>
<ContentTypCd Sync="TRUE" value="001">
</ContentTypCd>
</contentTyp>
<covDim>
<Band>
<dimDescrp Sync="TRUE">Band_1</dimDescrp>
<maxVal Sync="TRUE">84.000000</maxVal>
<minVal Sync="TRUE">1.000000</minVal>
<bitsPerVal Sync="TRUE">32</bitsPerVal>
<valUnit>
<UOM gmlID="" type="length">
</UOM>
</valUnit>
</Band>
</covDim>
<trianInd>False</trianInd>
<radCalDatAv>False</radCalDatAv>
<camCalInAv>False</camCalInAv>
<filmDistInAv>False</filmDistInAv>
<lensDistInAv>False</lensDistInAv>
</ImgDesc>
</contInfo>
<mdDateSt Sync="TRUE">20260903</mdDateSt>
<mdHrLv>
<ScopeCd value="005">
</ScopeCd>
</mdHrLv>
<dqInfo>
<dqScope>
<scpLvl>
<ScopeCd value="001">
</ScopeCd>
</scpLvl>
</dqScope>
<report dimension="" type="DQNonQuanAttAcc">
<evalMethDesc>Attribute_Accuracy_Report:
The methods of statistically downscaling climate values obtained from general circulation models (GCMs), converting from their native coarse resolution to finer spatial resolutions that are more relevant to managers, and evaluating broad regional trends are well documented. The downscaled data used to calculate climatic indices were generated following methods widely accepted by the scientific community. Since climate projections carry an inherent degree of error and uncertainty, 30-year averages of monthly values were used to reduce the uncertainty of projections. Therefore, these data represent a potential range of change that might be expected under the scenarios of shared socioeconomic pathways during this century.
Please note: These data are a product of modeling, and as such, they carry an inherent degree of error and uncertainty. Users should read and fully comprehend the metadata and other available publications prior to using the data. These data represent potential habitat suitability but not necessarily pest damage, outbreaks, occur might exist.
Wang, Tongli; Hamann, Andreas; Spittlehouse, Dave; Carroll, Carlos. 2016. Locally downscaled and spatially customizable climate data for historical and future periods for North America. PLoS One. 11(6): e0156720. https://doi.org/10.1371/journal.pone.0156720
Mahony, Colin R.; Wang, Tongli; Hamann, Andreas; Cannon, Alex J. 2022. A global climate model ensemble for downscaled monthly climate normals over North America. International Journal of Climatology. 1-21. https://doi.org/10.1002/joc.7566
Logical_Consistency_Report:
These data are logically consistent. The consistency was verified as part of the quality assurance that occurred during data analysis.
Completeness_Report:
To our knowledge, there are no missing data. However, data were not available for tree species if their model performance was considered too low (R² below 10 percent) and thus, for some pest species, the included set of host tree species may not have been fully complete but still deemed sufficient for model training purposes.</evalMethDesc>
</report>
<dataLineage>
<prcStep>
<stepDesc>Methodology_Description:
OVERVIEW
To map the distributions of 85 pests of tree species in North America, we first modeled pest species occurrences as a function of (up to) ten predictors, including climate, topography, host tree abundance, and spatiotemporal dispersal from introduction site(s) using an ensemble modeling approach that combined outputs from nine different model algorithms. We then used the ensemble model to forecast pest species distributions to future (end-of-century) climate conditions and explored multiple future scenarios, including high and low greenhouse gas emissions scenarios and whether or not tree species migrate in response to climate change.
FOCAL PEST SPECIES SELECTION
For this dataset, we sought to include a diversity of pests in our analyses, encompassing phytophagous insects, pathogens, and parasitic plants, as well as a combination of native and non-native species. We initially considered 462 pest species for which we gathered occurrence data from across North America and then applied various selection criteria to yield a subset of focal species. We prioritized pests that were well-documented as causing severe harm to one or more host trees native to North America (e.g., listed in Liebhold et al. 2013 or Potter et al. 2019) and for which the occurrence data were representative of the entire known geographical range in North America. Ultimately, we selected a total of 85 pest species, encompassing 63 insects, 13 pathogens, and 9 plant parasites. The insects comprised 6 feeding guilds: bark beetles (N = 10), defoliators (N = 35), gallmakers (N = 1), sap feeders (N = 9), weevils (N = 3), and wood borers (N = 5); the pathogens included cankers (N = 3), foliage and shoot diseases (N = 2), root diseases / decay (N = 6), and rusts (N = 2); and the parasitic plants consisted of both dwarf mistletoes (N = 5) and true mistletoes (N = 4). Of the 85 total species, 60 are considered native to North America, and 25 were introduced from another continent between 1835 and 2014. Most of the non-native species (N = 17) were first detected in North America during the 20th century, while 3 focal pest species were first detected after 2000. Distributions of the pest species within North America ranged from local endemic populations that were restricted to a single state or province to widespread, cosmopolitan populations that occurred in nearly every state and province.
PEST OCCURRENCE DATA
