{ "extent": { "ymin": 2562955.6543999985, "xmin": -14292440.3496, "ymax": 6887425.6543999985, "xmax": -7130120.3496000003, "spatialReference": { "latestWkid": 3857, "wkid": 102100 } }, "blockWidth": 2048, "mosaicOperator": "First", "serviceSourceType": "esriImageServiceSourceTypeMosaicDataset", "hasMultidimensions": true, "maxImageWidth": 100000, "maxRecordCount": 1000, "meanValues": [1], "hasColormap": false, "compressionType": "None", "defaultCompressionQuality": 75, "maxValues": [1], "hasHistograms": true, "datasetFormat": "AMD", "maxImageHeight": 100000, "sortField": "StdTime", "bandNames": ["Band_1"], "spatialReference": { "latestWkid": 3857, "wkid": 102100 }, "fullExtent": { "ymin": 2562955.6543999985, "xmin": -14292440.3496, "ymax": 6887425.6543999985, "xmax": -7130120.3496000003, "spatialReference": { "latestWkid": 3857, "wkid": 102100 } }, "bandCount": 1, "rasterFunctionInfos": [ { "help": "", "name": "Wildfire Hazard Potential HVH", "description": "Ind 07 Wildfire Hazard Potential HVH" }, { "help": "", "name": "None", "description": "Make a Raster or Raster Dataset into a Function Raster Dataset." }, { "help": "", "name": "HVH", "description": "A raster function template." } ], "supportsStatistics": true, "sortableFields": "minps,maxps,lowps,highps,centerx,centery,zorder,year,stdtime", "minValues": [1], "allowRasterFunction": true, "allowComputeTiePoints": false, "serviceDataType": "esriImageServiceDataTypeGeneric", "supportsAdvancedQueries": true, "maxDownloadSizeLimit": 2048, "currentVersion": 12, "sortValue": "0", "timeInfo": { "startTimeField": "StdTime", "endTimeField": "StdTime", "defaultTimeIntervalUnits": "esriTimeUnitsYears", "timeExtent": [ 1577836800000, 1704067200000 ], "timeReference": null, "defaultTimeInterval": 1 }, "objectIdField": "objectid", "blockHeight": 256, "initialExtent": { "ymin": 2562955.6543999985, "xmin": -14292440.3496, "ymax": 6887425.6543999985, "xmax": -7130120.3496000003, "spatialReference": { "latestWkid": 3857, "wkid": 102100 } }, "pixelSizeX": 30, "pixelSizeY": 30, "defaultMosaicMethod": "ByAttribute", "name": "Ecosystems/USFS_EDW_TCA_WildfireHazardPotential_HVH", "allowedMosaicMethods": "ByAttribute,NorthWest,Center,LockRaster,Nadir,Viewpoint,Seamline,None", "maxDownloadImageCount": 20, "fields": [ { "domain": null, "name": "objectid", "alias": "objectid", "type": "esriFieldTypeOID" }, { "domain": null, "name": "name", "length": 200, "alias": "name", "type": "esriFieldTypeString" }, { "domain": null, "name": "minps", "alias": "minps", "type": "esriFieldTypeDouble" }, { "domain": null, "name": "maxps", "alias": "maxps", "type": "esriFieldTypeDouble" }, { "domain": null, "name": "lowps", "alias": "lowps", "type": "esriFieldTypeDouble" }, { "domain": null, "name": "highps", "alias": "highps", "type": "esriFieldTypeDouble" }, { "domain": { "splitPolicy": "esriSPTDefaultValue", "name": "MosaicCatalogItemCategoryDomain", "description": "Catalog item categories.", "type": "codedValue", "codedValues": [ { "code": 0, "name": "Unknown" }, { "code": 1, "name": "Primary" }, { "code": 2, "name": "Overview" }, { "code": 3, "name": "Unprocessed Overview" }, { "code": 4, "name": "Partial Overview" }, { "code": 5, "name": "Inactive" }, { "code": 253, "name": "Uploaded" }, { "code": 254, "name": "Incomplete" }, { "code": 255, "name": "Custom" } ], "mergePolicy": "esriMPTDefaultValue" }, "name": "category", "alias": "category", "type": "esriFieldTypeInteger" }, { "domain": null, "name": "tag", "length": 100, "alias": "tag", "type": "esriFieldTypeString" }, { "domain": null, "name": "groupname", "length": 100, "alias": "groupname", "type": "esriFieldTypeString" }, { "domain": null, "name": "productname", "length": 100, "alias": "productname", "type": "esriFieldTypeString" }, { "domain": null, "name": "centerx", "alias": "centerx", "type": "esriFieldTypeDouble" }, { "domain": null, "name": "centery", "alias": "centery", "type": "esriFieldTypeDouble" }, { "domain": null, "name": "zorder", "alias": "zorder", "type": "esriFieldTypeInteger" }, { "domain": null, "name": "shape", "alias": "shape", "type": "esriFieldTypeGeometry" }, { "domain": null, "name": "year", "length": 8, "alias": "year", "type": "esriFieldTypeDate" } ], "defaultVariable": "", "allowAnalysis": true, "hasRasterAttributeTable": false, "useStandardizedQueries": true, "description": "", "pixelType": "U4", "meanPixelSize": 30, "exportTilesAllowed": false, "editFieldsInfo": null, "rasterTypeInfos": [{ "help": "", "name": "Raster Dataset", "description": "Supports all ArcGIS Raster Datasets" }], "defaultResamplingMethod": "Nearest", "itemAccess": false, "minScale": 0, "serviceProperties": "ByAttribute<\/MosaicMethod>First<\/MosaicOperator>false<\/SortAscending><\/LockImageID>StdTime<\/TileOrderField>0<\/TileOrderBase>600.000000<\/AvgImageSpacingX>300.000000<\/AvgImageSpacingY>0.0<\/ViewPointX>0.0<\/ViewPointY>0.0<\/ViewPointDefShiftX>0.0<\/ViewPointDefShiftY>None<\/CompressionMethod>75<\/CompressionQuality>0.010000<\/CompressionTolerance>Nearest<\/SamplingMethod><\/ImageServiceProperties><\/ImageServer>", "advancedQueryCapabilities": { "supportsStatistics": true, "supportsSqlExpression": true, "supportsOrderBy": true, "useStandardizedQueries": true, "supportsPagination": true, "supportsDistinct": true }, "serviceItemId": "3565df717a514cf18cdf454d763528e7", "capabilities": "Image,Metadata,Catalog,Mensuration", "maxScale": 0, "stdvValues": [0], "allowedFields": "name,minps,maxps,lowps,highps,tag,groupname,productname,centerx,centery,zorder,year", "minPixelSize": 0, "sortAscending": false, "maxMosaicImageCount": 20, "inspectionCapabilities": "", "maxPixelSize": 0, "uncompressedSize": 17207354428, "serviceDescription": "

Direct Download (Raster Data Gateway)

Objective: Identify areas where significant fuel buildup has occurred due to fire suppression, extensive mortality due to natural or anthropogenic causes, or for other reasons.

Data: The Wildland Hazard Potential (WHP) represents areas of significant fuel buildup. It is an index that quantifies the relative potential for wildfire that may be difficult to manage, and is used as a measure to help prioritize where fuel treatments may be needed. The WHP is a raster geospatial product produced by the USFS Fire Modeling Institute in the Fire, Fuel, and Smoke Program. Higher values have a higher probability of high-intensity fire, with torching, crowning, and other forms of extreme fire behavior. Data used to represent this metric are areas classified as \u201chigh\u201d or \u201cvery high\u201d risk. A mask for non-burnable areas is applied to focus on ecosystems with vegetation that can be modified through management to reduce hazard.

Data Format: Raster data are binary: (1) \u201chigh\u201d, or \u201cvery high\u201d risk or (0) other

Spatial Resolution: 30m (*data for 2023 assessment is 270m)

Source data: The WHP data are part of the Wildfire Risk to Communities suite of data along with several other data products. More information on the data used for the 2024 assessment can be found here. Links for data used in previous year TCA assessments: 2020-2022 , 2023. Three different versions of LANDFIRE data were used over the years: LF 2014 NGDA US_140_FRG (2020 and 2021), LF 2016 LC16_BPS_200 (2022 and 2023), and LF 2020 LC20_BPS_220 (2024)

Additional Resources:

Details on Method Changes and Source Data Versions

Overview of the Terrestrial Condition Assessment: TCA Hubsite or Landfire Office Hour Presentation

Explore the results of the most recent assessment: TCA Interactive Data Viewer

Learn more about the TCA KPI: Dashboard link when available ", "allowCopy": true, "copyrightText": "USFS, USDA, GO", "mensurationCapabilities": "Basic", "ownershipBasedAccessControlForRasters": null }