{ "extent": { "ymin": 3167658.6758999974, "xmin": -14140296.646400001, "ymax": 6690228.6758999974, "xmax": -7623396.6464000009, "spatialReference": { "latestWkid": 3857, "wkid": 102100 } }, "blockWidth": 2048, "mosaicOperator": "Max", "serviceSourceType": "esriImageServiceSourceTypeMosaicDataset", "hasMultidimensions": true, "maxImageWidth": 100000, "maxRecordCount": 1000, "meanValues": [52.13899047259936], "hasColormap": false, "compressionType": "None", "defaultCompressionQuality": 75, "maxValues": [100], "hasHistograms": true, "datasetFormat": "AMD", "maxImageHeight": 100000, "sortField": "StdTime", "bandNames": ["Band_1"], "spatialReference": { "latestWkid": 3857, "wkid": 102100 }, "fullExtent": { "ymin": 3167658.6758999974, "xmin": -14140296.646400001, "ymax": 6690228.6758999974, "xmax": -7623396.6464000009, "spatialReference": { "latestWkid": 3857, "wkid": 102100 } }, "bandCount": 1, "rasterFunctionInfos": [ { "help": "", "name": "None", "description": "Make a Raster or Raster Dataset into a Function Raster Dataset." }, { "help": "", "name": "Vegetation Departure", "description": "A raster function template." } ], "supportsStatistics": true, "sortableFields": "minps,maxps,lowps,highps,centerx,centery,zorder,Year,StdTime", "minValues": [0], "allowRasterFunction": true, "allowComputeTiePoints": false, "serviceDataType": "esriImageServiceDataTypeScientific", "supportsAdvancedQueries": true, "maxDownloadSizeLimit": 2048, "currentVersion": 12, "sortValue": "0", "timeInfo": { "startTimeField": "StdTime", "endTimeField": "StdTime", "defaultTimeIntervalUnits": "esriTimeUnitsDays", "timeExtent": [ 1640995200000, 1735689600000 ], "timeReference": null, "defaultTimeInterval": 366 }, "objectIdField": "objectid", "blockHeight": 256, "initialExtent": { "ymin": 3167658.6758999974, "xmin": -14140296.646400001, "ymax": 6690228.6758999974, "xmax": -7623396.6464000009, "spatialReference": { "latestWkid": 3857, "wkid": 102100 } }, "pixelSizeX": 30, "pixelSizeY": 30, "defaultMosaicMethod": "ByAttribute", "name": "Ecosystems/USFS_EDW_TCA_VegetationDeparture", "allowedMosaicMethods": "ByAttribute,NorthWest,Center,LockRaster,Nadir,Viewpoint,Seamline,None", "maxDownloadImageCount": 20, "fields": [ { "domain": null, "name": "objectid", "alias": "objectid", "type": "esriFieldTypeOID" }, { "domain": null, "name": "name", "length": 200, "alias": "name", "type": "esriFieldTypeString" }, { "domain": null, "name": "minps", "alias": "minps", "type": "esriFieldTypeDouble" }, { "domain": null, "name": "maxps", "alias": "maxps", "type": "esriFieldTypeDouble" }, { "domain": null, "name": "lowps", "alias": "lowps", "type": "esriFieldTypeDouble" }, { "domain": null, "name": "highps", "alias": "highps", "type": "esriFieldTypeDouble" }, { "domain": { "splitPolicy": "esriSPTDefaultValue", "name": "MosaicCatalogItemCategoryDomain", "description": "Catalog item categories.", "type": "codedValue", "codedValues": [ { "code": 0, "name": "Unknown" }, { "code": 1, "name": "Primary" }, { "code": 2, "name": "Overview" }, { "code": 3, "name": "Unprocessed Overview" }, { "code": 4, "name": "Partial Overview" }, { "code": 5, "name": "Inactive" }, { "code": 253, "name": "Uploaded" }, { "code": 254, "name": "Incomplete" }, { "code": 255, "name": "Custom" } ], "mergePolicy": "esriMPTDefaultValue" }, "name": "category", "alias": "category", "type": "esriFieldTypeInteger" }, { "domain": null, "name": "shape", "alias": "shape", "type": "esriFieldTypeGeometry" }, { "domain": null, "name": "condition", "length": 24, "alias": "condition", "type": "esriFieldTypeString" }, { "domain": null, "name": "year", "length": 8, "alias": "year", "type": "esriFieldTypeDate" }, { "domain": null, "name": "stdtime", "length": 8, "alias": "Standard Time", "type": "esriFieldTypeDate" }, { "domain": null, "name": "dimensions", "length": 50, "alias": "Dimensions", "type": "esriFieldTypeString" }, { "domain": null, "name": "variable", "length": 50, "alias": "Variable", "type": "esriFieldTypeString" } ], "defaultVariable": "", "allowAnalysis": true, "hasRasterAttributeTable": false, "useStandardizedQueries": true, "description": "", "pixelType": "U8", "meanPixelSize": 30, "exportTilesAllowed": false, "editFieldsInfo": null, "rasterTypeInfos": [{ "help": "", "name": "Raster Dataset", "description": "Supports all ArcGIS Raster Datasets" }], "defaultResamplingMethod": "Bilinear", "itemAccess": false, "minScale": 0, "serviceProperties": "ByAttribute<\/MosaicMethod>Max<\/MosaicOperator>false<\/SortAscending><\/LockImageID>StdTime<\/TileOrderField>0<\/TileOrderBase>600.000000<\/AvgImageSpacingX>300.000000<\/AvgImageSpacingY>0.0<\/ViewPointX>0.0<\/ViewPointY>0.0<\/ViewPointDefShiftX>0.0<\/ViewPointDefShiftY>None<\/CompressionMethod>75<\/CompressionQuality>0.010000<\/CompressionTolerance>Bilinear<\/SamplingMethod><\/ImageServiceProperties><\/ImageServer>", "advancedQueryCapabilities": { "supportsStatistics": true, "supportsSqlExpression": true, "supportsOrderBy": true, "useStandardizedQueries": true, "supportsPagination": true, "supportsDistinct": true }, "serviceItemId": "ac8e4ef8d99b4ea4b4e36de1ffca3576", "capabilities": "Image,Metadata,Catalog,Mensuration", "maxScale": 0, "stdvValues": [19.853363393673945], "allowedFields": "name,minps,maxps,lowps,highps,Condition,Year,StdTime,Dimensions,Variable", "minPixelSize": 0, "sortAscending": false, "maxMosaicImageCount": 20, "inspectionCapabilities": "", "maxPixelSize": 0, "uncompressedSize": 25506929370, "serviceDescription": "

Direct Download (Raster Data Gateway)<\/SPAN><\/SPAN><\/A> <\/SPAN><\/SPAN><\/P>
Objective:<\/SPAN><\/SPAN> Identify locations where vegetation composition and successional stage are departed from the natural range of variation.<\/SPAN><\/SPAN><\/P>
Data:<\/SPAN><\/SPAN> <\/SPAN><\/SPAN>Vegetation departure within a TCA landscape ecosystem describes the degree to which the observed proportion (percent, 0-100%) of successional classes (i.e., A through E) derived from Landfire Succession Classes (SClass) dataset, is departed from the proportions one would expect based on the reference condition contained in the Landfire Biophysical Settings (BpS) dataset at each cell location. Departure is calculated as: <\/SPAN><\/SPAN><\/P>
Departure = 100 \u2013 Similarity <\/SPAN><\/SPAN><\/P>
where Similarity = ∑ (min(Ai,Bi)) over all classes i,\u2026n<\/SPAN><\/SPAN><\/P>
Departure is determined for each BPS within an LTA, and then weighted average for departure is calculated for the LTA based on the areal extent of the BPS. After being added to the assessment in 2022, the update timeline of the input source data from LANDFIRE did not align with the timing of TCA assessment in 2023, so data from 2022 was reused. The 2024 and 2025 TCA Assessments used updated source data to create new vegetation departure indicator data.<\/SPAN><\/SPAN><\/P>
Units: <\/SPAN><\/SPAN>Percent<\/SPAN><\/SPAN><\/P>
Format:<\/SPAN><\/SPAN> Raster data are continuous<\/SPAN><\/SPAN><\/P>
Resolution:<\/SPAN><\/SPAN> 30m<\/SPAN><\/SPAN><\/P>
Source: <\/SPAN><\/SPAN>Landfire <\/SPAN><\/SPAN>Succession Class<\/SPAN><\/SPAN><\/A> and <\/SPAN><\/SPAN>Biophysical Setting<\/SPAN><\/SPAN><\/A>, methods from <\/SPAN><\/SPAN>Swaty et al. 2022<\/SPAN><\/SPAN><\/A><\/P>
Additional Resources:<\/SPAN><\/SPAN><\/P>
Details on <\/SPAN><\/SPAN>Method Changes and Source Data Versions<\/SPAN><\/SPAN><\/A><\/P>
Overview of the Terrestrial Condition Assessment: <\/SPAN><\/SPAN>TCA Hubsite<\/SPAN><\/SPAN><\/A> or <\/SPAN><\/SPAN>Landfire Office Hour Presentation<\/SPAN><\/SPAN><\/A><\/P>
Explore the results of the most recent assessment: <\/SPAN><\/SPAN>TCA Interactive Data Viewer<\/SPAN><\/SPAN><\/A><\/P>
Learn more about the TCA KPI: <\/SPAN>TCA Dashboard<\/SPAN><\/A><\/P>
*if you have trouble viewing the Dashboard, please submit a <\/SPAN>Tableau Viewer Access Request<\/SPAN><\/A><\/P><\/DIV><\/DIV><\/DIV>", "allowCopy": true, "copyrightText": "Methods from Swaty, R.; Blankenship, K.; Hall, K.R.; Smith, J.; Dettenmaier, M.; Hagen, S. Assessing Ecosystem Condition: Use and Customization of the Vegetation Departure Metric. Land 2022, 11,28 https://www.mdpi.com/2073-445X/11/1/28; Data from http://www.landfire.gov (S-class and BPS settings, accessed Feb. 6, 2024)", "mensurationCapabilities": "Basic", "ownershipBasedAccessControlForRasters": null }