{ "extent": { "ymin": 2597527.0612000003, "xmin": -14265250.9552, "ymax": 6756487.0612000003, "xmax": -7245490.9551999997, "spatialReference": { "latestWkid": 3857, "wkid": 102100 } }, "blockWidth": 2048, "mosaicOperator": "First", "serviceSourceType": "esriImageServiceSourceTypeMosaicDataset", "hasMultidimensions": true, "maxImageWidth": 100000, "maxRecordCount": 1000, "meanValues": [1], "hasColormap": false, "compressionType": "None", "defaultCompressionQuality": 75, "maxValues": [1], "hasHistograms": true, "datasetFormat": "AMD", "maxImageHeight": 100000, "sortField": "StdTime", "bandNames": ["Band_1"], "spatialReference": { "latestWkid": 3857, "wkid": 102100 }, "fullExtent": { "ymin": 2597527.0612000003, "xmin": -14265250.9552, "ymax": 6756487.0612000003, "xmax": -7245490.9551999997, "spatialReference": { "latestWkid": 3857, "wkid": 102100 } }, "bandCount": 1, "rasterFunctionInfos": [ { "help": "", "name": "Mortality 6-10 years", "description": "Mortality 6-10 years" }, { "help": "", "name": "None", "description": "Make a Raster or Raster Dataset into a Function Raster Dataset." }, { "help": "", "name": "6-10 years", "description": "A raster function template." } ], "supportsStatistics": true, "sortableFields": "minps,maxps,lowps,highps,centerx,centery,zorder,year,stdtime", "minValues": [1], "allowRasterFunction": true, "allowComputeTiePoints": false, "serviceDataType": "esriImageServiceDataTypeGeneric", "supportsAdvancedQueries": true, "maxDownloadSizeLimit": 2048, "currentVersion": 12, "sortValue": "0", "timeInfo": { "startTimeField": "StdTime", "endTimeField": "StdTime", "defaultTimeIntervalUnits": "esriTimeUnitsYears", "timeExtent": [ 1577836800000, 1735689600000 ], "timeReference": null, "defaultTimeInterval": 1 }, "objectIdField": "objectid", "blockHeight": 256, "initialExtent": { "ymin": 2597527.0612000003, "xmin": -14265250.9552, "ymax": 6756487.0612000003, "xmax": -7245490.9551999997, "spatialReference": { "latestWkid": 3857, "wkid": 102100 } }, "pixelSizeX": 240, "pixelSizeY": 240, "defaultMosaicMethod": "ByAttribute", "name": "Ecosystems/USFS_EDW_TCA_TreeMortality_6_10", "allowedMosaicMethods": "ByAttribute,NorthWest,Center,LockRaster,Nadir,Viewpoint,Seamline,None", "maxDownloadImageCount": 20, "fields": [ { "domain": null, "name": "objectid", "alias": "objectid", "type": "esriFieldTypeOID" }, { "domain": null, "name": "name", "length": 200, "alias": "name", "type": "esriFieldTypeString" }, { "domain": null, "name": "minps", "alias": "minps", "type": "esriFieldTypeDouble" }, { "domain": null, "name": "maxps", "alias": "maxps", "type": "esriFieldTypeDouble" }, { "domain": null, "name": "lowps", "alias": "lowps", "type": "esriFieldTypeDouble" }, { "domain": null, "name": "highps", "alias": "highps", "type": "esriFieldTypeDouble" }, { "domain": { "splitPolicy": "esriSPTDefaultValue", "name": "MosaicCatalogItemCategoryDomain", "description": "Catalog item categories.", "type": "codedValue", "codedValues": [ { "code": 0, "name": "Unknown" }, { "code": 1, "name": "Primary" }, { "code": 2, "name": "Overview" }, { "code": 3, "name": "Unprocessed Overview" }, { "code": 4, "name": "Partial Overview" }, { "code": 5, "name": "Inactive" }, { "code": 253, "name": "Uploaded" }, { "code": 254, "name": "Incomplete" }, { "code": 255, "name": "Custom" } ], "mergePolicy": "esriMPTDefaultValue" }, "name": "category", "alias": "category", "type": "esriFieldTypeInteger" }, { "domain": null, "name": "zorder", "alias": "zorder", "type": "esriFieldTypeInteger" }, { "domain": null, "name": "shape", "alias": "shape", "type": "esriFieldTypeGeometry" }, { "domain": null, "name": "year", "length": 8, "alias": "year", "type": "esriFieldTypeDate" }, { "domain": null, "name": "recency", "length": 12, "alias": "recency", "type": "esriFieldTypeString" }, { "domain": null, "name": "stdtime", "length": 8, "alias": "Standard Time", "type": "esriFieldTypeDate" }, { "domain": null, "name": "dimensions", "length": 50, "alias": "Dimensions", "type": "esriFieldTypeString" }, { "domain": null, "name": "variable", "length": 50, "alias": "Variable", "type": "esriFieldTypeString" } ], "defaultVariable": "", "allowAnalysis": true, "hasRasterAttributeTable": false, "useStandardizedQueries": true, "description": "", "pixelType": "U4", "meanPixelSize": 240, "exportTilesAllowed": false, "editFieldsInfo": null, "rasterTypeInfos": [{ "help": "", "name": "Raster Dataset", "description": "Supports all ArcGIS Raster Datasets" }], "defaultResamplingMethod": "Nearest", "itemAccess": false, "minScale": 0, "serviceProperties": "ByAttribute<\/MosaicMethod>First<\/MosaicOperator>false<\/SortAscending><\/LockImageID>StdTime<\/TileOrderField>0<\/TileOrderBase>600.000000<\/AvgImageSpacingX>300.000000<\/AvgImageSpacingY>0.0<\/ViewPointX>0.0<\/ViewPointY>0.0<\/ViewPointDefShiftX>0.0<\/ViewPointDefShiftY>None<\/CompressionMethod>75<\/CompressionQuality>0.010000<\/CompressionTolerance>Nearest<\/SamplingMethod><\/ImageServiceProperties><\/ImageServer>", "advancedQueryCapabilities": { "supportsStatistics": true, "supportsSqlExpression": true, "supportsOrderBy": true, "useStandardizedQueries": true, "supportsPagination": true, "supportsDistinct": true }, "serviceItemId": "0f8aa5d0d6644a36950d905f957d631f", "capabilities": "Image,Metadata,Catalog,Mensuration", "maxScale": 0, "stdvValues": [0], "allowedFields": "name,minps,maxps,lowps,highps,zorder,year,recency,stdtime,dimensions,variable", "minPixelSize": 0, "sortAscending": false, "maxMosaicImageCount": 20, "inspectionCapabilities": "", "maxPixelSize": 0, "uncompressedSize": 253427961, "serviceDescription": "

Direct Download (Raster Data Gateway)<\/SPAN><\/SPAN><\/A><\/P>
Objective:<\/SPAN><\/SPAN> Characterize recent impacts to terrestrial ecosystems due to outbreaks of major invasive, non-native, and native forest insects and pathogens.<\/SPAN><\/SPAN><\/P>
Data:<\/SPAN><\/SPAN> Data are derived from aerial detection surveys for tree defoliation and mortality from the USFS Forest Health Assessment and Applied Sciences Team (FHAAST) National Forest Pest Conditions Database. Polygons are created by aerial sketch mapping, and coded for defoliation and mortality, in addition to other damage codes. Defoliation and mortality layers were created from the polygon data and the attribute codes. The layers were merged to compensate for difficulties in identifying defoliation separately from mortality in hardwoods vs. conifer forests. Areas that were defoliated during three of the five years in each time period have significant impacts and likely are experiencing mortality, so these polygons were added to the mortality layer. The layer includes areas with mortality classed as \u201cvery light\u201d. There is a one-year lag between the most recent available source data and the TCA Assessment year. For instance, the 2024 TCA Assessment used the data for the years 2014-2028 to calculate the 6-10 year mortality metric, with all other assessment years following this same pattern.<\/SPAN><\/SPAN><\/P>
Data Format:<\/SPAN><\/SPAN> Raster data are binary: (1) presence or (0) absence. <\/SPAN><\/SPAN><\/P>
Spatial Resolution:<\/SPAN><\/SPAN> 240m. <\/SPAN><\/SPAN><\/P>
Source data:<\/SPAN><\/SPAN> <\/SPAN><\/SPAN>USFS FHAAST custom product<\/SPAN><\/SPAN><\/A><\/P>
Additional Resources:<\/SPAN><\/SPAN><\/P>
Details on <\/SPAN><\/SPAN>Method Changes and Source Data Versions<\/SPAN><\/SPAN><\/A><\/P>
Overview of the Terrestrial Condition Assessment: <\/SPAN><\/SPAN>TCA Hubsite<\/SPAN><\/SPAN><\/A> or <\/SPAN><\/SPAN>Landfire Office Hour Presentation<\/SPAN><\/SPAN><\/A><\/P>
Explore the results of the most recent assessment: <\/SPAN><\/SPAN>TCA Interactive Data Viewer<\/SPAN><\/SPAN><\/A><\/P>
Learn more about the TCA KPI: Dashboard link when available<\/SPAN><\/SPAN><\/P><\/DIV><\/DIV><\/DIV>", "allowCopy": true, "copyrightText": "USDA - GEO; USDA - USFS \u2013 GO - FHAAST", "mensurationCapabilities": "Basic", "ownershipBasedAccessControlForRasters": null }