<?xml version="1.0" encoding="UTF-8" standalone="no"?>
<metadata xml:lang="en">
<Esri>
<CreaDate>20250602</CreaDate>
<CreaTime>10414600</CreaTime>
<ArcGISFormat>1.0</ArcGISFormat>
<SyncOnce>FALSE</SyncOnce>
<ArcGISProfile>FGDC</ArcGISProfile>
<scaleRange>
<minScale>150000000</minScale>
<maxScale>5000</maxScale>
</scaleRange>
<DataProperties>
<itemProps>
<itemName Sync="FALSE">USFS_EDW_TCA_TreeMortality_0_5</itemName>
<nativeExtBox>
<westBL Sync="TRUE">-14265250.955200</westBL>
<eastBL Sync="TRUE">-7245490.955200</eastBL>
<southBL Sync="TRUE">2597527.061200</southBL>
<northBL Sync="TRUE">6756487.061200</northBL>
<exTypeCode Sync="TRUE">1</exTypeCode>
</nativeExtBox>
<imsContentType export="False">
</imsContentType>
</itemProps>
<coordRef>
<type Sync="TRUE">Projected</type>
<geogcsn Sync="TRUE">GCS_WGS_1984</geogcsn>
<csUnits Sync="TRUE">Linear Unit: Meter (1.000000)</csUnits>
<projcsn Sync="TRUE">WGS_1984_Web_Mercator_Auxiliary_Sphere</projcsn>
<peXml Sync="TRUE">&lt;ProjectedCoordinateSystem xsi:type='typens:ProjectedCoordinateSystem' xmlns:xsi='http://www.w3.org/2001/XMLSchema-instance' xmlns:xs='http://www.w3.org/2001/XMLSchema' xmlns:typens='http://www.esri.com/schemas/ArcGIS/3.5.0'&gt;&lt;WKT&gt;PROJCS[&amp;quot;WGS_1984_Web_Mercator_Auxiliary_Sphere&amp;quot;,GEOGCS[&amp;quot;GCS_WGS_1984&amp;quot;,DATUM[&amp;quot;D_WGS_1984&amp;quot;,SPHEROID[&amp;quot;WGS_1984&amp;quot;,6378137.0,298.257223563]],PRIMEM[&amp;quot;Greenwich&amp;quot;,0.0],UNIT[&amp;quot;Degree&amp;quot;,0.0174532925199433]],PROJECTION[&amp;quot;Mercator_Auxiliary_Sphere&amp;quot;],PARAMETER[&amp;quot;False_Easting&amp;quot;,0.0],PARAMETER[&amp;quot;False_Northing&amp;quot;,0.0],PARAMETER[&amp;quot;Central_Meridian&amp;quot;,0.0],PARAMETER[&amp;quot;Standard_Parallel_1&amp;quot;,0.0],PARAMETER[&amp;quot;Auxiliary_Sphere_Type&amp;quot;,0.0],UNIT[&amp;quot;Meter&amp;quot;,1.0],AUTHORITY[&amp;quot;EPSG&amp;quot;,3857]]&lt;/WKT&gt;&lt;XOrigin&gt;-20037700&lt;/XOrigin&gt;&lt;YOrigin&gt;-30241100&lt;/YOrigin&gt;&lt;XYScale&gt;148923141.92838538&lt;/XYScale&gt;&lt;ZOrigin&gt;-100000&lt;/ZOrigin&gt;&lt;ZScale&gt;10000&lt;/ZScale&gt;&lt;MOrigin&gt;-100000&lt;/MOrigin&gt;&lt;MScale&gt;10000&lt;/MScale&gt;&lt;XYTolerance&gt;0.001&lt;/XYTolerance&gt;&lt;ZTolerance&gt;0.001&lt;/ZTolerance&gt;&lt;MTolerance&gt;0.001&lt;/MTolerance&gt;&lt;HighPrecision&gt;true&lt;/HighPrecision&gt;&lt;WKID&gt;102100&lt;/WKID&gt;&lt;LatestWKID&gt;3857&lt;/LatestWKID&gt;&lt;/ProjectedCoordinateSystem&gt;</peXml>
</coordRef>
<RasterProperties>
<General>
<PixelDepth Sync="TRUE">4</PixelDepth>
<HasColormap Sync="TRUE">FALSE</HasColormap>
<CompressionType Sync="TRUE">None</CompressionType>
<NumBands Sync="TRUE">1</NumBands>
<Format Sync="TRUE">AMD</Format>
<HasPyramids Sync="TRUE">TRUE</HasPyramids>
<SourceType Sync="TRUE">continuous</SourceType>
<PixelType Sync="TRUE">unsigned integer</PixelType>
<NoDataValue Sync="TRUE">
</NoDataValue>
</General>
<Properties>
<MaxImageHeight Sync="TRUE">100000</MaxImageHeight>
<MaxImageWidth Sync="TRUE">100000</MaxImageWidth>
<MaxRecordCount Sync="TRUE">1000</MaxRecordCount>
<MaxDownloadImageCount Sync="TRUE">20</MaxDownloadImageCount>
<MaxDownloadSizeLimit Sync="TRUE">2048</MaxDownloadSizeLimit>
<MaxMosaicImageCount Sync="TRUE">20</MaxMosaicImageCount>
<DefaultCompressionQuality Sync="TRUE">75</DefaultCompressionQuality>
<DefaultCompressionTolerance Sync="TRUE">0.01</DefaultCompressionTolerance>
<BlendWidth Sync="TRUE">10</BlendWidth>
<ViewpointSpacingX Sync="TRUE">600</ViewpointSpacingX>
<ViewpointSpacingY Sync="TRUE">300</ViewpointSpacingY>
<AllowedItemMetadata Sync="TRUE">Basic</AllowedItemMetadata>
<DefaultResamplingMethod Sync="TRUE">0</DefaultResamplingMethod>
<AllowedMosaicMethods Sync="TRUE">ByAttribute,NorthWest,Center,LockRaster,Nadir,Viewpoint,Seamline,None</AllowedMosaicMethods>
<AllowedCompressions Sync="TRUE">None,JPEG,LZ77,LERC</AllowedCompressions>
<AllowedMensurationCapabilities Sync="TRUE">Basic</AllowedMensurationCapabilities>
<AvailableMensurationCapabilities Sync="TRUE">None,Basic,Base-Top Height,Top-Top Shadow Height,Base-Top Shadow Height,3D</AvailableMensurationCapabilities>
<ClipToBoundary Sync="TRUE">-1</ClipToBoundary>
<FootprintMayContainNoData Sync="TRUE">-1</FootprintMayContainNoData>
<CellSizeTolerance Sync="TRUE">0.8</CellSizeTolerance>
<MinimumPixelContribution Sync="TRUE">1</MinimumPixelContribution>
<AvailableMosaicMethods Sync="TRUE">NorthWest,Center,LockRaster,ByAttribute,Nadir,Viewpoint,Seamline,None</AvailableMosaicMethods>
<AvailableCompressionMethods Sync="TRUE">None,JPEG,LZ77,LERC</AvailableCompressionMethods>
<AvailableItemMetadataLevels Sync="TRUE">None,Basic,Full</AvailableItemMetadataLevels>
<BandDefinitionKeyword Sync="TRUE">NONE</BandDefinitionKeyword>
<_docversion_ Sync="TRUE">10</_docversion_>
<AllowedFields Sync="TRUE">name,minps,maxps,lowps,highps,tag,groupname,productname,centerx,centery,zorder,st_area(shape),st_perimeter(shape),Year,Recency,StdTime,Dimensions,Variable</AllowedFields>
<MaxCellSize Sync="TRUE">614400</MaxCellSize>
<LowCellSize Sync="TRUE">240</LowCellSize>
<HighCellSize Sync="TRUE">61440</HighCellSize>
<TimeIntervalUnits Sync="TRUE">Years</TimeIntervalUnits>
<SortAscending Sync="TRUE">0</SortAscending>
<SortField Sync="TRUE">StdTime</SortField>
<UseTime Sync="TRUE">-1</UseTime>
<StartTimeFieldName Sync="TRUE">StdTime</StartTimeFieldName>
<EndTimeFieldName Sync="TRUE">StdTime</EndTimeFieldName>
<TimeInterval Sync="TRUE">1</TimeInterval>
<AvailableFields Sync="TRUE">name,minps,maxps,lowps,highps,tag,groupname,productname,centerx,centery,zorder,year,recency,stdtime,dimensions,variable,st_area(shape),st_perimeter(shape)</AvailableFields>
<SortableFields Sync="TRUE">minps,maxps,lowps,highps,centerx,centery,zorder,st_area(shape),st_perimeter(shape),Year,StdTime</SortableFields>
<MosaicOperator Sync="TRUE">1</MosaicOperator>
<BlendWidthUnits Sync="TRUE">1</BlendWidthUnits>
<ClipToFootprint Sync="TRUE">0</ClipToFootprint>
<ClipOverviewsToFootprint Sync="TRUE">0</ClipOverviewsToFootprint>
<HasDodgingTable Sync="TRUE">0</HasDodgingTable>
<ApplyColorCorrection Sync="TRUE">0</ApplyColorCorrection>
<TimeValueFormat Sync="TRUE">
</TimeValueFormat>
<UseRange Sync="TRUE">0</UseRange>
</Properties>
<Functions Sync="TRUE">
<Function Description="Performs on-the-fly mosaic on a raster catalog." Name="Mosaic Function">
</Function>
</Functions>
</RasterProperties>
</DataProperties>
<SyncDate>20250702</SyncDate>
<SyncTime>13201200</SyncTime>
<ModDate>20260107</ModDate>
<ModTime>12124500</ModTime>
</Esri>
<mdLang>
<languageCode value="eng">
</languageCode>
<countryCode Sync="TRUE" value="USA">
</countryCode>
</mdLang>
<mdChar>
<CharSetCd value="004">
</CharSetCd>
</mdChar>
<mdHrLv>
<ScopeCd value="005">
</ScopeCd>
</mdHrLv>
<mdContact>
<rpIndName>Scott Cunningham</rpIndName>
<rpOrgName>Forest Service</rpOrgName>
<rpPosName>Analyst</rpPosName>
<role>
<RoleCd value="007">
</RoleCd>
</role>
</mdContact>
<mdDateSt Sync="TRUE">20260107</mdDateSt>
<dataIdInfo>
<idPurp>The Tree Mortality indicator shows where mortality has occurred, often attributed to outbreaks of insects and pathogens. For the TCA, the percent of each LTA with detected mortality is calculated. This dataset contains binary rasters showing presence of tree mortality in the past 6 years for all TCA Assessment years from 2020-present.</idPurp>
<idAbs>&lt;div style='text-align:Left;'&gt;&lt;div&gt;&lt;div&gt;&lt;p style='font-weight:bold;'&gt;&lt;a href='https://data.fs.usda.gov/geodata/rastergateway/TCA/TCA_Tree_Mortality_0_5yr.zip' style='text-decoration:underline;'&gt;&lt;span style='text-decoration:underline;'&gt;&lt;span&gt;Direct Download (Raster Data Gateway)&lt;/span&gt;&lt;/span&gt;&lt;/a&gt;&lt;span style='text-decoration:underline;'&gt;&lt;span&gt; &lt;/span&gt;&lt;/span&gt;&lt;/p&gt;&lt;p&gt;&lt;span style='font-weight:bold;'&gt;&lt;span&gt;Objective:&lt;/span&gt;&lt;/span&gt;&lt;span&gt;&lt;span&gt; Characterize recent impacts to terrestrial ecosystems due to outbreaks of major invasive, non-native, and native forest insects and pathogens.&lt;/span&gt;&lt;/span&gt;&lt;/p&gt;&lt;p&gt;&lt;span style='font-weight:bold;'&gt;&lt;span&gt;Data:&lt;/span&gt;&lt;/span&gt;&lt;span&gt;&lt;span&gt; Data are derived from aerial detection surveys for tree defoliation and mortality from the USFS Forest Health Assessment and Applied Sciences Team (FHAAST) National Forest Pest Conditions Database. Polygons are created by aerial sketch mapping, and coded for defoliation and mortality, in addition to other damage codes. Defoliation and mortality layers were created from the polygon data and the attribute codes. The layers were merged to compensate for difficulties in identifying defoliation separately from mortality in hardwoods vs. conifer forests. Areas that were defoliated during three of the five years in each time period have significant impacts and likely are experiencing mortality, so these polygons were added to the mortality layer. The layer includes areas with mortality classed as “very light”. There is a one-year lag between the source data and the TCA Assessment year. For instance, the 2024 TCA Assessment used data from 2019-2023 aerial detection surveys to calculate the 0-5 year mortality metric, with all other assessment years following this same pattern.&lt;/span&gt;&lt;/span&gt;&lt;/p&gt;&lt;p&gt;&lt;span style='font-weight:bold;'&gt;&lt;span&gt;Data Format:&lt;/span&gt;&lt;/span&gt;&lt;span&gt;&lt;span&gt; Raster data are binary: (1) presence or (0) absence. &lt;/span&gt;&lt;/span&gt;&lt;/p&gt;&lt;p&gt;&lt;span style='font-weight:bold;'&gt;&lt;span&gt;Spatial Resolution:&lt;/span&gt;&lt;/span&gt;&lt;span&gt;&lt;span&gt; 240m. &lt;/span&gt;&lt;/span&gt;&lt;/p&gt;&lt;p&gt;&lt;span style='font-weight:bold;'&gt;&lt;span&gt;Source data:&lt;/span&gt;&lt;/span&gt;&lt;span&gt;&lt;span&gt; &lt;/span&gt;&lt;/span&gt;&lt;a href='https://www.fs.usda.gov/foresthealth/publications/fhaast/index.shtml' style='text-decoration:underline;'&gt;&lt;span style='text-decoration:underline;'&gt;&lt;span&gt;USFS FHAAST custom product&lt;/span&gt;&lt;/span&gt;&lt;/a&gt;&lt;/p&gt;&lt;p style='font-weight:bold;'&gt;&lt;span&gt;&lt;span&gt;Additional Resources:&lt;/span&gt;&lt;/span&gt;&lt;/p&gt;&lt;p&gt;&lt;span&gt;&lt;span&gt;Details on &lt;/span&gt;&lt;/span&gt;&lt;a href='https://usfs.box.com/s/79vx1b42xg8u6ivjombxjes36nzfhgml' style='text-decoration:underline;'&gt;&lt;span style='text-decoration:underline;'&gt;&lt;span&gt;Method Changes and Source Data Versions&lt;/span&gt;&lt;/span&gt;&lt;/a&gt;&lt;/p&gt;&lt;p&gt;&lt;span&gt;&lt;span&gt;Overview of the Terrestrial Condition Assessment: &lt;/span&gt;&lt;/span&gt;&lt;a href='https://terrestrial-condition-assessment-usfs.hub.arcgis.com/' style='text-decoration:underline;'&gt;&lt;span style='text-decoration:underline;'&gt;&lt;span&gt;TCA Hubsite&lt;/span&gt;&lt;/span&gt;&lt;/a&gt;&lt;span&gt;&lt;span&gt; or &lt;/span&gt;&lt;/span&gt;&lt;a href='https://www.youtube.com/watch?v=Kf0P3cAq1rs&amp;amp;list=PLwRbAc4x5n94rLca1CXXuugtRDt_G666M&amp;amp;index=19' style='text-decoration:underline;'&gt;&lt;span style='text-decoration:underline;'&gt;&lt;span&gt;Landfire Office Hour Presentation&lt;/span&gt;&lt;/span&gt;&lt;/a&gt;&lt;/p&gt;&lt;p&gt;&lt;span&gt;&lt;span&gt;Explore the results of the most recent assessment: &lt;/span&gt;&lt;/span&gt;&lt;a href='https://apps.fs.usda.gov/gtac-toolsms/tca/' style='text-decoration:underline;'&gt;&lt;span style='text-decoration:underline;'&gt;&lt;span&gt;TCA Interactive Data Viewer&lt;/span&gt;&lt;/span&gt;&lt;/a&gt;&lt;/p&gt;&lt;p&gt;&lt;span&gt;&lt;span&gt;Learn more about the TCA KPI: Dashboard link when available&lt;/span&gt;&lt;/span&gt;&lt;/p&gt;&lt;/div&gt;&lt;/div&gt;&lt;/div&gt;</idAbs>
<idCitation>
<resTitle>USFS_EDW_TCA_TreeMortality_0_5</resTitle>
<presForm>
<PresFormCd Sync="TRUE" value="005">
</PresFormCd>
</presForm>
<date>
<pubDate>2026-01-07T00:00:00</pubDate>
</date>
</idCitation>
<dataLang>
<languageCode value="eng">
</languageCode>
<countryCode Sync="TRUE" value="USA">
</countryCode>
</dataLang>
<dataChar>
<CharSetCd value="004">
</CharSetCd>
</dataChar>
<dataExt>
<geoEle>
<GeoBndBox>
<westBL>-127.832869</westBL>
<eastBL>-65.660706</eastBL>
<southBL>23.515870</southBL>
<northBL>51.322430</northBL>
</GeoBndBox>
</geoEle>
</dataExt>
<idPoC>
<rpIndName>Sarah Anderson</rpIndName>
<rpOrgName>Forest Service</rpOrgName>
<rpPosName>Ecologist</rpPosName>
<role>
<RoleCd value="007">
</RoleCd>
</role>
</idPoC>
<envirDesc Sync="FALSE">Esri ArcGIS 13.5.2.57366</envirDesc>
<spatRpType>
<SpatRepTypCd Sync="TRUE" value="002">
</SpatRepTypCd>
</spatRpType>
<dataExt>
<geoEle>
<GeoBndBox esriExtentType="search">
<exTypeCode Sync="TRUE">1</exTypeCode>
<westBL Sync="TRUE">-128.146930</westBL>
<eastBL Sync="TRUE">-65.087353</eastBL>
<northBL Sync="TRUE">51.758003</northBL>
<southBL Sync="TRUE">22.714488</southBL>
</GeoBndBox>
</geoEle>
</dataExt>
<idCredit>USDA - GEO; USDA - USFS – GO - FHAAST</idCredit>
<searchKeys>
<keyword>TCA</keyword>
<keyword>Terrestrial Condition Assessment</keyword>
<keyword>Mortality</keyword>
<keyword>Trees</keyword>
<keyword>0-5 years</keyword>
<keyword>FHAAST</keyword>
<keyword>Insects</keyword>
<keyword>Pathogens</keyword>
<keyword>Geospatial Office</keyword>
<keyword>USFS</keyword>
</searchKeys>
<resConst>
<Consts>
<useLimit>&lt;div style='text-align:Left;'&gt;&lt;div&gt;&lt;div&gt;&lt;p&gt;&lt;span&gt;The USDA Forest Service makes no warranty, expressed or implied, including the warranties of merchantability and fitness for a particular purpose, nor assumes any legal liability or responsibility for the accuracy, reliability, completeness or utility of these geospatial data, or for the improper or incorrect use of these geospatial data. These geospatial data and related maps or graphics are not legal documents and are not intended to be used as such. The data and maps may not be used to determine title, ownership, legal descriptions or boundaries, legal jurisdiction, or restrictions that may be in place on either public or private land. Natural hazards may or may not be depicted on the data and maps, and users should exercise due caution. The data are dynamic and may change over time. The user is responsible to verify the limitations of the geospatial data and to use the data accordingly.&lt;/span&gt;&lt;/p&gt;&lt;p&gt;&lt;span style='font-size:12pt'&gt;Additionally, The U.S. Forest Service waives copyright and related rights in the work worldwide through the CC0 (which can be found at https://creativecommons.org/public-domain/cc0/).&lt;/span&gt;&lt;/p&gt;&lt;p&gt;&lt;span style='font-weight:bold;'&gt;Non-Discrimination Statement&lt;/span&gt;&lt;/p&gt;&lt;p&gt;&lt;span&gt;In accordance with Federal civil rights law and U.S. Department of Agriculture (USDA) civil rights regulations and policies, the USDA, its Agencies, offices, and employees, and institutions participating in or administering USDA programs are prohibited from discriminating based on race, color, national origin, religion, sex, disability, age, marital status, family/parental status, income derived from a public assistance program, political beliefs, or reprisal or retaliation for prior civil rights activity, in any program or activity conducted or funded by USDA (not all bases apply to all programs). Remedies and complaint filing deadlines vary by program or incident.&lt;/span&gt;&lt;/p&gt;&lt;p&gt;&lt;span&gt;Persons with disabilities who require alternative means of communication for program information (e.g., Braille, large print, audiotape, American Sign Language, etc.) should contact the State or local Agency that administers the program or contact USDA through the Telecommunications Relay Service at 711 (voice and TTY). Additionally, program information may be made available in languages other than English.&lt;/span&gt;&lt;/p&gt;&lt;p&gt;&lt;span&gt;To file a program discrimination complaint, complete the USDA Program Discrimination Complaint Form, AD-3027, found online at How to File a Program Discrimination Complaint and at any USDA office or write a letter addressed to USDA and provide in the letter all of the information requested in the form. To request a copy of the complaint form, call (866) 632-9992. Submit your completed form or letter to USDA by: (1) mail: U.S. Department of Agriculture, Office of the Assistant Secretary for Civil Rights, 1400 Independence Avenue, SW, Mail Stop 9410, Washington, D.C. 20250-9410; (2) fax: (202) 690-7442; or (3) email: program.intake@usda.gov.&lt;/span&gt;&lt;/p&gt;&lt;p&gt;&lt;span&gt;USDA is an equal opportunity provider, employer, and lender.&lt;/span&gt;&lt;/p&gt;&lt;/div&gt;&lt;/div&gt;&lt;/div&gt;</useLimit>
</Consts>
</resConst>
<tpCat>
<TopicCatCd value="007">
</TopicCatCd>
</tpCat>
</dataIdInfo>
<refSysInfo>
<RefSystem>
<refSysID>
<identCode Sync="TRUE" code="3857">
</identCode>
<idCodeSpace Sync="TRUE">EPSG</idCodeSpace>
<idVersion Sync="TRUE">6.18.3(9.3.1.2)</idVersion>
</refSysID>
</RefSystem>
</refSysInfo>
<spatRepInfo>
<Georect>
<cellGeo>
<CellGeoCd Sync="TRUE" value="002">
</CellGeoCd>
</cellGeo>
<numDims Sync="TRUE">2</numDims>
<tranParaAv Sync="TRUE">1</tranParaAv>
<chkPtAv Sync="TRUE">0</chkPtAv>
<cornerPts>
<pos Sync="TRUE">-14265250.955200 2597527.061200</pos>
</cornerPts>
<cornerPts>
<pos Sync="TRUE">-14265250.955200 6756487.061200</pos>
</cornerPts>
<cornerPts>
<pos Sync="TRUE">-7245490.955200 6756487.061200</pos>
</cornerPts>
<cornerPts>
<pos Sync="TRUE">-7245490.955200 2597527.061200</pos>
</cornerPts>
<centerPt>
<pos Sync="TRUE">-10755370.955200 4677007.061200</pos>
</centerPt>
<axisDimension type="002">
<dimSize Sync="TRUE">29249</dimSize>
<dimResol>
<value Sync="TRUE" uom="m">240.000000</value>
</dimResol>
</axisDimension>
<axisDimension type="001">
<dimSize Sync="TRUE">17329</dimSize>
<dimResol>
<value Sync="TRUE" uom="m">240.000000</value>
</dimResol>
</axisDimension>
<ptInPixel>
<PixOrientCd Sync="TRUE" value="001">
</PixOrientCd>
</ptInPixel>
</Georect>
</spatRepInfo>
<contInfo>
<ImgDesc>
<contentTyp>
<ContentTypCd Sync="TRUE" value="001">
</ContentTypCd>
</contentTyp>
<covDim>
<Band>
<dimDescrp Sync="TRUE">Band_1</dimDescrp>
<maxVal Sync="TRUE">1.000000</maxVal>
<minVal Sync="TRUE">1.000000</minVal>
<bitsPerVal Sync="TRUE">4</bitsPerVal>
<valUnit>
<UOM type="length">
</UOM>
</valUnit>
</Band>
</covDim>
</ImgDesc>
</contInfo>
<mdConst>
<LegConsts>
<accessConsts>
<RestrictCd value="008">
</RestrictCd>
</accessConsts>
<othConsts>The USDA Forest Service makes no warranty, expressed or implied, including the warranties of merchantability and fitness for a particular purpose, nor assumes any legal liability or responsibility for the accuracy, reliability, completeness or utility of these geospatial data, or for the improper or incorrect use of these geospatial data. These geospatial data and related maps or graphics are not legal documents and are not intended to be used as such. The data and maps may not be used to determine title, ownership, legal descriptions or boundaries, legal jurisdiction, or restrictions that may be in place on either public or private land. Natural hazards may or may not be depicted on the data and maps, and land users should exercise due caution. The data are dynamic and may change over time. The user is responsible to verify the limitations of the geospatial data and to use the data accordingly.</othConsts>
</LegConsts>
</mdConst>
</metadata>
