{ "extent": { "ymin": 1954411.4632000029, "xmin": -17948213.279600002, "ymax": 9842411.4632000029, "xmax": -6965213.2796000019, "spatialReference": { "latestWkid": 3857, "wkid": 102100 } }, "blockWidth": 2048, "mosaicOperator": "First", "serviceSourceType": "esriImageServiceSourceTypeMosaicDataset", "hasMultidimensions": true, "maxImageWidth": 100000, "maxRecordCount": 1000, "meanValues": [0.0037259455942679929], "hasColormap": false, "compressionType": "None", "defaultCompressionQuality": 75, "maxValues": [1.5878721475601196], "hasHistograms": true, "datasetFormat": "AMD", "maxImageHeight": 100000, "sortField": "StdTime", "bandNames": ["Band_1"], "spatialReference": { "latestWkid": 3857, "wkid": 102100 }, "fullExtent": { "ymin": 1954411.4632000029, "xmin": -17948213.279600002, "ymax": 9842411.4632000029, "xmax": -6965213.2796000019, "spatialReference": { "latestWkid": 3857, "wkid": 102100 } }, "bandCount": 1, "rasterFunctionInfos": [ { "help": "", "name": "None", "description": "Make a Raster or Raster Dataset into a Function Raster Dataset." }, { "help": "", "name": "Ozone acute exposure", "description": "A raster function template." } ], "supportsStatistics": true, "sortableFields": "minps,maxps,lowps,highps,centerx,centery,zorder,year,stdtime", "minValues": [0], "allowRasterFunction": true, "allowComputeTiePoints": false, "serviceDataType": "esriImageServiceDataTypeScientific", "supportsAdvancedQueries": true, "maxDownloadSizeLimit": 2048, "currentVersion": 12, "sortValue": "0", "timeInfo": { "startTimeField": "StdTime", "endTimeField": "StdTime", "defaultTimeIntervalUnits": "esriTimeUnitsDays", "timeExtent": [ 1577836800000, 1735689600000 ], "timeReference": null, "defaultTimeInterval": 365 }, "objectIdField": "objectid", "blockHeight": 256, "initialExtent": { "ymin": 1954411.4632000029, "xmin": -17948213.279600002, "ymax": 9842411.4632000029, "xmax": -6965213.2796000019, "spatialReference": { "latestWkid": 3857, "wkid": 102100 } }, "pixelSizeX": 1000, "pixelSizeY": 1000, "defaultMosaicMethod": "ByAttribute", "name": "Ecosystems/USFS_EDW_TCA_OzoneAcute", "allowedMosaicMethods": "ByAttribute,NorthWest,Center,LockRaster,Nadir,Viewpoint,Seamline,None", "maxDownloadImageCount": 20, "fields": [ { "domain": null, "name": "objectid", "alias": "objectid", "type": "esriFieldTypeOID" }, { "domain": null, "name": "name", "length": 200, "alias": "name", "type": "esriFieldTypeString" }, { "domain": null, "name": "minps", "alias": "minps", "type": "esriFieldTypeDouble" }, { "domain": null, "name": "maxps", "alias": "maxps", "type": "esriFieldTypeDouble" }, { "domain": null, "name": "lowps", "alias": "lowps", "type": "esriFieldTypeDouble" }, { "domain": null, "name": "highps", "alias": "highps", "type": "esriFieldTypeDouble" }, { "domain": { "splitPolicy": "esriSPTDefaultValue", "name": "MosaicCatalogItemCategoryDomain", "description": "Catalog item categories.", "type": "codedValue", "codedValues": [ { "code": 0, "name": "Unknown" }, { "code": 1, "name": "Primary" }, { "code": 2, "name": "Overview" }, { "code": 3, "name": "Unprocessed Overview" }, { "code": 4, "name": "Partial Overview" }, { "code": 5, "name": "Inactive" }, { "code": 253, "name": "Uploaded" }, { "code": 254, "name": "Incomplete" }, { "code": 255, "name": "Custom" } ], "mergePolicy": "esriMPTDefaultValue" }, "name": "category", "alias": "category", "type": "esriFieldTypeInteger" }, { "domain": null, "name": "shape", "alias": "shape", "type": "esriFieldTypeGeometry" }, { "domain": null, "name": "metric", "length": 24, "alias": "metric", "type": "esriFieldTypeString" }, { "domain": null, "name": "year", "length": 8, "alias": "year", "type": "esriFieldTypeDate" }, { "domain": null, "name": "stdtime", "length": 8, "alias": "Standard Time", "type": "esriFieldTypeDate" }, { "domain": null, "name": "dimensions", "length": 50, "alias": "Dimensions", "type": "esriFieldTypeString" }, { "domain": null, "name": "variable", "length": 50, "alias": "Variable", "type": "esriFieldTypeString" } ], "defaultVariable": "", "allowAnalysis": true, "hasRasterAttributeTable": false, "useStandardizedQueries": true, "description": "", "pixelType": "F32", "meanPixelSize": 1000, "exportTilesAllowed": false, "editFieldsInfo": null, "rasterTypeInfos": [{ "help": "", "name": "Raster Dataset", "description": "Supports all ArcGIS Raster Datasets" }], "defaultResamplingMethod": "Bilinear", "itemAccess": false, "minScale": 0, "serviceProperties": "ByAttribute<\/MosaicMethod>First<\/MosaicOperator>false<\/SortAscending><\/LockImageID>StdTime<\/TileOrderField>0<\/TileOrderBase>600.000000<\/AvgImageSpacingX>300.000000<\/AvgImageSpacingY>0.0<\/ViewPointX>0.0<\/ViewPointY>0.0<\/ViewPointDefShiftX>0.0<\/ViewPointDefShiftY>None<\/CompressionMethod>75<\/CompressionQuality>0.010000<\/CompressionTolerance>Bilinear<\/SamplingMethod><\/ImageServiceProperties><\/ImageServer>", "advancedQueryCapabilities": { "supportsStatistics": true, "supportsSqlExpression": true, "supportsOrderBy": true, "useStandardizedQueries": true, "supportsPagination": true, "supportsDistinct": true }, "serviceItemId": "8401f72de0c3404287fb164163d79970", "capabilities": "Image,Metadata,Catalog,Mensuration", "maxScale": 0, "stdvValues": [0.040909236840767825], "allowedFields": "name,minps,maxps,lowps,highps,metric,year,stdtime,dimensions,variable", "minPixelSize": 0, "sortAscending": false, "maxMosaicImageCount": 20, "inspectionCapabilities": "", "maxPixelSize": 0, "uncompressedSize": 346535616, "serviceDescription": "

Direct Download (Raster Data Gateway)<\/SPAN><\/SPAN><\/A><\/P>
Objective:<\/SPAN><\/SPAN> Assess impacts<\/SPAN><\/SPAN> to vegetation from acute exposure to ozone (O3) during the growing season (April to September).<\/SPAN><\/SPAN><\/P>
Data:<\/SPAN><\/SPAN> Two exposure indices were calculated from hourly O3 data collected by the EPA to track effects from chronic O3 exposure (W126 index) and acute O3 exposure (N100). The N100 index is the sum of hours over 100 ppb in a given month and captures peak events of high or acute exposure. For both indices, hourly data was used to calculate monthly values. Monitoring sites were only included if at least 75% of the hourly observations were available, and monthly values were corrected to account for any missing data following the procedures of Lefohn, Knudsen, and Shadwick (2011). Corrected monthly values were totaled across the growing season to generate an annual value. Annual values were averaged over the most recently available 3 year period to generate a value for each site. Site values were then interpolated using inverse distance weighting to attribute values to landscapes within 40 km of a monitoring site. There is typically a 1 year lag between the TCA assessment year and the most recently available for instance, for the 2024 TCA Assessment, ozone data from 2021-2023 were used to compute the 3-year average.<\/SPAN><\/P>
Data Format:<\/SPAN><\/SPAN> Point (site data) interpolated through inverse distance weighting and filtered to areas only within 40 km of an O3 monitor.<\/SPAN><\/SPAN><\/P>
Units:<\/SPAN><\/SPAN> N100 is expressed in hours<\/SPAN><\/SPAN><\/P>
Spatial Resolution:<\/SPAN><\/SPAN> 1000m (1km)<\/SPAN><\/SPAN><\/P>
Source data:<\/SPAN><\/SPAN> <\/SPAN><\/SPAN>EPA Hourly Ozone data<\/SPAN><\/SPAN><\/A><\/P>
Additional Resources:<\/SPAN><\/SPAN><\/P>
Details on <\/SPAN><\/SPAN>Method Changes and Source Data Versions<\/SPAN><\/SPAN><\/A><\/P>
Overview of the Terrestrial Condition Assessment: <\/SPAN><\/SPAN>TCA Hubsite<\/SPAN><\/SPAN><\/A> or <\/SPAN><\/SPAN>Landfire Office Hour Presentation<\/SPAN><\/SPAN><\/A><\/P>
Explore the results of the most recent assessment: <\/SPAN><\/SPAN>TCA Interactive Data Viewer<\/SPAN><\/SPAN><\/A><\/P>
Learn more about the TCA KPI: Dashboard link when available<\/SPAN><\/P><\/DIV><\/DIV><\/DIV>", "allowCopy": true, "copyrightText": "Lefohn, Knudsen, and Shadwick (2011, https://webcam.srs.fs.usda.gov/ozone/spatial/2010/contractor_2010.pdf);", "mensurationCapabilities": "Basic", "ownershipBasedAccessControlForRasters": null }