{ "extent": { "ymin": 2257466.1041999981, "xmin": -15128424.8234, "ymax": 6977066.1041999981, "xmax": -6171224.8234000001, "spatialReference": { "latestWkid": 3857, "wkid": 102100 } }, "blockWidth": 2048, "mosaicOperator": "First", "serviceSourceType": "esriImageServiceSourceTypeMosaicDataset", "hasMultidimensions": true, "maxImageWidth": 100000, "maxRecordCount": 1000, "meanValues": [6.4770000000000003], "hasColormap": false, "compressionType": "None", "defaultCompressionQuality": 75, "maxValues": [50], "hasHistograms": true, "datasetFormat": "AMD", "maxImageHeight": 100000, "sortField": "StdTime", "bandNames": ["Band_1"], "spatialReference": { "latestWkid": 3857, "wkid": 102100 }, "fullExtent": { "ymin": 2257466.1041999981, "xmin": -15128424.8234, "ymax": 6977066.1041999981, "xmax": -6171224.8234000001, "spatialReference": { "latestWkid": 3857, "wkid": 102100 } }, "bandCount": 1, "rasterFunctionInfos": [ { "help": "", "name": "None", "description": "Make a Raster or Raster Dataset into a Function Raster Dataset." }, { "help": "", "name": "Nitrogen Deposition", "description": "A raster function template." } ], "supportsStatistics": true, "sortableFields": "minps,maxps,lowps,highps,centerx,centery,zorder,year,stdtime", "minValues": [0], "allowRasterFunction": true, "allowComputeTiePoints": false, "serviceDataType": "esriImageServiceDataTypeScientific", "supportsAdvancedQueries": true, "maxDownloadSizeLimit": 2048, "currentVersion": 12, "sortValue": "0", "timeInfo": { "startTimeField": "StdTime", "endTimeField": "StdTime", "defaultTimeIntervalUnits": "esriTimeUnitsYears", "timeExtent": [ 1577836800000, 1735689600000 ], "timeReference": null, "defaultTimeInterval": 1 }, "objectIdField": "objectid", "blockHeight": 256, "initialExtent": { "ymin": 2257466.1041999981, "xmin": -15128424.8234, "ymax": 6977066.1041999981, "xmax": -6171224.8234000001, "spatialReference": { "latestWkid": 3857, "wkid": 102100 } }, "pixelSizeX": 400, "pixelSizeY": 400, "defaultMosaicMethod": "ByAttribute", "name": "Ecosystems/USFS_EDW_TCA_NitrogenDeposition", "allowedMosaicMethods": "ByAttribute,NorthWest,Center,LockRaster,Nadir,Viewpoint,Seamline,None", "maxDownloadImageCount": 20, "fields": [ { "domain": null, "name": "objectid", "alias": "objectid", "type": "esriFieldTypeOID" }, { "domain": null, "name": "name", "length": 200, "alias": "name", "type": "esriFieldTypeString" }, { "domain": null, "name": "minps", "alias": "minps", "type": "esriFieldTypeDouble" }, { "domain": null, "name": "maxps", "alias": "maxps", "type": "esriFieldTypeDouble" }, { "domain": null, "name": "lowps", "alias": "lowps", "type": "esriFieldTypeDouble" }, { "domain": null, "name": "highps", "alias": "highps", "type": "esriFieldTypeDouble" }, { "domain": { "splitPolicy": "esriSPTDefaultValue", "name": "MosaicCatalogItemCategoryDomain", "description": "Catalog item categories.", "type": "codedValue", "codedValues": [ { "code": 0, "name": "Unknown" }, { "code": 1, "name": "Primary" }, { "code": 2, "name": "Overview" }, { "code": 3, "name": "Unprocessed Overview" }, { "code": 4, "name": "Partial Overview" }, { "code": 5, "name": "Inactive" }, { "code": 253, "name": "Uploaded" }, { "code": 254, "name": "Incomplete" }, { "code": 255, "name": "Custom" } ], "mergePolicy": "esriMPTDefaultValue" }, "name": "category", "alias": "category", "type": "esriFieldTypeInteger" }, { "domain": null, "name": "shape", "alias": "shape", "type": "esriFieldTypeGeometry" }, { "domain": null, "name": "metric", "length": 24, "alias": "metric", "type": "esriFieldTypeString" }, { "domain": null, "name": "year", "length": 8, "alias": "year", "type": "esriFieldTypeDate" }, { "domain": null, "name": "stdtime", "length": 8, "alias": "Standard Time", "type": "esriFieldTypeDate" }, { "domain": null, "name": "dimensions", "length": 50, "alias": "Dimensions", "type": "esriFieldTypeString" }, { "domain": null, "name": "variable", "length": 50, "alias": "Variable", "type": "esriFieldTypeString" } ], "defaultVariable": "", "allowAnalysis": true, "hasRasterAttributeTable": false, "useStandardizedQueries": true, "description": "", "pixelType": "F32", "meanPixelSize": 400, "exportTilesAllowed": false, "editFieldsInfo": null, "rasterTypeInfos": [{ "help": "", "name": "Raster Dataset", "description": "Supports all ArcGIS Raster Datasets" }], "defaultResamplingMethod": "Bilinear", "itemAccess": false, "minScale": 0, "serviceProperties": "ByAttribute<\/MosaicMethod>First<\/MosaicOperator>false<\/SortAscending><\/LockImageID>StdTime<\/TileOrderField>0<\/TileOrderBase>600.000000<\/AvgImageSpacingX>300.000000<\/AvgImageSpacingY>0.0<\/ViewPointX>0.0<\/ViewPointY>0.0<\/ViewPointDefShiftX>0.0<\/ViewPointDefShiftY>None<\/CompressionMethod>75<\/CompressionQuality>0.010000<\/CompressionTolerance>Bilinear<\/SamplingMethod><\/ImageServiceProperties><\/ImageServer>", "advancedQueryCapabilities": { "supportsStatistics": true, "supportsSqlExpression": true, "supportsOrderBy": true, "useStandardizedQueries": true, "supportsPagination": true, "supportsDistinct": true }, "serviceItemId": "685cdd9ab3864801a443551b410be2d5", "capabilities": "Image,Metadata,Catalog,Mensuration", "maxScale": 0, "stdvValues": [5.4509999999999996], "allowedFields": "name,minps,maxps,lowps,highps,metric,year,stdtime,dimensions,variable", "minPixelSize": 0, "sortAscending": false, "maxMosaicImageCount": 20, "inspectionCapabilities": "", "maxPixelSize": 0, "uncompressedSize": 1056860028, "serviceDescription": "

Direct Download (Raster Data Gateway)<\/SPAN><\/SPAN><\/A> <\/SPAN><\/SPAN><\/P>
Objective:<\/SPAN><\/SPAN> Evaluate the impact of atmospheric nitrogen deposition on various ecosystem components including lichens, tree species (both growth and mortality), mycorrhizal communities, herbaceous plant species (changes in species richness), and leaching.<\/SPAN><\/SPAN><\/P>
Data:<\/SPAN><\/SPAN> Deposition data is the 3-year average output from the Total Deposition (TDep) modeling system (https://nadp.slh.wisc.edu/committees/tdep/). TDep uses measurement-model fusion to bias correct modelled estimates (Tdep Program, https://nadp.slh.wisc.edu/committees/tdep/). TDep uses observations of air concentrations from the Clean Air Status and Trends Network (CASTNET) for measurements of dry deposition and observations of precipitation and precipitation chemistry from various National Atmospheric Deposition Program (NADP) networks. These observations are interpolated and used to create seasonal bias surfaces for results generated from CMAQ. Bias-adjusted CMAQ results are then merged with observations to create a set of deposition estimates that better align with measurements than model results alone. The full description of this methodology is available in: Schwede et al., 2014. There is a two year lag between the source data and the TCA Assessment year, so source data 3-year ranges with assessment year in parentheses are: 2016-2018 (2020 assessment), 2017-2019 (2021 assessment), 2018-2020 (2022 assessment), 2019-2021 (2023 assessment), 2020-2022* (2024 assessment) ), 2021-2023* (2025 assessment). *The data used in the 2024 and 2025 assessments had a small gap in western North and South Dakota, which was filled with data from the 2019-2021 product due to the small amount of interannual variability in the region.<\/SPAN><\/P>
Data Format:<\/SPAN><\/SPAN> Raster data are continuous<\/SPAN><\/SPAN><\/P>
Units:<\/SPAN><\/SPAN> kg/ha/yr<\/SPAN><\/SPAN><\/P>
Spatial Resolution:<\/SPAN><\/SPAN> 400m (resampled from 4km)<\/SPAN><\/SPAN><\/P>
Source data:<\/SPAN><\/SPAN> <\/SPAN><\/SPAN>Total Deposition Science Committee (TDep)<\/SPAN><\/SPAN><\/A><\/P>
Additional Resources:<\/SPAN><\/SPAN><\/P>
Details on <\/SPAN><\/SPAN>Method Changes and Source Data Versions<\/SPAN><\/SPAN><\/A><\/P>
Overview of the Terrestrial Condition Assessment: <\/SPAN><\/SPAN>TCA Hubsite<\/SPAN><\/SPAN><\/A> or <\/SPAN><\/SPAN>Landfire Office Hour Presentation<\/SPAN><\/SPAN><\/A><\/P>
Explore the results of the most recent assessment: <\/SPAN><\/SPAN>TCA Interactive Data Viewer<\/SPAN><\/SPAN><\/A><\/P>
Learn more about the TCA KPI: <\/SPAN>TCA Dashboard<\/SPAN><\/A><\/P><\/DIV><\/DIV><\/DIV>", "allowCopy": true, "copyrightText": "(TDep) modeling system (https://nadp.slh.wisc.edu/committees/tdep/); (Tdep Program, https://nadp.slh.wisc.edu/committees/tdep/); Schwede, D.B. and G.G. Lear, 2014. A novel hybrid approach for estimating total deposition in the United States. Atmospheric Environment, 92, 207-220.", "mensurationCapabilities": "Basic", "ownershipBasedAccessControlForRasters": null }