{ "extent": { "ymin": 2603547.2897000015, "xmin": -14247538.095800001, "ymax": 6737047.2897000015, "xmax": -7264038.0958000012, "spatialReference": { "latestWkid": 3857, "wkid": 102100 } }, "blockWidth": 2048, "mosaicOperator": "First", "serviceSourceType": "esriImageServiceSourceTypeMosaicDataset", "hasMultidimensions": true, "maxImageWidth": 100000, "maxRecordCount": 1000, "meanValues": [1], "hasColormap": false, "compressionType": "None", "defaultCompressionQuality": 75, "maxValues": [1], "hasHistograms": true, "datasetFormat": "AMD", "maxImageHeight": 100000, "sortField": "StdTime", "bandNames": ["Band_1"], "spatialReference": { "latestWkid": 3857, "wkid": 102100 }, "fullExtent": { "ymin": 2603547.2897000015, "xmin": -14247538.095800001, "ymax": 6737047.2897000015, "xmax": -7264038.0958000012, "spatialReference": { "latestWkid": 3857, "wkid": 102100 } }, "bandCount": 1, "rasterFunctionInfos": [ { "help": "", "name": "Grassland productivity", "description": "TCA Ind 11 Grassland productivity" }, { "help": "", "name": "None", "description": "Make a Raster or Raster Dataset into a Function Raster Dataset." }, { "help": "", "name": "Decrease", "description": "A raster function template." } ], "supportsStatistics": true, "sortableFields": "minps,maxps,lowps,highps,centerx,centery,zorder,year,stdtime", "minValues": [1], "allowRasterFunction": true, "allowComputeTiePoints": false, "serviceDataType": "esriImageServiceDataTypeGeneric", "supportsAdvancedQueries": true, "maxDownloadSizeLimit": 2048, "currentVersion": 12, "sortValue": "0", "timeInfo": { "startTimeField": "StdTime", "endTimeField": "StdTime", "defaultTimeIntervalUnits": "esriTimeUnitsYears", "timeExtent": [ 1577836800000, 1735689600000 ], "timeReference": null, "defaultTimeInterval": 1 }, "objectIdField": "objectid", "blockHeight": 256, "initialExtent": { "ymin": 2603547.2897000015, "xmin": -14247538.095800001, "ymax": 6737047.2897000015, "xmax": -7264038.0958000012, "spatialReference": { "latestWkid": 3857, "wkid": 102100 } }, "pixelSizeX": 250, "pixelSizeY": 250, "defaultMosaicMethod": "ByAttribute", "name": "Ecosystems/USFS_EDW_TCA_GrasslandProductivity", "allowedMosaicMethods": "ByAttribute,NorthWest,Center,LockRaster,Nadir,Viewpoint,Seamline,None", "maxDownloadImageCount": 20, "fields": [ { "domain": null, "name": "objectid", "alias": "objectid", "type": "esriFieldTypeOID" }, { "domain": null, "name": "name", "length": 200, "alias": "name", "type": "esriFieldTypeString" }, { "domain": null, "name": "minps", "alias": "minps", "type": "esriFieldTypeDouble" }, { "domain": null, "name": "maxps", "alias": "maxps", "type": "esriFieldTypeDouble" }, { "domain": null, "name": "lowps", "alias": "lowps", "type": "esriFieldTypeDouble" }, { "domain": null, "name": "highps", "alias": "highps", "type": "esriFieldTypeDouble" }, { "domain": { "splitPolicy": "esriSPTDefaultValue", "name": "MosaicCatalogItemCategoryDomain", "description": "Catalog item categories.", "type": "codedValue", "codedValues": [ { "code": 0, "name": "Unknown" }, { "code": 1, "name": "Primary" }, { "code": 2, "name": "Overview" }, { "code": 3, "name": "Unprocessed Overview" }, { "code": 4, "name": "Partial Overview" }, { "code": 5, "name": "Inactive" }, { "code": 253, "name": "Uploaded" }, { "code": 254, "name": "Incomplete" }, { "code": 255, "name": "Custom" } ], "mergePolicy": "esriMPTDefaultValue" }, "name": "category", "alias": "category", "type": "esriFieldTypeInteger" }, { "domain": null, "name": "shape", "alias": "shape", "type": "esriFieldTypeGeometry" }, { "domain": null, "name": "productivity", "length": 24, "alias": "productivity", "type": "esriFieldTypeString" }, { "domain": null, "name": "year", "length": 8, "alias": "year", "type": "esriFieldTypeDate" }, { "domain": null, "name": "stdtime", "length": 8, "alias": "Standard Time", "type": "esriFieldTypeDate" }, { "domain": null, "name": "dimensions", "length": 50, "alias": "Dimensions", "type": "esriFieldTypeString" }, { "domain": null, "name": "variable", "length": 50, "alias": "Variable", "type": "esriFieldTypeString" } ], "defaultVariable": "", "allowAnalysis": true, "hasRasterAttributeTable": false, "useStandardizedQueries": true, "description": "", "pixelType": "U4", "meanPixelSize": 250, "exportTilesAllowed": false, "editFieldsInfo": null, "rasterTypeInfos": [{ "help": "", "name": "Raster Dataset", "description": "Supports all ArcGIS Raster Datasets" }], "defaultResamplingMethod": "Nearest", "itemAccess": false, "minScale": 0, "serviceProperties": "ByAttribute<\/MosaicMethod>First<\/MosaicOperator>false<\/SortAscending><\/LockImageID>StdTime<\/TileOrderField>0<\/TileOrderBase>600.000000<\/AvgImageSpacingX>300.000000<\/AvgImageSpacingY>0.0<\/ViewPointX>0.0<\/ViewPointY>0.0<\/ViewPointDefShiftX>0.0<\/ViewPointDefShiftY>None<\/CompressionMethod>75<\/CompressionQuality>0.010000<\/CompressionTolerance>Nearest<\/SamplingMethod><\/ImageServiceProperties><\/ImageServer>", "advancedQueryCapabilities": { "supportsStatistics": true, "supportsSqlExpression": true, "supportsOrderBy": true, "useStandardizedQueries": true, "supportsPagination": true, "supportsDistinct": true }, "serviceItemId": "1f146b971ac94031890def88c8e47771", "capabilities": "Image,Metadata,Catalog,Mensuration", "maxScale": 0, "stdvValues": [0], "allowedFields": "name,minps,maxps,lowps,highps,productivity,year,stdtime,dimensions,variable", "minPixelSize": 0, "sortAscending": false, "maxMosaicImageCount": 20, "inspectionCapabilities": "", "maxPixelSize": 0, "uncompressedSize": 230930378, "serviceDescription": "

Direct Download (Raster Data Gateway)<\/SPAN><\/SPAN><\/A><\/P>
Objective:<\/SPAN><\/SPAN> <\/SPAN><\/SPAN>Identify areas of negative relative change in annual grassland vegetation productivity.<\/SPAN><\/SPAN><\/P>
Data:<\/SPAN><\/SPAN> <\/SPAN><\/SPAN>The indicator of biomass production departure is an estimate based on the percent area of a landscape with a negative relative change between a recent time period (most recent 6 years) and the historical record (beginning in 1984). There is a 1 year lag between the source data and the TCA Assessment year. For instance in 2024, mean annual productivity data used were 1984-2018 (historical record) and 2019-2023 (recent conditions). Note that in 2022, data only covers the western US, in all other years it covers CONUS.<\/SPAN><\/SPAN><\/P>
Format:<\/SPAN><\/SPAN> Raster data are binary: (1) negative or (0) not negative.<\/SPAN><\/SPAN><\/P>
Resolution:<\/SPAN><\/SPAN> 250m<\/SPAN><\/SPAN><\/P>
Source: <\/SPAN><\/SPAN>Annual RPMS Products from <\/SPAN><\/SPAN>FuelCast<\/SPAN><\/SPAN><\/A>. More info on the Rangeland Production Monitoring Service on the <\/SPAN><\/SPAN>product page<\/SPAN><\/SPAN><\/A><\/P>
Additional Resources:<\/SPAN><\/SPAN><\/P>
Details on <\/SPAN><\/SPAN>Method Changes and Source Data Versions<\/SPAN><\/SPAN><\/A><\/P>
Overview of the Terrestrial Condition Assessment: <\/SPAN><\/SPAN>TCA Hubsite<\/SPAN><\/SPAN><\/A> or <\/SPAN><\/SPAN>Landfire Office Hour Presentation<\/SPAN><\/SPAN><\/A><\/P>
Explore the results of the most recent assessment: <\/SPAN><\/SPAN>TCA Interactive Data Viewer<\/SPAN><\/SPAN><\/A><\/P>
Learn more about the TCA KPI: <\/SPAN><\/SPAN>TCA Dashboard<\/SPAN><\/SPAN><\/A><\/P>
*if you have trouble viewing the Dashboard, please submit a<\/SPAN><\/SPAN> <\/SPAN><\/SPAN>Tableau Viewer Access Request<\/SPAN><\/SPAN><\/A><\/P><\/DIV><\/DIV><\/DIV>", "allowCopy": true, "copyrightText": "USFS, USDA, GO", "mensurationCapabilities": "Basic", "ownershipBasedAccessControlForRasters": null }