{ "extent": { "ymin": 2595153.9002000019, "xmin": -14249755.8891, "ymax": 6742053.9002000019, "xmax": -7258825.8891000003, "spatialReference": { "latestWkid": 3857, "wkid": 102100 } }, "blockWidth": 2048, "mosaicOperator": "Max", "serviceSourceType": "esriImageServiceSourceTypeMosaicDataset", "hasMultidimensions": true, "maxImageWidth": 100000, "maxRecordCount": 1000, "meanValues": [1], "hasColormap": false, "compressionType": "None", "defaultCompressionQuality": 75, "maxValues": [1], "hasHistograms": true, "datasetFormat": "AMD", "maxImageHeight": 100000, "sortField": "StdTime", "bandNames": ["Band_1"], "spatialReference": { "latestWkid": 3857, "wkid": 102100 }, "fullExtent": { "ymin": 2595153.9002000019, "xmin": -14249755.8891, "ymax": 6742053.9002000019, "xmax": -7258825.8891000003, "spatialReference": { "latestWkid": 3857, "wkid": 102100 } }, "bandCount": 1, "rasterFunctionInfos": [ { "help": "", "name": "Grassland Encroachment", "description": "TCA Ind 12 Grassland Encroachment" }, { "help": "", "name": "None", "description": "Make a Raster or Raster Dataset into a Function Raster Dataset." }, { "help": "", "name": "Encroachment", "description": "A raster function template." } ], "supportsStatistics": true, "sortableFields": "minps,maxps,lowps,highps,centerx,centery,zorder,year,stdtime", "minValues": [1], "allowRasterFunction": true, "allowComputeTiePoints": false, "serviceDataType": "esriImageServiceDataTypeGeneric", "supportsAdvancedQueries": true, "maxDownloadSizeLimit": 2048, "currentVersion": 12, "sortValue": "0", "timeInfo": { "startTimeField": "StdTime", "endTimeField": "StdTime", "defaultTimeIntervalUnits": "esriTimeUnitsDays", "timeExtent": [ 1577836800000, 1735689600000 ], "timeReference": null, "defaultTimeInterval": 365 }, "objectIdField": "objectid", "blockHeight": 256, "initialExtent": { "ymin": 2595153.9002000019, "xmin": -14249755.8891, "ymax": 6742053.9002000019, "xmax": -7258825.8891000003, "spatialReference": { "latestWkid": 3857, "wkid": 102100 } }, "pixelSizeX": 30, "pixelSizeY": 30, "defaultMosaicMethod": "ByAttribute", "name": "Ecosystems/USFS_EDW_TCA_GrasslandEncroachment", "allowedMosaicMethods": "ByAttribute,NorthWest,Center,LockRaster,Nadir,Viewpoint,Seamline,None", "maxDownloadImageCount": 20, "fields": [ { "domain": null, "name": "objectid", "alias": "objectid", "type": "esriFieldTypeOID" }, { "domain": null, "name": "name", "length": 200, "alias": "name", "type": "esriFieldTypeString" }, { "domain": null, "name": "minps", "alias": "minps", "type": "esriFieldTypeDouble" }, { "domain": null, "name": "maxps", "alias": "maxps", "type": "esriFieldTypeDouble" }, { "domain": null, "name": "lowps", "alias": "lowps", "type": "esriFieldTypeDouble" }, { "domain": null, "name": "highps", "alias": "highps", "type": "esriFieldTypeDouble" }, { "domain": { "splitPolicy": "esriSPTDefaultValue", "name": "MosaicCatalogItemCategoryDomain", "description": "Catalog item categories.", "type": "codedValue", "codedValues": [ { "code": 0, "name": "Unknown" }, { "code": 1, "name": "Primary" }, { "code": 2, "name": "Overview" }, { "code": 3, "name": "Unprocessed Overview" }, { "code": 4, "name": "Partial Overview" }, { "code": 5, "name": "Inactive" }, { "code": 253, "name": "Uploaded" }, { "code": 254, "name": "Incomplete" }, { "code": 255, "name": "Custom" } ], "mergePolicy": "esriMPTDefaultValue" }, "name": "category", "alias": "category", "type": "esriFieldTypeInteger" }, { "domain": null, "name": "shape", "alias": "shape", "type": "esriFieldTypeGeometry" }, { "domain": null, "name": "encroachment", "length": 24, "alias": "encroachment", "type": "esriFieldTypeString" }, { "domain": null, "name": "year", "length": 8, "alias": "year", "type": "esriFieldTypeDate" }, { "domain": null, "name": "stdtime", "length": 8, "alias": "Standard Time", "type": "esriFieldTypeDate" }, { "domain": null, "name": "dimensions", "length": 50, "alias": "Dimensions", "type": "esriFieldTypeString" }, { "domain": null, "name": "variable", "length": 50, "alias": "Variable", "type": "esriFieldTypeString" } ], "defaultVariable": "", "allowAnalysis": true, "hasRasterAttributeTable": false, "useStandardizedQueries": true, "description": "", "pixelType": "U4", "meanPixelSize": 30, "exportTilesAllowed": false, "editFieldsInfo": null, "rasterTypeInfos": [{ "help": "", "name": "Raster Dataset", "description": "Supports all ArcGIS Raster Datasets" }], "defaultResamplingMethod": "Nearest", "itemAccess": false, "minScale": 0, "serviceProperties": "ByAttribute<\/MosaicMethod>Max<\/MosaicOperator>false<\/SortAscending><\/LockImageID>StdTime<\/TileOrderField>0<\/TileOrderBase>600.000000<\/AvgImageSpacingX>300.000000<\/AvgImageSpacingY>0.0<\/ViewPointX>0.0<\/ViewPointY>0.0<\/ViewPointDefShiftX>0.0<\/ViewPointDefShiftY>None<\/CompressionMethod>75<\/CompressionQuality>0.010000<\/CompressionTolerance>Nearest<\/SamplingMethod><\/ImageServiceProperties><\/ImageServer>", "advancedQueryCapabilities": { "supportsStatistics": true, "supportsSqlExpression": true, "supportsOrderBy": true, "useStandardizedQueries": true, "supportsPagination": true, "supportsDistinct": true }, "serviceItemId": "f0ddffc413b74876ac28fec40a6e0fb2", "capabilities": "Image,Metadata,Catalog,Mensuration", "maxScale": 0, "stdvValues": [0], "allowedFields": "name,minps,maxps,lowps,highps,encroachment,year,stdtime,dimensions,variable", "minPixelSize": 0, "sortAscending": false, "maxMosaicImageCount": 20, "inspectionCapabilities": "", "maxPixelSize": 0, "uncompressedSize": 16105937565, "serviceDescription": "

Direct Download (Raster Data Gateway)<\/SPAN><\/SPAN><\/A><\/P>
Objective:<\/SPAN><\/SPAN> <\/SPAN><\/SPAN>An indicator that identifies where tree density has exceeded the levels presumed to be present in pre-Euro-American settlement non-forest vegetation. By our definition, non-forest areas cannot exceed 25% tree canopy cover. Fire exclusion, climate, and human activities affect the progression of trees into non-forested ecosystems. Encroached areas may require restoration to meet ecological objectives. Restoration practices will be ecosystem specific.<\/SPAN><\/SPAN><\/P>
Data:<\/SPAN><\/SPAN> The indicator uses areas identified as grasslands using LANDFIRE\u2019s Biophysical Settings (BpS) raster dataset (US_140BPS_20180618) along with a cross-walk based on Reeves MC, Mitchell JE (2011) (https://research.fs.usda.gov/treesearch/41872) to identify BpS units that were likely to be grasslands during pre-European times. Presence of conifer tree species was developed using USGS National Landcover Database (NLCD) legend class \u201c42 \u2013 Evergreen Forest\u201d. The Evergreen Forest class represents \u201careas dominated by trees generally greater than 5 meters tall, and greater than 20% of total vegetation cover. More than 75% of the tree species maintain their leaves all year. Canopy is never without green foliage.\u201d Grassland conifer encroachment is identified where raster pixels are identified as both \u201cgrasslands\u201d and NLCD \u201cEvergreen Forest\u201d. This indicator is only run in years there is an updated NLCD version available. NLCD versions used: NLCD 2011 (TCA Assessment 2020), NLCD 2019 (TCA Assessment 2022), NLCD 2021 (TCA Assessment 2023), NLCD 2024 (TCA Assessment 2025). Encroachment for the 2023 TCA Assessment is 1-bit and therefore only contains values of 1 indicating where encroachment was observed, rather than the binary data from other years.<\/SPAN><\/SPAN><\/P>
Format:<\/SPAN><\/SPAN> Raster data are binary: (1) likely encroached or (0) not encroached<\/SPAN><\/SPAN><\/P>
Resolution:<\/SPAN><\/SPAN> 30m<\/SPAN><\/SPAN><\/P>
Source: <\/SPAN><\/SPAN>Custom grassland-BpS crosswalk<\/SPAN><\/SPAN><\/A>, <\/SPAN><\/SPAN>NLCD conifer presence<\/SPAN><\/SPAN><\/A><\/P>
Additional Resources:<\/SPAN><\/SPAN><\/P>
Details on <\/SPAN><\/SPAN>Method Changes and Source Data Versions<\/SPAN><\/SPAN><\/A><\/P>
Overview of the Terrestrial Condition Assessment: <\/SPAN><\/SPAN>TCA Hubsite<\/SPAN><\/SPAN><\/A> or <\/SPAN><\/SPAN>Landfire Office Hour Presentation<\/SPAN><\/SPAN><\/A><\/P>
Explore the results of the most recent assessment: <\/SPAN><\/SPAN>TCA Interactive Data Viewer<\/SPAN><\/SPAN><\/A><\/P>
Learn more about the TCA KPI: <\/SPAN><\/SPAN>TCA Dashboard<\/SPAN><\/SPAN><\/A><\/P>
*if you have trouble viewing the Dashboard, please submit a<\/SPAN><\/SPAN> <\/SPAN><\/SPAN>Tableau Viewer Access Request<\/SPAN><\/SPAN><\/A><\/P><\/DIV><\/DIV><\/DIV>", "allowCopy": true, "copyrightText": "Reeves MC, Mitchell JE (2011) Extent of coterminous US rangelands: quantifying implications of differing agency perspectives. Rangel Ecol Manage 64:1\u201312 (https://research.fs.usda.gov/treesearch/41872); https://www.mlrc.gov/data; USDA; USFS; GO", "mensurationCapabilities": "Basic", "ownershipBasedAccessControlForRasters": null }