{ "extent": { "ymin": 2262629.9694999978, "xmin": -15130348.178399999, "ymax": 6982629.9694999978, "xmax": -6174348.1783999987, "spatialReference": { "latestWkid": 3857, "wkid": 102100 } }, "blockWidth": 2048, "mosaicOperator": "First", "serviceSourceType": "esriImageServiceSourceTypeMosaicDataset", "hasMultidimensions": true, "maxImageWidth": 100000, "maxRecordCount": 1000, "meanValues": [1.0253613377932191], "hasColormap": false, "compressionType": "None", "defaultCompressionQuality": 75, "maxValues": [5.3067703247070312], "hasHistograms": true, "datasetFormat": "AMD", "maxImageHeight": 100000, "sortField": "StdTime", "bandNames": ["Band_1"], "spatialReference": { "latestWkid": 3857, "wkid": 102100 }, "fullExtent": { "ymin": 2262629.9694999978, "xmin": -15130348.178399999, "ymax": 6982629.9694999978, "xmax": -6174348.1783999987, "spatialReference": { "latestWkid": 3857, "wkid": 102100 } }, "bandCount": 1, "rasterFunctionInfos": [ { "help": "", "name": "Drought", "description": "A raster function template." }, { "help": "", "name": "None", "description": "Make a Raster or Raster Dataset into a Function Raster Dataset." } ], "supportsStatistics": true, "sortableFields": "minps,maxps,lowps,highps,centerx,centery,zorder,Year,StdTime", "minValues": [-3.9039897918701172], "allowRasterFunction": true, "allowComputeTiePoints": false, "serviceDataType": "esriImageServiceDataTypeScientific", "supportsAdvancedQueries": true, "maxDownloadSizeLimit": 2048, "currentVersion": 12, "sortValue": "0", "timeInfo": { "startTimeField": "beginyear", "endTimeField": "endyear", "defaultTimeIntervalUnits": "esriTimeUnitsYears", "timeExtent": [ 1577836800000, 1735689600000 ], "timeReference": null, "defaultTimeInterval": 1 }, "objectIdField": "objectid", "blockHeight": 256, "initialExtent": { "ymin": 2262629.9694999978, "xmin": -15130348.178399999, "ymax": 6982629.9694999978, "xmax": -6174348.1783999987, "spatialReference": { "latestWkid": 3857, "wkid": 102100 } }, "pixelSizeX": 4000, "pixelSizeY": 4000, "defaultMosaicMethod": "ByAttribute", "name": "Ecosystems/USFS_EDW_TCA_Drought", "allowedMosaicMethods": "ByAttribute,NorthWest,Center,LockRaster,Nadir,Viewpoint,Seamline,None", "maxDownloadImageCount": 20, "fields": [ { "domain": null, "name": "objectid", "alias": "objectid", "type": "esriFieldTypeOID" }, { "domain": null, "name": "name", "length": 200, "alias": "name", "type": "esriFieldTypeString" }, { "domain": null, "name": "minps", "alias": "minps", "type": "esriFieldTypeDouble" }, { "domain": null, "name": "maxps", "alias": "maxps", "type": "esriFieldTypeDouble" }, { "domain": null, "name": "lowps", "alias": "lowps", "type": "esriFieldTypeDouble" }, { "domain": null, "name": "highps", "alias": "highps", "type": "esriFieldTypeDouble" }, { "domain": { "splitPolicy": "esriSPTDefaultValue", "name": "MosaicCatalogItemCategoryDomain", "description": "Catalog item categories.", "type": "codedValue", "codedValues": [ { "code": 0, "name": "Unknown" }, { "code": 1, "name": "Primary" }, { "code": 2, "name": "Overview" }, { "code": 3, "name": "Unprocessed Overview" }, { "code": 4, "name": "Partial Overview" }, { "code": 5, "name": "Inactive" }, { "code": 253, "name": "Uploaded" }, { "code": 254, "name": "Incomplete" }, { "code": 255, "name": "Custom" } ], "mergePolicy": "esriMPTDefaultValue" }, "name": "category", "alias": "category", "type": "esriFieldTypeInteger" }, { "domain": null, "name": "shape", "alias": "shape", "type": "esriFieldTypeGeometry" }, { "domain": null, "name": "condition", "length": 24, "alias": "condition", "type": "esriFieldTypeString" }, { "domain": null, "name": "year", "length": 8, "alias": "year", "type": "esriFieldTypeDate" }, { "domain": null, "name": "stdtime", "length": 8, "alias": "Standard Time", "type": "esriFieldTypeDate" }, { "domain": null, "name": "dimensions", "length": 50, "alias": "Dimensions", "type": "esriFieldTypeString" }, { "domain": null, "name": "variable", "length": 50, "alias": "Variable", "type": "esriFieldTypeString" } ], "defaultVariable": "", "allowAnalysis": true, "hasRasterAttributeTable": false, "useStandardizedQueries": true, "description": "
Direct Download (Raster Data Gateway)<\/span><\/span><\/a><\/p> Objective:<\/span><\/span> Characterize current moisture deficit and surplus relative to the long-term average.<\/span><\/span><\/p> Data:<\/span><\/span> <\/span><\/span>The indicator represents areas of moisture deficit as a z-score. A z-score is a statistical method for assessing how different a value (i.e., most recent 3 years) is from the mean (historical average). The source climate data is from PRISM. Mean moisture values were derived from historical data on precipitation and Thornthwaite potential evapotranspiration, from 1900 to <\/span><\/span>t<\/span><\/span>-minus 4 (<\/span><\/span>t<\/span><\/span> = current TCA Assessment year). The greater the negative z-value, the larger the departure from average conditions, indicating larger moisture deficits.<\/span><\/span><\/p> These data highlight regions of moisture deficit as a z-score calculated from the reference time period and current conditions. There is a lag between the assessment year and the most recent drought data, for example, the 2024 TCA Assessment used 2021-2023 to represent current conditions and 1900-2020 for the reference time period. Data were summarized at the Subsection scale of the USFS National Hierarchy of Ecological Units and applied to the corresponding landscape (LTA).<\/span><\/span><\/p> Data Format:<\/span><\/span> Raster data are continuous<\/span><\/span><\/p> Units: <\/span><\/span>Mean difference in z-score<\/span><\/span><\/p> Spatial Resolution:<\/span><\/span> 4000m (4km)<\/span><\/span><\/p> Source data:<\/span><\/span> <\/span><\/span>PRISM<\/span><\/span><\/a>; <\/span><\/span>z-score calculations provided by the USFS Office of Sustainability and Climate based on the methods found here: <\/span><\/span>https://www.fs.usda.gov/research/treesearch/43361<\/span><\/span><\/a><\/p> Additional Resources:<\/span><\/span><\/p> Details on <\/span><\/span>Method Changes and Source Data Versions<\/span><\/span><\/a><\/p> Overview of the Terrestrial Condition Assessment: <\/span><\/span>TCA Hubsite<\/span><\/span><\/a> or <\/span><\/span>Landfire Office Hour Presentation<\/span><\/span><\/a><\/p> Explore the results of the most recent assessment: <\/span><\/span>TCA Interactive Data Viewer<\/span><\/span><\/a><\/p> Learn more about the TCA KPI: <\/span><\/span>TCA Dashboard<\/span><\/span><\/a><\/p> *if you have trouble viewing the Dashboard, please submit a <\/span><\/span>Tableau Viewer Access Request<\/span><\/span><\/a><\/p><\/div><\/div><\/div>",
"pixelType": "F32",
"meanPixelSize": 4000,
"exportTilesAllowed": false,
"editFieldsInfo": null,
"rasterTypeInfos": [{
"help": "",
"name": "Raster Dataset",
"description": "Supports all ArcGIS Raster Datasets"
}],
"defaultResamplingMethod": "Bilinear",
"itemAccess": false,
"minScale": 0,
"serviceProperties": " Direct Download (Raster Data Gateway) Objective: Characterize current moisture deficit and surplus relative to the long-term average. Data: The indicator represents areas of moisture deficit as a z-score. A z-score is a statistical method for assessing how different a value (i.e., most recent 3 years) is from the mean (historical average). The source climate data is from PRISM. Mean moisture values were derived from historical data on precipitation and Thornthwaite potential evapotranspiration, from 1900 to t-minus 4 (t = current TCA Assessment year). The greater the negative z-value, the larger the departure from average conditions, indicating larger moisture deficits. These data highlight regions of moisture deficit as a z-score calculated from the reference time period and current conditions. There is a lag between the assessment year and the most recent drought data, for example, the 2024 TCA Assessment used 2021-2023 to represent current conditions and 1900-2020 for the reference time period. Data were summarized at the Subsection scale of the USFS National Hierarchy of Ecological Units and applied to the corresponding landscape (LTA). Data Format: Raster data are continuous Units: Mean difference in z-score Spatial Resolution: 4000m (4km) Source data: PRISM; z-score calculations provided by the USFS Office of Sustainability and Climate based on the methods found here: https://www.fs.usda.gov/research/treesearch/43361 Additional Resources: Details on Method Changes and Source Data Versions Overview of the Terrestrial Condition Assessment: TCA Hubsite or Landfire Office Hour Presentation Explore the results of the most recent assessment: TCA Interactive Data Viewer Learn more about the TCA KPI: Dashboard link when available",
"allowCopy": true,
"copyrightText": "USDA - GEO; USDA - USFS \u2013 GO",
"mensurationCapabilities": "Basic",
"ownershipBasedAccessControlForRasters": null
}