{ "extent": { "ymin": 2262629.9694999978, "xmin": -15130348.178399999, "ymax": 6982629.9694999978, "xmax": -6174348.1783999987, "spatialReference": { "latestWkid": 3857, "wkid": 102100 } }, "blockWidth": 2048, "mosaicOperator": "First", "serviceSourceType": "esriImageServiceSourceTypeMosaicDataset", "hasMultidimensions": true, "maxImageWidth": 100000, "maxRecordCount": 1000, "meanValues": [7.0053455917811274], "hasColormap": false, "compressionType": "None", "defaultCompressionQuality": 75, "maxValues": [105.92682647705078], "hasHistograms": true, "datasetFormat": "AMD", "maxImageHeight": 100000, "sortField": "StdTime", "bandNames": ["Band_1"], "spatialReference": { "latestWkid": 3857, "wkid": 102100 }, "fullExtent": { "ymin": 2262629.9694999978, "xmin": -15130348.178399999, "ymax": 6982629.9694999978, "xmax": -6174348.1783999987, "spatialReference": { "latestWkid": 3857, "wkid": 102100 } }, "bandCount": 1, "rasterFunctionInfos": [ { "help": "", "name": "None", "description": "Make a Raster or Raster Dataset into a Function Raster Dataset." }, { "help": "", "name": "Fall", "description": "A raster function template." }, { "help": "", "name": "Spring", "description": "A raster function template." }, { "help": "", "name": "Summer", "description": "A raster function template." }, { "help": "", "name": "Winter", "description": "A raster function template." } ], "supportsStatistics": true, "sortableFields": "minps,maxps,lowps,highps,centerx,centery,zorder,year,stdtime", "minValues": [-68.267242431640625], "allowRasterFunction": true, "allowComputeTiePoints": false, "serviceDataType": "esriImageServiceDataTypeScientific", "supportsAdvancedQueries": true, "maxDownloadSizeLimit": 2048, "currentVersion": 12, "sortValue": "0", "timeInfo": { "startTimeField": "beginyear", "endTimeField": "endyear", "defaultTimeIntervalUnits": "esriTimeUnitsYears", "timeExtent": [ 1577836800000, 1735689600000 ], "timeReference": null, "defaultTimeInterval": 1 }, "objectIdField": "objectid", "blockHeight": 256, "initialExtent": { "ymin": 2262629.9694999978, "xmin": -15130348.178399999, "ymax": 6982629.9694999978, "xmax": -6174348.1783999987, "spatialReference": { "latestWkid": 3857, "wkid": 102100 } }, "pixelSizeX": 4000, "pixelSizeY": 4000, "defaultMosaicMethod": "ByAttribute", "name": "Ecosystems/USFS_EDW_TCA_ClimateExposurePrecipitationPct", "allowedMosaicMethods": "ByAttribute,NorthWest,Center,LockRaster,Nadir,Viewpoint,Seamline,None", "maxDownloadImageCount": 20, "fields": [ { "domain": null, "name": "objectid", "alias": "objectid", "type": "esriFieldTypeOID" }, { "domain": null, "name": "name", "length": 200, "alias": "name", "type": "esriFieldTypeString" }, { "domain": null, "name": "minps", "alias": "minps", "type": "esriFieldTypeDouble" }, { "domain": null, "name": "maxps", "alias": "maxps", "type": "esriFieldTypeDouble" }, { "domain": null, "name": "lowps", "alias": "lowps", "type": "esriFieldTypeDouble" }, { "domain": null, "name": "highps", "alias": "highps", "type": "esriFieldTypeDouble" }, { "domain": { "splitPolicy": "esriSPTDefaultValue", "name": "MosaicCatalogItemCategoryDomain", "description": "Catalog item categories.", "type": "codedValue", "codedValues": [ { "code": 0, "name": "Unknown" }, { "code": 1, "name": "Primary" }, { "code": 2, "name": "Overview" }, { "code": 3, "name": "Unprocessed Overview" }, { "code": 4, "name": "Partial Overview" }, { "code": 5, "name": "Inactive" }, { "code": 253, "name": "Uploaded" }, { "code": 254, "name": "Incomplete" }, { "code": 255, "name": "Custom" } ], "mergePolicy": "esriMPTDefaultValue" }, "name": "category", "alias": "category", "type": "esriFieldTypeInteger" }, { "domain": null, "name": "shape", "alias": "shape", "type": "esriFieldTypeGeometry" }, { "domain": null, "name": "year", "length": 8, "alias": "year", "type": "esriFieldTypeDate" }, { "domain": null, "name": "season", "length": 12, "alias": "season", "type": "esriFieldTypeString" }, { "domain": null, "name": "stdtime", "length": 8, "alias": "Standard Time", "type": "esriFieldTypeDate" }, { "domain": null, "name": "dimensions", "length": 50, "alias": "Dimensions", "type": "esriFieldTypeString" }, { "domain": null, "name": "variable", "length": 50, "alias": "Variable", "type": "esriFieldTypeString" } ], "defaultVariable": "", "allowAnalysis": true, "hasRasterAttributeTable": false, "useStandardizedQueries": true, "description": "

Direct Download (Raster Data Gateway)<\/span><\/span><\/a><\/p>
Objective:<\/span><\/span> <\/span><\/span>Characterize climate departures for the <\/span><\/span>most recent 6 years as compared with the historical record,<\/span><\/span> identifying locations where <\/span><\/span>recent conditions indicate a significant change from the historical baseline<\/span><\/span>.<\/span><\/span><\/p>
Data:<\/span><\/span> <\/span><\/span>Gridded coverages based on PRISM climate data were used to calculate departure of precipitation in winter (Dec. \u2013 Feb.), spring (Mar. \u2013 May), summer (Jun. \u2013 Aug.), and fall (Sep. \u2013 Nov.) for the recent 5-year period as compared with previous years in the historical record. Data were summarized at the Subsection scale of the USFS National Hierarchy of Ecological Units and applied to the corresponding landscape (LTA). There is a one-year lag between the most recent available PRISM data and the TCA Assessment year, for example, the 2024 TCA Assessment used 2019-2023 data for the most recent time period, and 1900-2018 data for the historical baseline.<\/span><\/span><\/p>
Data Format:<\/span><\/span> Raster data are continuous; <\/span><\/span><\/p>
Units: <\/span><\/span>Percent change<\/span><\/span><\/p>
Spatial Resolution:<\/span><\/span> 4000m (4km)<\/span><\/span><\/p>
Source data:<\/span><\/span> <\/span><\/span>PRISM<\/span><\/span><\/a><\/p>
Additional Resources:<\/span><\/span><\/p>
Details on <\/span><\/span>Method Changes and Source Data Versions<\/span><\/span><\/a><\/p>
Overview of the Terrestrial Condition Assessment: <\/span><\/span>TCA Hubsite<\/span><\/span><\/a> or <\/span><\/span>Landfire Office Hour Presentation<\/span><\/span><\/a><\/p>
Explore the results of the most recent assessment: <\/span><\/span>TCA Interactive Data Viewer<\/span><\/span><\/a><\/p>
Learn more about the TCA KPI: <\/span><\/span>TCA Dashboard<\/span><\/span><\/a><\/p>
*if you have trouble viewing the Dashboard, please submit a <\/span><\/span>Tableau Viewer Access Request<\/span><\/span><\/a><\/p><\/div><\/div><\/div>", "pixelType": "F32", "meanPixelSize": 4000, "exportTilesAllowed": false, "editFieldsInfo": null, "rasterTypeInfos": [{ "help": "", "name": "Raster Dataset", "description": "Supports all ArcGIS Raster Datasets" }], "defaultResamplingMethod": "Bilinear", "itemAccess": false, "minScale": 0, "serviceProperties": "ByAttribute<\/MosaicMethod>First<\/MosaicOperator>false<\/SortAscending><\/LockImageID>StdTime<\/TileOrderField>0<\/TileOrderBase>600.000000<\/AvgImageSpacingX>300.000000<\/AvgImageSpacingY>0.0<\/ViewPointX>0.0<\/ViewPointY>0.0<\/ViewPointDefShiftX>0.0<\/ViewPointDefShiftY>None<\/CompressionMethod>75<\/CompressionQuality>0.010000<\/CompressionTolerance>Bilinear<\/SamplingMethod><\/ImageServiceProperties><\/ImageServer>", "advancedQueryCapabilities": { "supportsStatistics": true, "supportsSqlExpression": true, "supportsOrderBy": true, "useStandardizedQueries": true, "supportsPagination": true, "supportsDistinct": true }, "serviceItemId": "47078e74b1fa432484ca4ccc0d46e1b4", "capabilities": "Image,Metadata,Catalog,Mensuration", "maxScale": 0, "stdvValues": [21.637070045417065], "allowedFields": "name,minps,maxps,lowps,highps,year,season,stdtime,dimensions,variable", "minPixelSize": 0, "sortAscending": false, "maxMosaicImageCount": 20, "inspectionCapabilities": "", "maxPixelSize": 0, "uncompressedSize": 10568080, "serviceDescription": "