{ "extent": { "ymin": 6378592.5477000028, "xmin": -20024421.870299999, "ymax": 11691622.547700003, "xmax": -13479561.870299999, "spatialReference": { "latestWkid": 3857, "wkid": 102100 } }, "blockWidth": 2048, "mosaicOperator": "First", "serviceSourceType": "esriImageServiceSourceTypeMosaicDataset", "hasMultidimensions": true, "maxImageWidth": 100000, "maxRecordCount": 1000, "meanValues": [1], "hasColormap": false, "compressionType": "None", "defaultCompressionQuality": 75, "maxValues": [1], "hasHistograms": true, "datasetFormat": "AMD", "maxImageHeight": 100000, "sortField": "StdTime", "bandNames": ["Band_1"], "spatialReference": { "latestWkid": 3857, "wkid": 102100 }, "fullExtent": { "ymin": 6378592.5477000028, "xmin": -20024421.870299999, "ymax": 11691622.547700003, "xmax": -13479561.870299999, "spatialReference": { "latestWkid": 3857, "wkid": 102100 } }, "bandCount": 1, "rasterFunctionInfos": [ { "help": "", "name": "Wildfire Hazard Potential HVH", "description": "Ind 07 Wildfire Hazard Potential HVH" }, { "help": "", "name": "None", "description": "Make a Raster or Raster Dataset into a Function Raster Dataset." }, { "help": "", "name": "HVH", "description": "A raster function template." } ], "supportsStatistics": true, "sortableFields": "minps,maxps,lowps,highps,centerx,centery,zorder,st_area(shape),st_perimeter(shape),year,StdTime", "minValues": [1], "allowRasterFunction": true, "allowComputeTiePoints": false, "serviceDataType": "esriImageServiceDataTypeGeneric", "supportsAdvancedQueries": true, "maxDownloadSizeLimit": 2048, "currentVersion": 12, "sortValue": "0", "timeInfo": { "startTimeField": "StdTime", "endTimeField": "StdTime", "defaultTimeIntervalUnits": "esriTimeUnitsDays", "timeExtent": [ 1609459200000, 1704067200000 ], "timeReference": null, "defaultTimeInterval": 365 }, "objectIdField": "objectid", "blockHeight": 256, "initialExtent": { "ymin": 6378592.5477000028, "xmin": -20024421.870299999, "ymax": 11691622.547700003, "xmax": -13479561.870299999, "spatialReference": { "latestWkid": 3857, "wkid": 102100 } }, "pixelSizeX": 30, "pixelSizeY": 30, "defaultMosaicMethod": "ByAttribute", "name": "Ecosystems/USFS_EDW_TCA_AK_WildfireHazardPotential_HVH", "allowedMosaicMethods": "ByAttribute,NorthWest,Center,LockRaster,Nadir,Viewpoint,Seamline,None", "maxDownloadImageCount": 20, "fields": [ { "domain": null, "name": "objectid", "alias": "objectid", "type": "esriFieldTypeOID" }, { "domain": null, "name": "name", "length": 200, "alias": "name", "type": "esriFieldTypeString" }, { "domain": null, "name": "minps", "alias": "minps", "type": "esriFieldTypeDouble" }, { "domain": null, "name": "maxps", "alias": "maxps", "type": "esriFieldTypeDouble" }, { "domain": null, "name": "lowps", "alias": "lowps", "type": "esriFieldTypeDouble" }, { "domain": null, "name": "highps", "alias": "highps", "type": "esriFieldTypeDouble" }, { "domain": { "splitPolicy": "esriSPTDefaultValue", "name": "MosaicCatalogItemCategoryDomain", "description": "Catalog item categories.", "type": "codedValue", "codedValues": [ { "code": 0, "name": "Unknown" }, { "code": 1, "name": "Primary" }, { "code": 2, "name": "Overview" }, { "code": 3, "name": "Unprocessed Overview" }, { "code": 4, "name": "Partial Overview" }, { "code": 5, "name": "Inactive" }, { "code": 253, "name": "Uploaded" }, { "code": 254, "name": "Incomplete" }, { "code": 255, "name": "Custom" } ], "mergePolicy": "esriMPTDefaultValue" }, "name": "category", "alias": "category", "type": "esriFieldTypeInteger" }, { "domain": null, "name": "tag", "length": 100, "alias": "tag", "type": "esriFieldTypeString" }, { "domain": null, "name": "groupname", "length": 100, "alias": "groupname", "type": "esriFieldTypeString" }, { "domain": null, "name": "productname", "length": 100, "alias": "productname", "type": "esriFieldTypeString" }, { "domain": null, "name": "centerx", "alias": "centerx", "type": "esriFieldTypeDouble" }, { "domain": null, "name": "centery", "alias": "centery", "type": "esriFieldTypeDouble" }, { "domain": null, "name": "zorder", "alias": "zorder", "type": "esriFieldTypeInteger" }, { "domain": null, "name": "shape", "alias": "shape", "type": "esriFieldTypeGeometry" }, { "domain": null, "name": "year", "length": 8, "alias": "year", "type": "esriFieldTypeDate" } ], "defaultVariable": "", "allowAnalysis": true, "hasRasterAttributeTable": false, "useStandardizedQueries": true, "description": "", "pixelType": "U4", "meanPixelSize": 30, "exportTilesAllowed": false, "editFieldsInfo": null, "rasterTypeInfos": [{ "help": "", "name": "Raster Dataset", "description": "Supports all ArcGIS Raster Datasets" }], "defaultResamplingMethod": "Nearest", "itemAccess": false, "minScale": 0, "serviceProperties": "ByAttribute<\/MosaicMethod>First<\/MosaicOperator>false<\/SortAscending><\/LockImageID>StdTime<\/TileOrderField>0<\/TileOrderBase>600.000000<\/AvgImageSpacingX>300.000000<\/AvgImageSpacingY>0.0<\/ViewPointX>0.0<\/ViewPointY>0.0<\/ViewPointDefShiftX>0.0<\/ViewPointDefShiftY>None<\/CompressionMethod>75<\/CompressionQuality>0.010000<\/CompressionTolerance>Nearest<\/SamplingMethod><\/ImageServiceProperties><\/ImageServer>", "advancedQueryCapabilities": { "supportsStatistics": true, "supportsSqlExpression": true, "supportsOrderBy": true, "useStandardizedQueries": true, "supportsPagination": true, "supportsDistinct": true }, "serviceItemId": "cf6c37c30358452a8e126302377f8888", "capabilities": "Image,Metadata,Catalog,Mensuration", "maxScale": 0, "stdvValues": [0], "allowedFields": "name,minps,maxps,lowps,highps,tag,groupname,productname,centerx,centery,zorder,year", "minPixelSize": 0, "sortAscending": false, "maxMosaicImageCount": 20, "inspectionCapabilities": "", "maxPixelSize": 0, "uncompressedSize": 19318354181, "serviceDescription": "

Direct Download (Raster Data Gateway)<\/span><\/span><\/a><\/p>
Objective:<\/span><\/span> Identify areas where significant fuel buildup has occurred due to fire suppression, extensive mortality due to natural or anthropogenic causes, or for other reasons.<\/span><\/span><\/p>
Data:<\/span><\/span> The Wildland Hazard Potential (WHP) represents areas of significant fuel buildup. It is an index that quantifies the relative potential for wildfire that may be difficult to manage and is used as a measure to help prioritize where fuel treatments may be needed. The WHP is a raster geospatial product produced by the USFS Fire Modeling Institute in the Fire, Fuel, and Smoke Program. Higher values have a higher probability of high-intensity fire, with torching, crowning, and other forms of extreme fire behavior. Data used to represent this metric are areas classified as \u201chigh\u201d or \u201cvery high\u201d risk. A mask for non-burnable areas is applied to focus on ecosystems with vegetation that can be modified through management to reduce hazard.<\/span><\/span><\/p>
Data Format:<\/span><\/span> Raster data are binary: (1) \u201chigh\u201d, or \u201cvery high\u201d risk or (0) other<\/span><\/span><\/p>
Spatial Resolution:<\/span><\/span> 30m (*data for 2023 assessment is 270m)<\/span><\/span><\/p>
Source data:<\/span><\/span> <\/span><\/span>The WHP data are part of the Wildfire Risk to Communities suite of data along with several other data products. More information on the data used for the 2024 assessment can be found <\/span><\/span>here<\/span><\/span><\/a>. Links for data used in previous year TCA assessments: <\/span><\/span>2020-2022<\/span><\/span><\/a> , <\/span><\/span>2023<\/span><\/span><\/a>.<\/span><\/span><\/p>
Additional Resources:<\/span><\/span><\/p>
Details on <\/span><\/span>Method Changes and Source Data Versions<\/span><\/span><\/a><\/p>
Overview of the Terrestrial Condition Assessment: <\/span><\/span>TCA Hubsite<\/span><\/span><\/a> or <\/span><\/span>Landfire Office Hour Presentation<\/span><\/span><\/a><\/p>
Explore the results of the most recent assessment: <\/span><\/span>TCA Interactive Data Viewer<\/span><\/span><\/a><\/p>
Learn more about the TCA KPI: <\/span><\/span>TCA Dashboard<\/span><\/span><\/a><\/p>
*if you have trouble viewing the Dashboard, please submit a <\/span><\/span>Tableau Viewer Access Request<\/span><\/span><\/a><\/p><\/div><\/div><\/div>", "allowCopy": true, "copyrightText": "USFS, USDA, GO", "mensurationCapabilities": "Basic", "ownershipBasedAccessControlForRasters": null }