{ "extent": { "ymin": 7254111.6622999981, "xmin": -16921843.436999999, "ymax": 8680111.6622999981, "xmax": -14246143.436999999, "spatialReference": { "latestWkid": 3857, "wkid": 102100 } }, "blockWidth": 2048, "mosaicOperator": "First", "serviceSourceType": "esriImageServiceSourceTypeMosaicDataset", "hasMultidimensions": true, "maxImageWidth": 100000, "maxRecordCount": 1000, "meanValues": [1.7049253200568999], "hasColormap": false, "compressionType": "None", "defaultCompressionQuality": 75, "maxValues": [4], "hasHistograms": true, "datasetFormat": "AMD", "maxImageHeight": 100000, "sortField": "StdTime", "bandNames": ["Band_1"], "spatialReference": { "latestWkid": 3857, "wkid": 102100 }, "fullExtent": { "ymin": 7254111.6622999981, "xmin": -16921843.436999999, "ymax": 8680111.6622999981, "xmax": -14246143.436999999, "spatialReference": { "latestWkid": 3857, "wkid": 102100 } }, "bandCount": 1, "rasterFunctionInfos": [ { "help": "", "name": "RoadDensity", "description": "TCA Ind03 Road Density" }, { "help": "", "name": "None", "description": "Make a Raster or Raster Dataset into a Function Raster Dataset." }, { "help": "", "name": "Roads", "description": "A raster function template." } ], "supportsStatistics": true, "sortableFields": "minps,maxps,lowps,highps,centerx,centery,zorder,year,stdtime,st_area(shape),st_perimeter(shape)", "minValues": [1], "allowRasterFunction": true, "allowComputeTiePoints": false, "serviceDataType": "esriImageServiceDataTypeGeneric", "supportsAdvancedQueries": true, "maxDownloadSizeLimit": 2048, "currentVersion": 12, "sortValue": "0", "timeInfo": { "startTimeField": "StdTime", "endTimeField": "StdTime", "defaultTimeIntervalUnits": "esriTimeUnitsYears", "timeExtent": [ 1577836800000, 1735689600000 ], "timeReference": null, "defaultTimeInterval": 1 }, "objectIdField": "objectid", "blockHeight": 256, "initialExtent": { "ymin": 7254111.6622999981, "xmin": -16921843.436999999, "ymax": 8680111.6622999981, "xmax": -14246143.436999999, "spatialReference": { "latestWkid": 3857, "wkid": 102100 } }, "pixelSizeX": 10, "pixelSizeY": 10, "defaultMosaicMethod": "ByAttribute", "name": "Ecosystems/USFS_EDW_TCA_AK_RoadDensity", "allowedMosaicMethods": "ByAttribute,NorthWest,Center,LockRaster,Nadir,Viewpoint,Seamline,None", "maxDownloadImageCount": 20, "fields": [ { "domain": null, "name": "objectid", "alias": "objectid", "type": "esriFieldTypeOID" }, { "domain": null, "name": "name", "length": 200, "alias": "name", "type": "esriFieldTypeString" }, { "domain": null, "name": "minps", "alias": "minps", "type": "esriFieldTypeDouble" }, { "domain": null, "name": "maxps", "alias": "maxps", "type": "esriFieldTypeDouble" }, { "domain": null, "name": "lowps", "alias": "lowps", "type": "esriFieldTypeDouble" }, { "domain": null, "name": "highps", "alias": "highps", "type": "esriFieldTypeDouble" }, { "domain": { "splitPolicy": "esriSPTDefaultValue", "name": "MosaicCatalogItemCategoryDomain", "description": "Catalog item categories.", "type": "codedValue", "codedValues": [ { "code": 0, "name": "Unknown" }, { "code": 1, "name": "Primary" }, { "code": 2, "name": "Overview" }, { "code": 3, "name": "Unprocessed Overview" }, { "code": 4, "name": "Partial Overview" }, { "code": 5, "name": "Inactive" }, { "code": 253, "name": "Uploaded" }, { "code": 254, "name": "Incomplete" }, { "code": 255, "name": "Custom" } ], "mergePolicy": "esriMPTDefaultValue" }, "name": "category", "alias": "category", "type": "esriFieldTypeInteger" }, { "domain": null, "name": "shape", "alias": "shape", "type": "esriFieldTypeGeometry" }, { "domain": null, "name": "feature", "length": 24, "alias": "feature", "type": "esriFieldTypeString" }, { "domain": null, "name": "year", "length": 8, "alias": "year", "type": "esriFieldTypeDate" }, { "domain": null, "name": "stdtime", "length": 8, "alias": "Standard Time", "type": "esriFieldTypeDate" }, { "domain": null, "name": "dimensions", "length": 50, "alias": "Dimensions", "type": "esriFieldTypeString" }, { "domain": null, "name": "variable", "length": 50, "alias": "Variable", "type": "esriFieldTypeString" } ], "defaultVariable": "", "allowAnalysis": true, "hasRasterAttributeTable": false, "useStandardizedQueries": true, "description": "", "pixelType": "U4", "meanPixelSize": 10, "exportTilesAllowed": false, "editFieldsInfo": null, "rasterTypeInfos": [{ "help": "", "name": "Raster Dataset", "description": "Supports all ArcGIS Raster Datasets" }], "defaultResamplingMethod": "Majority", "itemAccess": false, "minScale": 0, "serviceProperties": "ByAttribute<\/MosaicMethod>First<\/MosaicOperator>false<\/SortAscending><\/LockImageID>StdTime<\/TileOrderField>0<\/TileOrderBase>600.000000<\/AvgImageSpacingX>300.000000<\/AvgImageSpacingY>0.0<\/ViewPointX>0.0<\/ViewPointY>0.0<\/ViewPointDefShiftX>0.0<\/ViewPointDefShiftY>None<\/CompressionMethod>75<\/CompressionQuality>0.010000<\/CompressionTolerance>Majority<\/SamplingMethod><\/ImageServiceProperties><\/ImageServer>", "advancedQueryCapabilities": { "supportsStatistics": true, "supportsSqlExpression": true, "supportsOrderBy": true, "useStandardizedQueries": true, "supportsPagination": true, "supportsDistinct": true }, "serviceItemId": "67cb4ec81e8e4401b911e5239339f0a4", "capabilities": "Image,Metadata,Catalog,Mensuration", "maxScale": 0, "stdvValues": [0.90902272819550489], "allowedFields": "name,minps,maxps,lowps,highps,feature,year,stdtime,dimensions,variable", "minPixelSize": 0, "sortAscending": false, "maxMosaicImageCount": 20, "inspectionCapabilities": "", "maxPixelSize": 0, "uncompressedSize": 19077741000, "serviceDescription": "

Direct Download (Raster Data Gateway)<\/SPAN><\/SPAN><\/A><\/P>
Objective:<\/SPAN><\/SPAN> Identify locations where roads are present at a density that impacts the quality of wildlife habitat and fragments the landscape.<\/SPAN><\/SPAN><\/P>
Data:<\/SPAN><\/SPAN> A national roads vector dataset has been acquired from the USGS National Transportation Dataset. The data were reattributed to represent three classes: (1) Unimproved, (2) Paved, (3) Light Duty roads. The new classes correspond to the following classes from the National Transportation Dataset: <\/SPAN><\/SPAN><\/P>
  1. Unimproved: Four-wheel drive roads. <\/SPAN><\/SPAN><\/P><\/LI>
  2. Paved: Controlled access highway, Secondary Highway or Major Connecting Road, Ramps <\/SPAN><\/SPAN><\/P><\/LI>
  3. Light Duty: Local Connecting Roads, Local Roads <\/SPAN><\/SPAN><\/P><\/LI><\/OL>
    Data Format:<\/SPAN><\/SPAN> Polylines were converted to a raster for each TCA assessment year. The value at a pixel corresponds to the class of road at that location. Values differ slightly between the years due to data improvements and updated information from state and local sources:<\/SPAN><\/SPAN><\/P>
    2025: 1- Light Duty, 2- Paved, 3- Unimproved, 4- Other<\/SPAN><\/SPAN><\/P>
    2024: 1- Light Duty, 2- Paved, 3- Unimproved, 4- Other<\/SPAN><\/P>
    2023: 1- Light Duty, 2- Paved, 3- Unimproved, 4- Other<\/SPAN><\/SPAN><\/P>
    2022: 1- Light Duty, 2- Paved, 3- Unimproved<\/SPAN><\/SPAN><\/P>
    2021: 1- Light Duty, 2- Paved, 3- Unimproved, 4- Other<\/SPAN><\/SPAN><\/P>
    2020: 1- Light Duty, 2- Paved, 3- Unimproved, 4- Other<\/SPAN><\/SPAN><\/P>
    Spatial Resolution:<\/SPAN><\/SPAN> 10m<\/SPAN><\/SPAN><\/P>
    Source data:<\/SPAN><\/SPAN> <\/SPAN><\/SPAN>USGS National Transportation Dataset<\/SPAN><\/SPAN><\/A><\/P>
    Additional Resources:<\/SPAN><\/SPAN><\/P>
    Details on <\/SPAN><\/SPAN>Method Changes and Source Data Versions<\/SPAN><\/SPAN><\/A><\/P>
    Overview of the Terrestrial Condition Assessment: <\/SPAN><\/SPAN>TCA Hubsite<\/SPAN><\/SPAN><\/A> or <\/SPAN><\/SPAN>Landfire Office Hour Presentation<\/SPAN><\/SPAN><\/A><\/P>
    Explore the results of the most recent assessment: <\/SPAN><\/SPAN>TCA Interactive Data Viewer<\/SPAN><\/SPAN><\/A><\/P>
    Learn more about the TCA KPI: <\/SPAN><\/SPAN>TCA Dashboard<\/SPAN><\/SPAN><\/A><\/P>
    *if you have trouble viewing the Dashboard, please submit a <\/SPAN><\/SPAN>Tableau Viewer Access Request<\/SPAN><\/SPAN><\/A><\/P><\/DIV><\/DIV><\/DIV>", "allowCopy": true, "copyrightText": "USFS, USDA, GO, USGS", "mensurationCapabilities": "Basic", "ownershipBasedAccessControlForRasters": null }