{ "extent": { "ymin": 6378592.5477000028, "xmin": -20024421.870299999, "ymax": 11691622.547700003, "xmax": -13479561.870299999, "spatialReference": { "latestWkid": 3857, "wkid": 102100 } }, "blockWidth": 2048, "mosaicOperator": "First", "serviceSourceType": "esriImageServiceSourceTypeMosaicDataset", "hasMultidimensions": true, "maxImageWidth": 100000, "maxRecordCount": 1000, "meanValues": [1.3195956074701247], "hasColormap": false, "compressionType": "None", "defaultCompressionQuality": 75, "maxValues": [3], "hasHistograms": true, "datasetFormat": "AMD", "maxImageHeight": 100000, "sortField": "StdTime", "bandNames": ["Band_1"], "spatialReference": { "latestWkid": 3857, "wkid": 102100 }, "fullExtent": { "ymin": 6378592.5477000028, "xmin": -20024421.870299999, "ymax": 11691622.547700003, "xmax": -13479561.870299999, "spatialReference": { "latestWkid": 3857, "wkid": 102100 } }, "bandCount": 1, "rasterFunctionInfos": [ { "help": "", "name": "Fire Deficit Categories", "description": "TCA Ind 10 Fire Deficit Categories" }, { "help": "", "name": "None", "description": "Make a Raster or Raster Dataset into a Function Raster Dataset." }, { "help": "", "name": "Fire Deficit", "description": "A raster function template." } ], "supportsStatistics": true, "sortableFields": "minps,maxps,lowps,highps,centerx,centery,zorder,year,beginyear,endyear,stdtime,st_area(shape),st_perimeter(shape)", "minValues": [1], "allowRasterFunction": true, "allowComputeTiePoints": false, "serviceDataType": "esriImageServiceDataTypeGeneric", "supportsAdvancedQueries": true, "maxDownloadSizeLimit": 2048, "currentVersion": 12, "sortValue": "0", "timeInfo": { "startTimeField": "StdTime", "endTimeField": "StdTime", "defaultTimeIntervalUnits": "esriTimeUnitsYears", "timeExtent": [ 1577836800000, 1735689600000 ], "timeReference": null, "defaultTimeInterval": 1 }, "objectIdField": "objectid", "blockHeight": 256, "initialExtent": { "ymin": 6378592.5477000028, "xmin": -20024421.870299999, "ymax": 11691622.547700003, "xmax": -13479561.870299999, "spatialReference": { "latestWkid": 3857, "wkid": 102100 } }, "pixelSizeX": 30, "pixelSizeY": 30, "defaultMosaicMethod": "ByAttribute", "name": "Ecosystems/USFS_EDW_TCA_AK_FireDeficit", "allowedMosaicMethods": "ByAttribute,NorthWest,Center,LockRaster,Nadir,Viewpoint,Seamline,None", "maxDownloadImageCount": 20, "fields": [ { "domain": null, "name": "objectid", "alias": "objectid", "type": "esriFieldTypeOID" }, { "domain": null, "name": "name", "length": 200, "alias": "name", "type": "esriFieldTypeString" }, { "domain": null, "name": "minps", "alias": "minps", "type": "esriFieldTypeDouble" }, { "domain": null, "name": "maxps", "alias": "maxps", "type": "esriFieldTypeDouble" }, { "domain": null, "name": "lowps", "alias": "lowps", "type": "esriFieldTypeDouble" }, { "domain": null, "name": "highps", "alias": "highps", "type": "esriFieldTypeDouble" }, { "domain": { "splitPolicy": "esriSPTDefaultValue", "name": "MosaicCatalogItemCategoryDomain", "description": "Catalog item categories.", "type": "codedValue", "codedValues": [ { "code": 0, "name": "Unknown" }, { "code": 1, "name": "Primary" }, { "code": 2, "name": "Overview" }, { "code": 3, "name": "Unprocessed Overview" }, { "code": 4, "name": "Partial Overview" }, { "code": 5, "name": "Inactive" }, { "code": 253, "name": "Uploaded" }, { "code": 254, "name": "Incomplete" }, { "code": 255, "name": "Custom" } ], "mergePolicy": "esriMPTDefaultValue" }, "name": "category", "alias": "category", "type": "esriFieldTypeInteger" }, { "domain": null, "name": "shape", "alias": "shape", "type": "esriFieldTypeGeometry" }, { "domain": null, "name": "condition", "length": 24, "alias": "condition", "type": "esriFieldTypeString" }, { "domain": null, "name": "year", "length": 8, "alias": "year", "type": "esriFieldTypeDate" }, { "domain": null, "name": "beginyear", "alias": "beginyear", "type": "esriFieldTypeSmallInteger" }, { "domain": null, "name": "endyear", "alias": "endyear", "type": "esriFieldTypeSmallInteger" }, { "domain": null, "name": "stdtime", "length": 8, "alias": "Standard Time", "type": "esriFieldTypeDate" }, { "domain": null, "name": "dimensions", "length": 50, "alias": "Dimensions", "type": "esriFieldTypeString" }, { "domain": null, "name": "variable", "length": 50, "alias": "Variable", "type": "esriFieldTypeString" } ], "defaultVariable": "", "allowAnalysis": true, "hasRasterAttributeTable": false, "useStandardizedQueries": true, "description": "", "pixelType": "U4", "meanPixelSize": 30, "exportTilesAllowed": false, "editFieldsInfo": null, "rasterTypeInfos": [{ "help": "", "name": "Raster Dataset", "description": "Supports all ArcGIS Raster Datasets" }], "defaultResamplingMethod": "Nearest", "itemAccess": false, "minScale": 0, "serviceProperties": "ByAttribute<\/MosaicMethod>First<\/MosaicOperator>false<\/SortAscending><\/LockImageID>StdTime<\/TileOrderField>0<\/TileOrderBase>600.000000<\/AvgImageSpacingX>300.000000<\/AvgImageSpacingY>0.0<\/ViewPointX>0.0<\/ViewPointY>0.0<\/ViewPointDefShiftX>0.0<\/ViewPointDefShiftY>None<\/CompressionMethod>75<\/CompressionQuality>0.010000<\/CompressionTolerance>Nearest<\/SamplingMethod><\/ImageServiceProperties><\/ImageServer>", "advancedQueryCapabilities": { "supportsStatistics": true, "supportsSqlExpression": true, "supportsOrderBy": true, "useStandardizedQueries": true, "supportsPagination": true, "supportsDistinct": true }, "serviceItemId": "0a903adc3a9045119bf91d03d644869c", "capabilities": "Image,Metadata,Catalog,Mensuration", "maxScale": 0, "stdvValues": [0.49130444911317667], "allowedFields": "name,minps,maxps,lowps,highps,condition,year,beginyear,endyear,stdtime,dimensions,variable", "minPixelSize": 0, "sortAscending": false, "maxMosaicImageCount": 20, "inspectionCapabilities": "", "maxPixelSize": 0, "uncompressedSize": 19318354181, "serviceDescription": "

Direct Download (Raster Data Gateway)<\/SPAN><\/SPAN><\/A><\/P>
Objective:<\/SPAN><\/SPAN> Identify ecosystems that have a significant proportion of their area burning less frequently than<\/SPAN><\/SPAN> what occurred under historic<\/SPAN><\/SPAN> fire regimes. Often, missed fire cycles were due to human factors, principally fire suppression since <\/SPAN><\/SPAN>early in <\/SPAN><\/SPAN>the 20<\/SPAN><\/SPAN>th<\/SPAN><\/SPAN> Century.<\/SPAN><\/SPAN><\/P>
Data:<\/SPAN><\/SPAN> <\/SPAN><\/SPAN>The area of a landscape with a deficient fire frequency was estimated by comparing observed fire frequencies to historical mean fire return intervals. Observed fire frequencies were calculated by determining the frequency of fire for each pixel based on raster data of observed fires from the Monitoring Trends in Burn Severity (MTBS) project. Areas in the unburned to low severity class were removed from this analysis. The ratio of observed to historical fire frequencies (as determined by Landfire MFRI) was used to determine pixels that are burning less frequently than expected. These pixels were then used to determine the percent area of the landscape deficient in fire. For areas with fire return intervals longer than the remote sensing record, the history of effective fire suppression was used to assume not enough fire occurred back to the implementation of widespread suppression starting in the 1920s through 1930s with policies such as the 10 AM rule. Prior to the 1920s, it is assumed fire return intervals were closer to the historic range of variation, although likely reduced due to the constrained role of Indigenous stewardship. Beginning with the 2022 TCA Assessment, areas highly modified by anthropogenic activities (i.e., those with developed landcovers or agricultural landcovers of pasture and crop cultivation) and areas with a landcover that does not typically burn (i.e., barren or ice) were not included in the calculation. There is a 2 year lag between the most recent MTBS data and the TCA Assessment year (i.e. in the 2024 TCA Assessment, available MTBS data were from 1984-2022). To reduce this lag to 1 year, we compute the Composite Burn Index (CBI) for the year prior to the current assessment year using fire perimeters from National Interagency Fire Center (NIFC) with methods adapted from Parks et al. 2019. The CBI methods were added for the 2021 assessment. Landfire versions used for MFRI and the associated Alaska TCA Assessment are: Landfire 2010 (TCA Assessment 2020-2022), Landfire 2014 (TCA Assessments 2023 and 2024), and Landfire 2023 (TCA Assessment 2025). <\/SPAN><\/P>
Format:<\/SPAN><\/SPAN> <\/SPAN><\/SPAN>Raster data are ordinal: (1) Deficient (2) Sufficient (3) Excessive.<\/SPAN><\/SPAN><\/P>
Resolution:<\/SPAN><\/SPAN> <\/SPAN><\/SPAN>90m (2023 - 2025 assessments), 30m (2020-2022 assessments).<\/SPAN><\/P>
Source: <\/SPAN><\/SPAN>MTBS fire perimeters<\/SPAN><\/SPAN><\/A>, <\/SPAN><\/SPAN>expected fire return interval<\/SPAN><\/SPAN><\/A> , <\/SPAN><\/SPAN>CBI methods<\/SPAN><\/SPAN><\/A>, <\/SPAN><\/SPAN>National Interagency Fire Center Perimeters<\/SPAN><\/SPAN><\/A> (for CBI)<\/SPAN><\/SPAN><\/P>
Additional Resources:<\/SPAN><\/SPAN><\/P>
Details on <\/SPAN><\/SPAN>Method Changes and Source Data Versions<\/SPAN><\/SPAN><\/A><\/P>
Overview of the Terrestrial Condition Assessment: <\/SPAN><\/SPAN>TCA Hubsite<\/SPAN><\/SPAN><\/A> or <\/SPAN><\/SPAN>Landfire Office Hour Presentation<\/SPAN><\/SPAN><\/A><\/P>
Explore the results of the most recent assessment: <\/SPAN><\/SPAN>TCA Interactive Data Viewer<\/SPAN><\/SPAN><\/A><\/P>
Learn more about the TCA KPI: <\/SPAN><\/SPAN>TCA Dashboard<\/SPAN><\/SPAN><\/A><\/P>
*if you have trouble viewing the Dashboard, please submit a <\/SPAN><\/SPAN>Tableau Viewer Access Request<\/SPAN><\/SPAN><\/A><\/P>
<\/P><\/DIV><\/DIV><\/DIV>", "allowCopy": true, "copyrightText": "Parks et al. 2019 (https://www.mdpi.com/2072-4292/11/14/1735); NIFC (https://data-nifc.opendata.arcgis.com/datasets/nifc::wfigs-interagency-fire-perimeters/about); https://mtbs.gov/; https://www.landfire.gov/; USDA - GEO; USDA - USFS \u2013 GO", "mensurationCapabilities": "Basic", "ownershipBasedAccessControlForRasters": null }