{ "extent": { "ymin": 6378622.5477000028, "xmin": -20024421.870299999, "ymax": 11691622.547700003, "xmax": -13479321.870299999, "spatialReference": { "latestWkid": 3857, "wkid": 102100 } }, "blockWidth": 2048, "mosaicOperator": "First", "serviceSourceType": "esriImageServiceSourceTypeMosaicDataset", "hasMultidimensions": true, "maxImageWidth": 100000, "maxRecordCount": 1000, "meanValues": [25.632935342852523], "hasColormap": false, "compressionType": "None", "defaultCompressionQuality": 75, "maxValues": [357], "hasHistograms": true, "datasetFormat": "AMD", "maxImageHeight": 100000, "sortField": "StdTime", "bandNames": ["Band_1"], "spatialReference": { "latestWkid": 3857, "wkid": 102100 }, "fullExtent": { "ymin": 6378622.5477000028, "xmin": -20024421.870299999, "ymax": 11691622.547700003, "xmax": -13479321.870299999, "spatialReference": { "latestWkid": 3857, "wkid": 102100 } }, "bandCount": 1, "rasterFunctionInfos": [ { "help": "", "name": "Drought", "description": "A raster function template." }, { "help": "", "name": "None", "description": "Make a Raster or Raster Dataset into a Function Raster Dataset." } ], "supportsStatistics": true, "sortableFields": "minps,maxps,lowps,highps,centerx,centery,zorder,st_area(shape),st_perimeter(shape),year,StdTime", "minValues": [0], "allowRasterFunction": true, "allowComputeTiePoints": false, "serviceDataType": "esriImageServiceDataTypeScientific", "supportsAdvancedQueries": true, "maxDownloadSizeLimit": 2048, "currentVersion": 12, "sortValue": "0", "timeInfo": { "startTimeField": "StdTime", "endTimeField": "StdTime", "defaultTimeIntervalUnits": "esriTimeUnitsYears", "timeExtent": [ 1577836800000, 1735689600000 ], "timeReference": null, "defaultTimeInterval": 1 }, "objectIdField": "objectid", "blockHeight": 256, "initialExtent": { "ymin": 6378622.5477000028, "xmin": -20024421.870299999, "ymax": 11691622.547700003, "xmax": -13479321.870299999, "spatialReference": { "latestWkid": 3857, "wkid": 102100 } }, "pixelSizeX": 300, "pixelSizeY": 300, "defaultMosaicMethod": "ByAttribute", "name": "Ecosystems/USFS_EDW_TCA_AK_Drought", "allowedMosaicMethods": "ByAttribute,NorthWest,Center,LockRaster,Nadir,Viewpoint,Seamline,None", "maxDownloadImageCount": 20, "fields": [ { "domain": null, "name": "objectid", "alias": "objectid", "type": "esriFieldTypeOID" }, { "domain": null, "name": "name", "length": 200, "alias": "name", "type": "esriFieldTypeString" }, { "domain": null, "name": "minps", "alias": "minps", "type": "esriFieldTypeDouble" }, { "domain": null, "name": "maxps", "alias": "maxps", "type": "esriFieldTypeDouble" }, { "domain": null, "name": "lowps", "alias": "lowps", "type": "esriFieldTypeDouble" }, { "domain": null, "name": "highps", "alias": "highps", "type": "esriFieldTypeDouble" }, { "domain": { "splitPolicy": "esriSPTDefaultValue", "name": "MosaicCatalogItemCategoryDomain", "description": "Catalog item categories.", "type": "codedValue", "codedValues": [ { "code": 0, "name": "Unknown" }, { "code": 1, "name": "Primary" }, { "code": 2, "name": "Overview" }, { "code": 3, "name": "Unprocessed Overview" }, { "code": 4, "name": "Partial Overview" }, { "code": 5, "name": "Inactive" }, { "code": 253, "name": "Uploaded" }, { "code": 254, "name": "Incomplete" }, { "code": 255, "name": "Custom" } ], "mergePolicy": "esriMPTDefaultValue" }, "name": "category", "alias": "category", "type": "esriFieldTypeInteger" }, { "domain": null, "name": "shape", "alias": "shape", "type": "esriFieldTypeGeometry" }, { "domain": null, "name": "condition", "length": 24, "alias": "condition", "type": "esriFieldTypeString" }, { "domain": null, "name": "year", "length": 8, "alias": "year", "type": "esriFieldTypeDate" }, { "domain": null, "name": "stdtime", "length": 8, "alias": "Standard Time", "type": "esriFieldTypeDate" }, { "domain": null, "name": "dimensions", "length": 50, "alias": "Dimensions", "type": "esriFieldTypeString" }, { "domain": null, "name": "variable", "length": 50, "alias": "Variable", "type": "esriFieldTypeString" } ], "defaultVariable": "", "allowAnalysis": true, "hasRasterAttributeTable": false, "useStandardizedQueries": true, "description": "", "pixelType": "F32", "meanPixelSize": 300, "exportTilesAllowed": false, "editFieldsInfo": null, "rasterTypeInfos": [{ "help": "", "name": "Raster Dataset", "description": "Supports all ArcGIS Raster Datasets" }], "defaultResamplingMethod": "Bilinear", "itemAccess": false, "minScale": 0, "serviceProperties": "ByAttribute<\/MosaicMethod>First<\/MosaicOperator>false<\/SortAscending><\/LockImageID>StdTime<\/TileOrderField>0<\/TileOrderBase>600.000000<\/AvgImageSpacingX>300.000000<\/AvgImageSpacingY>0.0<\/ViewPointX>0.0<\/ViewPointY>0.0<\/ViewPointDefShiftX>0.0<\/ViewPointDefShiftY>None<\/CompressionMethod>75<\/CompressionQuality>0.010000<\/CompressionTolerance>Bilinear<\/SamplingMethod><\/ImageServiceProperties><\/ImageServer>", "advancedQueryCapabilities": { "supportsStatistics": true, "supportsSqlExpression": true, "supportsOrderBy": true, "useStandardizedQueries": true, "supportsPagination": true, "supportsDistinct": true }, "serviceItemId": "34cf1916fa7a4392918ffc59d791f459", "capabilities": "Image,Metadata,Catalog,Mensuration", "maxScale": 0, "stdvValues": [42.0442079662323], "allowedFields": "name,minps,maxps,lowps,highps,condition,year,StdTime,Dimensions,Variable", "minPixelSize": 0, "sortAscending": false, "maxMosaicImageCount": 20, "inspectionCapabilities": "", "maxPixelSize": 0, "uncompressedSize": 1545516280, "serviceDescription": "

Direct Download (Raster Data Gateway)<\/SPAN><\/SPAN><\/A><\/P>
Objective:<\/SPAN><\/SPAN> Characterize recent drought severity in Alaska. <\/SPAN><\/SPAN><\/P>
Data:<\/SPAN><\/SPAN> <\/SPAN><\/SPAN>The indicator represents drought severity as a weighted sum of the number of droughts in each category over the most recent 3-year period using data from the U.S. Drought Monitor. A 30km grid was overlaid on Alaska and the number of droughts in each category we calculated over the time period. The weighted sum of droughts (<\/SPAN><\/SPAN>DwSum<\/SPAN><\/SPAN>) was calculated using the equation:<\/SPAN><\/SPAN><\/P>
<\/SPAN>(D0 [abnormally dry] * 1) + (D1 [moderate drought] *2) + (D2 [severe drought] * 3) + (D3 [extreme drought] * 4) + (D4 [exceptional drought] * 5)<\/SPAN><\/SPAN><\/P>
There is a lag between the assessment year and the most recent drought data, for example, the 2024 TCA Assessment used drought data from 2021-2023. Data were summarized at the Subsection scale of the USFS National Hierarchy of Ecological Units and applied to the corresponding landscape (LTA).<\/SPAN><\/SPAN><\/P>
Data Format:<\/SPAN><\/SPAN> Raster data are continuous<\/SPAN><\/SPAN><\/P>
Units: <\/SPAN><\/SPAN>Number of droughts (weighted sum)<\/SPAN><\/SPAN><\/P>
Spatial Resolution:<\/SPAN><\/SPAN> 30000m (30km)<\/SPAN><\/SPAN><\/P>
Source data:<\/SPAN><\/SPAN> <\/SPAN><\/SPAN>US Drought Monitor<\/SPAN><\/SPAN><\/A><\/P>
Additional Resources:<\/SPAN><\/SPAN><\/P>
Details on <\/SPAN><\/SPAN>Method Changes and Source Data Versions<\/SPAN><\/SPAN><\/A><\/P>
Overview of the Terrestrial Condition Assessment: <\/SPAN><\/SPAN>TCA Hubsite<\/SPAN><\/SPAN><\/A> or <\/SPAN><\/SPAN>Landfire Office Hour Presentation<\/SPAN><\/SPAN><\/A><\/P>
Explore the results of the most recent assessment: <\/SPAN><\/SPAN>TCA Interactive Data Viewer<\/SPAN><\/SPAN><\/A><\/P>
Learn more about the TCA KPI: <\/SPAN><\/SPAN>TCA Dashboard<\/SPAN><\/SPAN><\/A><\/P>
*if you have trouble viewing the Dashboard, please submit a <\/SPAN><\/SPAN>Tableau Viewer Access Request<\/SPAN><\/SPAN><\/A><\/P><\/DIV><\/DIV><\/DIV>", "allowCopy": true, "copyrightText": "USDA - GEO; USDA - USFS \u2013 GO", "mensurationCapabilities": "Basic", "ownershipBasedAccessControlForRasters": null }