<?xml version="1.0" encoding="UTF-8" standalone="no"?>
<metadata xml:lang="en">
<Esri>
<CreaDate>20250715</CreaDate>
<CreaTime>16291400</CreaTime>
<ArcGISFormat>1.0</ArcGISFormat>
<SyncOnce>FALSE</SyncOnce>
<DataProperties>
<itemProps>
<itemName Sync="FALSE">USFS_EDW_TCA_AK_ClimateExposureTemperature</itemName>
<nativeExtBox>
<westBL Sync="TRUE">-20024421.870300</westBL>
<eastBL Sync="TRUE">-13479421.870300</eastBL>
<southBL Sync="TRUE">6378622.547700</southBL>
<northBL Sync="TRUE">11691622.547700</northBL>
<exTypeCode Sync="TRUE">1</exTypeCode>
</nativeExtBox>
<imsContentType export="False">
</imsContentType>
</itemProps>
<coordRef>
<type Sync="TRUE">Projected</type>
<geogcsn Sync="TRUE">GCS_WGS_1984</geogcsn>
<csUnits Sync="TRUE">Linear Unit: Meter (1.000000)</csUnits>
<projcsn Sync="TRUE">WGS_1984_Web_Mercator_Auxiliary_Sphere</projcsn>
<peXml Sync="TRUE">&lt;ProjectedCoordinateSystem xsi:type='typens:ProjectedCoordinateSystem' xmlns:xsi='http://www.w3.org/2001/XMLSchema-instance' xmlns:xs='http://www.w3.org/2001/XMLSchema' xmlns:typens='http://www.esri.com/schemas/ArcGIS/3.5.0'&gt;&lt;WKT&gt;PROJCS[&amp;quot;WGS_1984_Web_Mercator_Auxiliary_Sphere&amp;quot;,GEOGCS[&amp;quot;GCS_WGS_1984&amp;quot;,DATUM[&amp;quot;D_WGS_1984&amp;quot;,SPHEROID[&amp;quot;WGS_1984&amp;quot;,6378137.0,298.257223563]],PRIMEM[&amp;quot;Greenwich&amp;quot;,0.0],UNIT[&amp;quot;Degree&amp;quot;,0.0174532925199433]],PROJECTION[&amp;quot;Mercator_Auxiliary_Sphere&amp;quot;],PARAMETER[&amp;quot;False_Easting&amp;quot;,0.0],PARAMETER[&amp;quot;False_Northing&amp;quot;,0.0],PARAMETER[&amp;quot;Central_Meridian&amp;quot;,0.0],PARAMETER[&amp;quot;Standard_Parallel_1&amp;quot;,0.0],PARAMETER[&amp;quot;Auxiliary_Sphere_Type&amp;quot;,0.0],UNIT[&amp;quot;Meter&amp;quot;,1.0],AUTHORITY[&amp;quot;EPSG&amp;quot;,3857]]&lt;/WKT&gt;&lt;XOrigin&gt;-20037700&lt;/XOrigin&gt;&lt;YOrigin&gt;-30241100&lt;/YOrigin&gt;&lt;XYScale&gt;148923141.92838538&lt;/XYScale&gt;&lt;ZOrigin&gt;-100000&lt;/ZOrigin&gt;&lt;ZScale&gt;10000&lt;/ZScale&gt;&lt;MOrigin&gt;-100000&lt;/MOrigin&gt;&lt;MScale&gt;10000&lt;/MScale&gt;&lt;XYTolerance&gt;0.001&lt;/XYTolerance&gt;&lt;ZTolerance&gt;0.001&lt;/ZTolerance&gt;&lt;MTolerance&gt;0.001&lt;/MTolerance&gt;&lt;HighPrecision&gt;true&lt;/HighPrecision&gt;&lt;WKID&gt;102100&lt;/WKID&gt;&lt;LatestWKID&gt;3857&lt;/LatestWKID&gt;&lt;/ProjectedCoordinateSystem&gt;</peXml>
</coordRef>
<RasterProperties>
<General>
<PixelDepth Sync="TRUE">32</PixelDepth>
<HasColormap Sync="TRUE">FALSE</HasColormap>
<CompressionType Sync="TRUE">None</CompressionType>
<NumBands Sync="TRUE">1</NumBands>
<Format Sync="TRUE">AMD</Format>
<HasPyramids Sync="TRUE">TRUE</HasPyramids>
<SourceType Sync="TRUE">continuous</SourceType>
<PixelType Sync="TRUE">floating point</PixelType>
<NoDataValue Sync="TRUE">
</NoDataValue>
</General>
<Properties>
<MaxImageHeight Sync="TRUE">100000</MaxImageHeight>
<MaxImageWidth Sync="TRUE">100000</MaxImageWidth>
<MaxRecordCount Sync="TRUE">1000</MaxRecordCount>
<MaxDownloadImageCount Sync="TRUE">20</MaxDownloadImageCount>
<MaxDownloadSizeLimit Sync="TRUE">2048</MaxDownloadSizeLimit>
<MaxMosaicImageCount Sync="TRUE">20</MaxMosaicImageCount>
<DefaultCompressionQuality Sync="TRUE">75</DefaultCompressionQuality>
<DefaultCompressionTolerance Sync="TRUE">0.01</DefaultCompressionTolerance>
<BlendWidth Sync="TRUE">10</BlendWidth>
<ViewpointSpacingX Sync="TRUE">600</ViewpointSpacingX>
<ViewpointSpacingY Sync="TRUE">300</ViewpointSpacingY>
<AllowedItemMetadata Sync="TRUE">Basic</AllowedItemMetadata>
<DefaultResamplingMethod Sync="TRUE">1</DefaultResamplingMethod>
<AllowedMosaicMethods Sync="TRUE">ByAttribute,NorthWest,Center,LockRaster,Nadir,Viewpoint,Seamline,None</AllowedMosaicMethods>
<AllowedCompressions Sync="TRUE">None,JPEG,LZ77,LERC</AllowedCompressions>
<AllowedMensurationCapabilities Sync="TRUE">Basic</AllowedMensurationCapabilities>
<AvailableMensurationCapabilities Sync="TRUE">None,Basic,Base-Top Height,Top-Top Shadow Height,Base-Top Shadow Height,3D</AvailableMensurationCapabilities>
<ClipToBoundary Sync="TRUE">-1</ClipToBoundary>
<FootprintMayContainNoData Sync="TRUE">-1</FootprintMayContainNoData>
<CellSizeTolerance Sync="TRUE">0.8</CellSizeTolerance>
<MinimumPixelContribution Sync="TRUE">1</MinimumPixelContribution>
<AvailableMosaicMethods Sync="TRUE">NorthWest,Center,LockRaster,ByAttribute,Nadir,Viewpoint,Seamline,None</AvailableMosaicMethods>
<AvailableCompressionMethods Sync="TRUE">None,JPEG,LZ77,LERC</AvailableCompressionMethods>
<AvailableItemMetadataLevels Sync="TRUE">None,Basic,Full</AvailableItemMetadataLevels>
<BandDefinitionKeyword Sync="TRUE">NONE</BandDefinitionKeyword>
<_docversion_ Sync="TRUE">10</_docversion_>
<AllowedFields Sync="TRUE">name,minps,maxps,lowps,highps,tag,groupname,productname,centerx,centery,zorder,st_area(shape),st_perimeter(shape),Year,Season,StdTime,Dimensions,Variable</AllowedFields>
<MaxCellSize Sync="TRUE">320000</MaxCellSize>
<LowCellSize Sync="TRUE">1000</LowCellSize>
<HighCellSize Sync="TRUE">32000</HighCellSize>
<DataType Sync="TRUE">Scientific</DataType>
<TimeIntervalUnits Sync="TRUE">Years</TimeIntervalUnits>
<AvailableFields Sync="TRUE">name,minps,maxps,lowps,highps,tag,groupname,productname,centerx,centery,zorder,st_area(shape),st_perimeter(shape)</AvailableFields>
<SortableFields Sync="TRUE">minps,maxps,lowps,highps,centerx,centery,zorder,st_area(shape),st_perimeter(shape)</SortableFields>
<SortAscending Sync="TRUE">0</SortAscending>
<MosaicOperator Sync="TRUE">1</MosaicOperator>
<BlendWidthUnits Sync="TRUE">1</BlendWidthUnits>
<ClipToFootprint Sync="TRUE">0</ClipToFootprint>
<ClipOverviewsToFootprint Sync="TRUE">0</ClipOverviewsToFootprint>
<HasDodgingTable Sync="TRUE">0</HasDodgingTable>
<ApplyColorCorrection Sync="TRUE">0</ApplyColorCorrection>
<UseTime Sync="TRUE">0</UseTime>
<StartTimeFieldName Sync="TRUE">
</StartTimeFieldName>
<EndTimeFieldName Sync="TRUE">
</EndTimeFieldName>
<TimeValueFormat Sync="TRUE">
</TimeValueFormat>
<UseRange Sync="TRUE">0</UseRange>
<TimeInterval Sync="TRUE">1</TimeInterval>
<SortField Sync="TRUE">StdTime</SortField>
</Properties>
<Functions Sync="TRUE">
<Function Description="Performs on-the-fly mosaic on a raster catalog." Name="Mosaic Function">
</Function>
</Functions>
</RasterProperties>
</DataProperties>
<scaleRange>
<minScale>150000000</minScale>
<maxScale>5000</maxScale>
</scaleRange>
<SyncDate>20250715</SyncDate>
<SyncTime>17593600</SyncTime>
<ModDate>20260112</ModDate>
<ModTime>18071300</ModTime>
<ArcGISProfile>FGDC</ArcGISProfile>
</Esri>
<mdLang>
<languageCode Sync="TRUE" value="eng">
</languageCode>
<countryCode Sync="TRUE" value="USA">
</countryCode>
</mdLang>
<mdChar>
<CharSetCd value="004">
</CharSetCd>
</mdChar>
<mdHrLv>
<ScopeCd value="005">
</ScopeCd>
</mdHrLv>
<mdDateSt Sync="TRUE">20260112</mdDateSt>
<mdStanName>ArcGIS Metadata</mdStanName>
<mdStanVer>1.0</mdStanVer>
<dataIdInfo>
<idCitation>
<resTitle>USFS_EDW_TCA_AK_ClimateExposureTemperature</resTitle>
<presForm>
<PresFormCd value="005">
</PresFormCd>
</presForm>
<presForm>
<fgdcGeoform>remote-sensing image</fgdcGeoform>
</presForm>
<date>
<pubDate>2026-01-12T00:00:00</pubDate>
</date>
</idCitation>
<idAbs>&lt;div style='text-align:Left;'&gt;&lt;div&gt;&lt;div&gt;&lt;p style='font-weight:bold;margin:0 0 11 0;'&gt;&lt;a href='https://data.fs.usda.gov/geodata/rastergateway/TCA/Alaska/04_Climate/TCA_AK_Temperature_Exposure.zip' style='text-decoration:underline;'&gt;&lt;span style='text-decoration:underline;'&gt;&lt;span&gt;Direct Download (Raster Data Gateway)&lt;/span&gt;&lt;/span&gt;&lt;/a&gt;&lt;/p&gt;&lt;p style='margin:0 0 11 0;'&gt;&lt;span style='font-weight:bold;'&gt;&lt;span&gt;Objective:&lt;/span&gt;&lt;/span&gt;&lt;span&gt;&lt;span&gt; &lt;/span&gt;&lt;/span&gt;&lt;span&gt;&lt;span&gt;Characterize climate departures for the &lt;/span&gt;&lt;/span&gt;&lt;span&gt;&lt;span&gt;most recent 5 years as compared with the historical record,&lt;/span&gt;&lt;/span&gt;&lt;span&gt;&lt;span&gt; identifying locations where &lt;/span&gt;&lt;/span&gt;&lt;span&gt;&lt;span&gt;recent conditions indicate a significant change from the historical baseline&lt;/span&gt;&lt;/span&gt;&lt;span&gt;&lt;span&gt;.&lt;/span&gt;&lt;/span&gt;&lt;/p&gt;&lt;p style='margin:0 0 11 0;'&gt;&lt;span style='font-weight:bold;'&gt;&lt;span&gt;Data:&lt;/span&gt;&lt;/span&gt;&lt;span&gt;&lt;span&gt; &lt;/span&gt;&lt;/span&gt;&lt;span&gt;&lt;span&gt;Gridded coverages based on DAYMET climate data were used to calculate departure of mean temperature in winter (Dec. – Feb.), spring (Mar. – May), summer (Jun. – Aug.), and fall (Sep. – Nov.) for the recent 5-year period as compared with previous years in the historical record. Data were summarized at the Subsection scale of the USFS National Hierarchy of Ecological Units and applied to the corresponding landscape (LTA). There is a one-year lag between the most recent available DAYMET data and the TCA Assessment year, for example, the 2024 TCA Assessment used 2019-2023 data for the most recent time period, and 1980-2018 data for the historical baseline.&lt;/span&gt;&lt;/span&gt;&lt;/p&gt;&lt;p style='margin:0 0 11 0;'&gt;&lt;span style='font-weight:bold;'&gt;&lt;span&gt;Data Format:&lt;/span&gt;&lt;/span&gt;&lt;span&gt;&lt;span&gt; Raster data are continuous; &lt;/span&gt;&lt;/span&gt;&lt;/p&gt;&lt;p style='margin:0 0 11 0;'&gt;&lt;span style='font-weight:bold;'&gt;&lt;span&gt;Units: &lt;/span&gt;&lt;/span&gt;&lt;span&gt;&lt;span&gt;Fahrenheit&lt;/span&gt;&lt;/span&gt;&lt;/p&gt;&lt;p style='margin:0 0 11 0;'&gt;&lt;span style='font-weight:bold;'&gt;&lt;span&gt;Spatial Resolution:&lt;/span&gt;&lt;/span&gt;&lt;span&gt;&lt;span&gt; 1000m (1km)&lt;/span&gt;&lt;/span&gt;&lt;/p&gt;&lt;p style='margin:0 0 11 0;'&gt;&lt;span style='font-weight:bold;'&gt;&lt;span&gt;Source data:&lt;/span&gt;&lt;/span&gt;&lt;span&gt;&lt;span&gt; &lt;/span&gt;&lt;/span&gt;&lt;a href='https://daac.ornl.gov/DAYMET/guides/Daymet_Daily_V4.html' style='text-decoration:underline;'&gt;&lt;span style='text-decoration:underline;'&gt;&lt;span&gt;DAYMET&lt;/span&gt;&lt;/span&gt;&lt;/a&gt;&lt;/p&gt;&lt;p style='font-weight:bold;margin:0 0 11 0;'&gt;&lt;span&gt;&lt;span&gt;Additional Resources:&lt;/span&gt;&lt;/span&gt;&lt;/p&gt;&lt;p style='margin:0 0 11 0;'&gt;&lt;span&gt;&lt;span&gt;Details on &lt;/span&gt;&lt;/span&gt;&lt;a href='https://usfs.box.com/s/79vx1b42xg8u6ivjombxjes36nzfhgml' style='text-decoration:underline;'&gt;&lt;span style='text-decoration:underline;'&gt;&lt;span&gt;Method Changes and Source Data Versions&lt;/span&gt;&lt;/span&gt;&lt;/a&gt;&lt;/p&gt;&lt;p style='margin:0 0 11 0;'&gt;&lt;span&gt;&lt;span&gt;Overview of the Terrestrial Condition Assessment: &lt;/span&gt;&lt;/span&gt;&lt;a href='https://terrestrial-condition-assessment-usfs.hub.arcgis.com/' style='text-decoration:underline;'&gt;&lt;span style='text-decoration:underline;'&gt;&lt;span&gt;TCA Hubsite&lt;/span&gt;&lt;/span&gt;&lt;/a&gt;&lt;span&gt;&lt;span&gt; or &lt;/span&gt;&lt;/span&gt;&lt;a href='https://www.youtube.com/watch?v=Kf0P3cAq1rs&amp;amp;list=PLwRbAc4x5n94rLca1CXXuugtRDt_G666M&amp;amp;index=19' style='text-decoration:underline;'&gt;&lt;span style='text-decoration:underline;'&gt;&lt;span&gt;Landfire Office Hour Presentation&lt;/span&gt;&lt;/span&gt;&lt;/a&gt;&lt;/p&gt;&lt;p style='margin:0 0 11 0;'&gt;&lt;span&gt;&lt;span&gt;Explore the results of the most recent assessment: &lt;/span&gt;&lt;/span&gt;&lt;a href='https://apps.fs.usda.gov/gtac-toolsms/tca/' style='text-decoration:underline;'&gt;&lt;span style='text-decoration:underline;'&gt;&lt;span&gt;TCA Interactive Data Viewer&lt;/span&gt;&lt;/span&gt;&lt;/a&gt;&lt;/p&gt;&lt;p style='margin:0 0 11 0;'&gt;&lt;span&gt;&lt;span&gt;Learn more about the TCA KPI: &lt;/span&gt;&lt;/span&gt;&lt;a href='https://cxodashboard.dl.usda.gov/t/NRE/views/EcologicalConditionOutcomes_17531128629260/EcologicalOutcomes' style='text-decoration:underline;'&gt;&lt;span style='text-decoration:underline;'&gt;&lt;span&gt;TCA Dashboard&lt;/span&gt;&lt;/span&gt;&lt;/a&gt;&lt;/p&gt;&lt;p style='margin:0 0 11 0;'&gt;&lt;span&gt;&lt;span&gt;*if you have trouble viewing the Dashboard, please submit a &lt;/span&gt;&lt;/span&gt;&lt;a href='https://usdagcc.sharepoint.com/sites/fs-wo-cdoc/SitePages/Dashboards.aspx' style='text-decoration:underline;'&gt;&lt;span style='text-decoration:underline;'&gt;&lt;span&gt;Tableau Viewer Access Request&lt;/span&gt;&lt;/span&gt;&lt;/a&gt;&lt;/p&gt;&lt;/div&gt;&lt;/div&gt;&lt;/div&gt;</idAbs>
<idPurp>The TCA Climate Exposure Indicator consists of 3 metrics: temperature exposure, precipitation exposure in inches and precipitation exposure expressed as a percent. This multidimensional image service represents the seasonal temperature exposure for assessment years 2020-2025.</idPurp>
<idCredit>USDA - GEO; USDA - USFS – Geospatial Office (GO)</idCredit>
<placeKeys>
<keyword>Alaska, AK</keyword>
</placeKeys>
<themeKeys>
<thesaName>
<resTitle>ISO 19115 Topic Categories</resTitle>
</thesaName>
<keyword>environment</keyword>
<keyword>geoscientificInformation</keyword>
</themeKeys>
<searchKeys>
<keyword>environment</keyword>
<keyword>geoscientificInformation</keyword>
<keyword>Alaska</keyword>
<keyword>AK</keyword>
<keyword>TCA</keyword>
<keyword>Temperature</keyword>
<keyword>Fahrenheit</keyword>
<keyword>PRISM</keyword>
<keyword>climate</keyword>
</searchKeys>
<resConst>
<Consts>
<useLimit>&lt;div style='text-align:Left;'&gt;&lt;div&gt;&lt;div&gt;&lt;p&gt;&lt;span&gt;The USDA Forest Service makes no warranty, expressed or implied, including the warranties of merchantability and fitness for a particular purpose, nor assumes any legal liability or responsibility for the accuracy, reliability, completeness or utility of these geospatial data, or for the improper or incorrect use of these geospatial data. These geospatial data and related maps or graphics are not legal documents and are not intended to be used as such. The data and maps may not be used to determine title, ownership, legal descriptions or boundaries, legal jurisdiction, or restrictions that may be in place on either public or private land. Natural hazards may or may not be depicted on the data and maps, and users should exercise due caution. The data are dynamic and may change over time. The user is responsible to verify the limitations of the geospatial data and to use the data accordingly.Non-Discrimination StatementIn accordance with Federal civil rights law and U.S. Department of Agriculture (USDA) civil rights regulations and policies, the USDA, its Agencies, offices, and employees, and institutions participating in or administering USDA programs are prohibited from discriminating based on race, color, national origin, religion, sex, disability, age, marital status, family/parental status, income derived from a public assistance program, political beliefs, or reprisal or retaliation for prior civil rights activity, in any program or activity conducted or funded by USDA (not all bases apply to all programs). Remedies and complaint filing deadlines vary by program or incident.Persons with disabilities who require alternative means of communication for program information (e.g., Braille, large print, audiotape, American Sign Language, etc.) should contact the State or local Agency that administers the program or contact USDA through the Telecommunications Relay Service at 711 (voice and TTY). Additionally, program information may be made available in languages other than English.To file a program discrimination complaint, complete the USDA Program Discrimination Complaint Form, AD-3027, found online at How to File a Program Discrimination Complaint and at any USDA office or write a letter addressed to USDA and provide in the letter all of the information requested in the form. To request a copy of the complaint form, call (866) 632-9992. Submit your completed form or letter to USDA by: (1) mail: U.S. Department of Agriculture, Office of the Assistant Secretary for Civil Rights, 1400 Independence Avenue, SW, Mail Stop 9410, Washington, D.C. 20250-9410; (2) fax: (202) 690-7442; or (3) email: program.intake@usda.gov.USDA is an equal opportunity provider, employer, and lender.&lt;/span&gt;&lt;/p&gt;&lt;p style='font-weight:bold;margin:0 0 14 0;'&gt;&lt;span&gt;&lt;span&gt;Non-Discrimination Statement&lt;/span&gt;&lt;/span&gt;&lt;/p&gt;&lt;p style='margin:0 0 14 0;'&gt;&lt;span style='font-size:12pt'&gt;In accordance with Federal civil rights law and U.S. Department of Agriculture (USDA) civil rights regulations and policies, the USDA, its Agencies, offices, and employees, and institutions participating in or administering USDA programs are prohibited from discriminating based on race, color, national origin, religion, sex, disability, age, marital status, family/parental status, income derived from a public assistance program, political beliefs, or reprisal or retaliation for prior civil rights activity, in any program or activity conducted or funded by USDA (not all bases apply to all programs). Remedies and complaint filing deadlines vary by program or incident.&lt;/span&gt;&lt;/p&gt;&lt;p style='margin:0 0 14 0;'&gt;&lt;span style='font-size:12pt'&gt;Persons with disabilities who require alternative means of communication for program information (e.g., Braille, large print, audiotape, American Sign Language, etc.) should contact the State or local Agency that administers the program or contact USDA through the Telecommunications Relay Service at 711 (voice and TTY). Additionally, program information may be made available in languages other than English.&lt;/span&gt;&lt;/p&gt;&lt;p style='margin:0 0 14 0;'&gt;&lt;span style='font-size:12pt'&gt;To file a program discrimination complaint, complete the USDA Program Discrimination Complaint Form, AD-3027, found online at &lt;/span&gt;&lt;a href='https://www.usda.gov/oascr/how-to-file-a-program-discrimination-complaint' style='text-decoration:underline;'&gt;&lt;span&gt;How to File a Program Discrimination Complaint&lt;/span&gt;&lt;/a&gt;&lt;span style='font-size:12pt'&gt; and at any USDA office or write a letter addressed to USDA and provide in the letter all of the information requested in the form. To request a copy of the complaint form, call (866) 632-9992. Submit your completed form or letter to USDA by: (1) mail: U.S. Department of Agriculture, Office of the Assistant Secretary for Civil Rights, 1400 Independence Avenue, SW, Mail Stop 9410, Washington, D.C. 20250-9410; (2) fax: (202) 690-7442; or (3) email: &lt;/span&gt;&lt;a href='mailto:program.intake@usda.gov' style='text-decoration:underline;'&gt;&lt;span&gt;program.intake@usda.gov&lt;/span&gt;&lt;/a&gt;&lt;span style='font-size:12pt'&gt;.&lt;/span&gt;&lt;/p&gt;&lt;p style='margin:0 0 14 0;'&gt;&lt;span style='font-size:12pt'&gt;USDA is an equal opportunity provider, employer, and lender.&lt;/span&gt;&lt;/p&gt;&lt;/div&gt;&lt;/div&gt;&lt;/div&gt;</useLimit>
</Consts>
</resConst>
<spatRpType>
<SpatRepTypCd value="002">
</SpatRepTypCd>
</spatRpType>
<envirDesc>Esri ArcGIS 13.2.0.49743</envirDesc>
<dataExt>
<geoEle>
<GeoBndBox>
<exTypeCode>true</exTypeCode>
<westBL>-135.918230</westBL>
<eastBL>-55.465113</eastBL>
<northBL>52.998011</northBL>
<southBL>19.912177</southBL>
</GeoBndBox>
</geoEle>
</dataExt>
<dataLang>
<languageCode Sync="TRUE" value="eng">
</languageCode>
<countryCode Sync="TRUE" value="USA">
</countryCode>
</dataLang>
<dataExt>
<geoEle>
<GeoBndBox esriExtentType="search">
<exTypeCode Sync="TRUE">1</exTypeCode>
<westBL Sync="TRUE">-179.882442</westBL>
<eastBL Sync="TRUE">-121.087707</eastBL>
<northBL Sync="TRUE">71.828320</northBL>
<southBL Sync="TRUE">49.607764</southBL>
</GeoBndBox>
</geoEle>
</dataExt>
<tpCat>
<TopicCatCd value="007">
</TopicCatCd>
</tpCat>
<tpCat>
<TopicCatCd value="008">
</TopicCatCd>
</tpCat>
</dataIdInfo>
<spatRepInfo>
<Georect>
<numDims>2</numDims>
<axisDimension type="001">
<dimSize>1180</dimSize>
<dimResol>
<value Sync="TRUE" uom="m">1000.000000</value>
</dimResol>
</axisDimension>
<axisDimension type="002">
<dimSize>2239</dimSize>
<dimResol>
<value Sync="TRUE" uom="m">1000.000000</value>
</dimResol>
</axisDimension>
<cellGeo>
<CellGeoCd Sync="TRUE" value="002">
</CellGeoCd>
</cellGeo>
<tranParaAv Sync="TRUE">1</tranParaAv>
<chkPtAv Sync="TRUE">0</chkPtAv>
<cornerPts>
<pos Sync="TRUE">-20024421.870300 6378622.547700</pos>
</cornerPts>
<cornerPts>
<pos Sync="TRUE">-20024421.870300 11691622.547700</pos>
</cornerPts>
<cornerPts>
<pos Sync="TRUE">-13479421.870300 11691622.547700</pos>
</cornerPts>
<cornerPts>
<pos Sync="TRUE">-13479421.870300 6378622.547700</pos>
</cornerPts>
<centerPt>
<pos Sync="TRUE">-16751921.870300 9035122.547700</pos>
</centerPt>
<ptInPixel>
<PixOrientCd Sync="TRUE" value="001">
</PixOrientCd>
</ptInPixel>
</Georect>
</spatRepInfo>
<refSysInfo>
<RefSystem>
<refSysID>
<identCode Sync="TRUE" code="3857">
</identCode>
<idCodeSpace Sync="TRUE">EPSG</idCodeSpace>
<idVersion Sync="TRUE">6.18.3(9.3.1.2)</idVersion>
</refSysID>
</RefSystem>
</refSysInfo>
<contInfo>
<ImgDesc>
<contentTyp>
<ContentTypCd Sync="TRUE" value="001">
</ContentTypCd>
</contentTyp>
<covDim>
<Band>
<dimDescrp Sync="TRUE">Band_1</dimDescrp>
<maxVal Sync="TRUE">12.071014</maxVal>
<minVal Sync="TRUE">-8.190939</minVal>
<bitsPerVal Sync="TRUE">32</bitsPerVal>
<valUnit>
<UOM type="length">
</UOM>
</valUnit>
</Band>
</covDim>
</ImgDesc>
</contInfo>
</metadata>
