{ "extent": { "ymin": 2659625.2991999984, "xmin": -14247643.565099999, "ymax": 6736955.2991999984, "xmax": -7271753.5650999993, "spatialReference": { "latestWkid": 3857, "wkid": 102100 } }, "blockWidth": 2048, "mosaicOperator": "First", "serviceSourceType": "esriImageServiceSourceTypeMosaicDataset", "hasMultidimensions": false, "maxImageWidth": 100000, "maxRecordCount": 1000, "meanValues": [1], "hasColormap": false, "compressionType": "None", "defaultCompressionQuality": 75, "maxValues": [1], "hasHistograms": true, "datasetFormat": "AMD", "maxImageHeight": 100000, "sortField": "", "bandNames": ["Band_1"], "spatialReference": { "latestWkid": 3857, "wkid": 102100 }, "fullExtent": { "ymin": 2659625.2991999984, "xmin": -14247643.565099999, "ymax": 6736955.2991999984, "xmax": -7271753.5650999993, "spatialReference": { "latestWkid": 3857, "wkid": 102100 } }, "bandCount": 1, "rasterFunctionInfos": [ { "help": "", "name": "Riparian", "description": "Riparian symbology" }, { "help": "", "name": "None", "description": "Make a Raster or Raster Dataset into a Function Raster Dataset." } ], "supportsStatistics": true, "sortableFields": "minps,maxps,lowps,highps,centerx,centery,zorder,beginyear,endyear,resolution", "minValues": [1], "allowRasterFunction": true, "allowComputeTiePoints": false, "serviceDataType": "esriImageServiceDataTypeGeneric", "supportsAdvancedQueries": true, "maxDownloadSizeLimit": 2048, "currentVersion": 12, "sortValue": null, "objectIdField": "objectid", "blockHeight": 256, "initialExtent": { "ymin": 2659625.2991999984, "xmin": -14247643.565099999, "ymax": 6736955.2991999984, "xmax": -7271753.5650999993, "spatialReference": { "latestWkid": 3857, "wkid": 102100 } }, "pixelSizeX": 10, "pixelSizeY": 10, "defaultMosaicMethod": "Northwest", "name": "Ecosystems/USFS_EDW_Riparian_Areas", "allowedMosaicMethods": "NorthWest,Center,LockRaster,ByAttribute,Nadir,Viewpoint,Seamline,None", "maxDownloadImageCount": 20, "fields": [ { "domain": null, "name": "objectid", "alias": "objectid", "type": "esriFieldTypeOID" }, { "domain": null, "name": "name", "length": 200, "alias": "name", "type": "esriFieldTypeString" }, { "domain": null, "name": "minps", "alias": "minps", "type": "esriFieldTypeDouble" }, { "domain": null, "name": "maxps", "alias": "maxps", "type": "esriFieldTypeDouble" }, { "domain": null, "name": "lowps", "alias": "lowps", "type": "esriFieldTypeDouble" }, { "domain": null, "name": "highps", "alias": "highps", "type": "esriFieldTypeDouble" }, { "domain": { "splitPolicy": "esriSPTDefaultValue", "name": "MosaicCatalogItemCategoryDomain", "description": "Catalog item categories.", "type": "codedValue", "codedValues": [ { "code": 0, "name": "Unknown" }, { "code": 1, "name": "Primary" }, { "code": 2, "name": "Overview" }, { "code": 3, "name": "Unprocessed Overview" }, { "code": 4, "name": "Partial Overview" }, { "code": 5, "name": "Inactive" }, { "code": 253, "name": "Uploaded" }, { "code": 254, "name": "Incomplete" }, { "code": 255, "name": "Custom" } ], "mergePolicy": "esriMPTDefaultValue" }, "name": "category", "alias": "category", "type": "esriFieldTypeInteger" }, { "domain": null, "name": "tag", "length": 100, "alias": "tag", "type": "esriFieldTypeString" }, { "domain": null, "name": "groupname", "length": 100, "alias": "groupname", "type": "esriFieldTypeString" }, { "domain": null, "name": "productname", "length": 100, "alias": "productname", "type": "esriFieldTypeString" }, { "domain": null, "name": "centerx", "alias": "centerx", "type": "esriFieldTypeDouble" }, { "domain": null, "name": "centery", "alias": "centery", "type": "esriFieldTypeDouble" }, { "domain": null, "name": "zorder", "alias": "zorder", "type": "esriFieldTypeInteger" }, { "domain": null, "name": "shape", "alias": "shape", "type": "esriFieldTypeGeometry" }, { "domain": null, "name": "beginyear", "alias": "beginyear", "type": "esriFieldTypeSmallInteger" }, { "domain": null, "name": "endyear", "alias": "endyear", "type": "esriFieldTypeSmallInteger" }, { "domain": null, "name": "dataset_name", "length": 100, "alias": "dataset_name", "type": "esriFieldTypeString" }, { "domain": null, "name": "public", "length": 3, "alias": "public", "type": "esriFieldTypeString" }, { "domain": null, "name": "resolution", "alias": "resolution", "type": "esriFieldTypeDouble" }, { "domain": null, "name": "metadata", "length": 255, "alias": "metadata", "type": "esriFieldTypeString" } ], "allowAnalysis": true, "hasRasterAttributeTable": false, "useStandardizedQueries": true, "description": "
This imagery layer shows national riparian areas for the conterminous United States. Riparian areas are an important natural resource with high biological diversity. These ecosystems contain specific vegetation and soil characteristics which support irreplaceable values and multiple ecosystem functions and are very responsive to changes in land management activities. Delineating and quantifying riparian areas is an essential step in riparian monitoring, planning, management, and policy decisions. USDA Forest Service supports the development and implementation of a national context framework with a multi-scale approach to define riparian areas utilizing free available national geospatial datasets.<\/SPAN><\/P> Why was this layer created? <\/SPAN><\/P> To estimate 50-year flood height riparian areas to support statistical analysis, map display, and model parameterization.<\/SPAN><\/P> Provide a framework and an end product to stakeholders and apply the information into management actions and strategies.<\/SPAN><\/P> Multi-scale approach to provide a national and regional report map. Create a product for managers to easily understand where to apply the information at various scales.<\/SPAN><\/P> Develop a national context inventory of riparian areas and their condition within national forests and rangelands.<\/SPAN><\/P> How was this layer created? <\/SPAN><\/P> Using freely available data.<\/SPAN><\/P> Develop cost effective modeling approach & technique.<\/SPAN><\/P> Multi-scale (national, regional, & local).<\/SPAN><\/P> Promote technology transfer to train/reach out to our partners.<\/SPAN><\/P> Fifty-year flood heights were estimated using U.S. Geological Survey (USGS) stream gage information. NHDPlus version 2.1 was used as the hydrologic framework to delineate riparian areas. The U.S. Fish and Wildlife Service's National Wetland Inventory and USGS 10-meter digital elevation models were also used in processing these data.<\/SPAN><\/P> The data are '1' if in the riparian zone and 'NoData' if outside the riparian zone. When displayed on a map, riparian zone cells are color-coded 'blue' with 25% transparency.<\/SPAN><\/P> For additional information regarding methodologies for modeling and processing these data, see Abood et al. (2012) and the National Riparian Areas Base Map StoryMap<\/SPAN><\/P> Data Download: https://www.fs.usda.gov/rds/archive/catalog/RDS-2019-0030<\/SPAN><\/P><\/DIV><\/DIV><\/DIV>",
"pixelType": "U1",
"meanPixelSize": 10,
"exportTilesAllowed": false,
"editFieldsInfo": null,
"rasterTypeInfos": [{
"help": "",
"name": "Raster Dataset",
"description": "Supports all ArcGIS Raster Datasets"
}],
"defaultResamplingMethod": "Bilinear",
"itemAccess": false,
"minScale": 0,
"serviceProperties": " This imagery layer shows national riparian areas for the conterminous United States. Riparian areas are an important natural resource with high biological diversity. These ecosystems contain specific vegetation and soil characteristics which support irreplaceable values and multiple ecosystem functions and are very responsive to changes in land management activities. Delineating and quantifying riparian areas is an essential step in riparian monitoring, planning, management, and policy decisions. USDA Forest Service supports the development and implementation of a national context framework with a multi-scale approach to define riparian areas utilizing free available national geospatial datasets.<\/SPAN><\/P> Why was this layer created? <\/SPAN><\/P> To estimate 50-year flood height riparian areas to support statistical analysis, map display, and model parameterization.<\/SPAN><\/P> Provide a framework and an end product to stakeholders and apply the information into management actions and strategies.<\/SPAN><\/P> Multi-scale approach to provide a national and regional report map. Create a product for managers to easily understand where to apply the information at various scales.<\/SPAN><\/P> Develop a national context inventory of riparian areas and their condition within national forests and rangelands.<\/SPAN><\/P> How was this layer created? <\/SPAN><\/P> Using freely available data.<\/SPAN><\/P> Develop cost effective modeling approach & technique.<\/SPAN><\/P> Multi-scale (national, regional, & local).<\/SPAN><\/P> Promote technology transfer to train/reach out to our partners.<\/SPAN><\/P> Fifty-year flood heights were estimated using U.S. Geological Survey (USGS) stream gage information. NHDPlus version 2.1 was used as the hydrologic framework to delineate riparian areas. The U.S. Fish and Wildlife Service's National Wetland Inventory and USGS 10-meter digital elevation models were also used in processing these data.<\/SPAN><\/P> The data are '1' if in the riparian zone and 'NoData' if outside the riparian zone. When displayed on a map, riparian zone cells are color-coded 'blue' with 25% transparency.<\/SPAN><\/P> For additional information regarding methodologies for modeling and processing these data, see Abood et al. (2012) and the National Riparian Areas Base Map StoryMap<\/SPAN><\/P> Data Download: https://www.fs.usda.gov/rds/archive/catalog/RDS-2019-0030<\/SPAN><\/P><\/DIV><\/DIV><\/DIV>",
"allowCopy": true,
"copyrightText": "These datasets were provided by the U.S. Forest Service Geospatial Office (GO), in cooperation with the U.S. Department of the Interior's Geospatial Platform (GeoPlatform), as part of the Interdepartmental Imagery Publication Platform (IIPP).",
"mensurationCapabilities": "Basic",
"ownershipBasedAccessControlForRasters": null
}