<?xml version="1.0" encoding="UTF-8" standalone="no"?>
<metadata xml:lang="en">
<Esri>
<CreaDate>20250710</CreaDate>
<CreaTime>10112200</CreaTime>
<ArcGISFormat>1.0</ArcGISFormat>
<SyncOnce>FALSE</SyncOnce>
<DataProperties>
<itemProps>
<itemName Sync="TRUE">usfs_ecosystems.usfs.USFS_EDW_FIA_BelowGroundForestCarbon</itemName>
<itemLocation>
<linkage Sync="TRUE">Server=iipp-arcgis-d-3.cmwoth4tqfhc.us-east-1.rds.amazonaws.com; Service=sde:postgresql:iipp-arcgis-d-3.cmwoth4tqfhc.us-east-1.rds.amazonaws.com; Database=usfs_ecosystems; User=usfs; Version=sde.DEFAULT</linkage>
<protocol Sync="TRUE">ArcSDE Connection</protocol>
</itemLocation>
<nativeExtBox>
<westBL Sync="TRUE">-14303401.039500</westBL>
<eastBL Sync="TRUE">-7206651.039500</eastBL>
<southBL Sync="TRUE">2562973.816500</southBL>
<northBL Sync="TRUE">6787223.816500</northBL>
<exTypeCode Sync="TRUE">1</exTypeCode>
</nativeExtBox>
<imsContentType export="False"/>
</itemProps>
<coordRef>
<type Sync="TRUE">Projected</type>
<geogcsn Sync="TRUE">GCS_WGS_1984</geogcsn>
<csUnits Sync="TRUE">Linear Unit: Meter (1.000000)</csUnits>
<projcsn Sync="TRUE">WGS_1984_Web_Mercator_Auxiliary_Sphere</projcsn>
<peXml Sync="TRUE">&lt;ProjectedCoordinateSystem xsi:type='typens:ProjectedCoordinateSystem' xmlns:xsi='http://www.w3.org/2001/XMLSchema-instance' xmlns:xs='http://www.w3.org/2001/XMLSchema' xmlns:typens='http://www.esri.com/schemas/ArcGIS/3.5.0'&gt;&lt;WKT&gt;PROJCS[&amp;quot;WGS_1984_Web_Mercator_Auxiliary_Sphere&amp;quot;,GEOGCS[&amp;quot;GCS_WGS_1984&amp;quot;,DATUM[&amp;quot;D_WGS_1984&amp;quot;,SPHEROID[&amp;quot;WGS_1984&amp;quot;,6378137.0,298.257223563]],PRIMEM[&amp;quot;Greenwich&amp;quot;,0.0],UNIT[&amp;quot;Degree&amp;quot;,0.0174532925199433]],PROJECTION[&amp;quot;Mercator_Auxiliary_Sphere&amp;quot;],PARAMETER[&amp;quot;False_Easting&amp;quot;,0.0],PARAMETER[&amp;quot;False_Northing&amp;quot;,0.0],PARAMETER[&amp;quot;Central_Meridian&amp;quot;,0.0],PARAMETER[&amp;quot;Standard_Parallel_1&amp;quot;,0.0],PARAMETER[&amp;quot;Auxiliary_Sphere_Type&amp;quot;,0.0],UNIT[&amp;quot;Meter&amp;quot;,1.0],AUTHORITY[&amp;quot;EPSG&amp;quot;,3857]]&lt;/WKT&gt;&lt;XOrigin&gt;-20037700&lt;/XOrigin&gt;&lt;YOrigin&gt;-30241100&lt;/YOrigin&gt;&lt;XYScale&gt;148923141.92838538&lt;/XYScale&gt;&lt;ZOrigin&gt;-100000&lt;/ZOrigin&gt;&lt;ZScale&gt;10000&lt;/ZScale&gt;&lt;MOrigin&gt;-100000&lt;/MOrigin&gt;&lt;MScale&gt;10000&lt;/MScale&gt;&lt;XYTolerance&gt;0.001&lt;/XYTolerance&gt;&lt;ZTolerance&gt;0.001&lt;/ZTolerance&gt;&lt;MTolerance&gt;0.001&lt;/MTolerance&gt;&lt;HighPrecision&gt;true&lt;/HighPrecision&gt;&lt;WKID&gt;102100&lt;/WKID&gt;&lt;LatestWKID&gt;3857&lt;/LatestWKID&gt;&lt;/ProjectedCoordinateSystem&gt;</peXml>
</coordRef>
<RasterProperties>
<General>
<PixelDepth Sync="TRUE">32</PixelDepth>
<HasColormap Sync="TRUE">FALSE</HasColormap>
<CompressionType Sync="TRUE">None</CompressionType>
<NumBands Sync="TRUE">1</NumBands>
<Format Sync="TRUE">AMD</Format>
<HasPyramids Sync="TRUE">TRUE</HasPyramids>
<SourceType Sync="TRUE">continuous</SourceType>
<PixelType Sync="TRUE">floating point</PixelType>
<NoDataValue Sync="TRUE">0</NoDataValue>
</General>
<Properties>
<MaxImageHeight Sync="TRUE">100000</MaxImageHeight>
<MaxImageWidth Sync="TRUE">100000</MaxImageWidth>
<MaxRecordCount Sync="TRUE">1000</MaxRecordCount>
<MaxDownloadImageCount Sync="TRUE">20</MaxDownloadImageCount>
<MaxDownloadSizeLimit Sync="TRUE">2048</MaxDownloadSizeLimit>
<MaxMosaicImageCount Sync="TRUE">100</MaxMosaicImageCount>
<DefaultCompressionQuality Sync="TRUE">75</DefaultCompressionQuality>
<DefaultCompressionTolerance Sync="TRUE">0.01</DefaultCompressionTolerance>
<BlendWidth Sync="TRUE">10</BlendWidth>
<ViewpointSpacingX Sync="TRUE">600</ViewpointSpacingX>
<ViewpointSpacingY Sync="TRUE">300</ViewpointSpacingY>
<AllowedItemMetadata Sync="TRUE">Basic</AllowedItemMetadata>
<DefaultResamplingMethod Sync="TRUE">1</DefaultResamplingMethod>
<AllowedMosaicMethods Sync="TRUE">NorthWest,Center,LockRaster,ByAttribute,Nadir,Viewpoint,Seamline,None</AllowedMosaicMethods>
<AllowedCompressions Sync="TRUE">None,JPEG,LZ77,LERC</AllowedCompressions>
<AllowedMensurationCapabilities Sync="TRUE">Basic</AllowedMensurationCapabilities>
<AvailableMensurationCapabilities Sync="TRUE">None,Basic,Base-Top Height,Top-Top Shadow Height,Base-Top Shadow Height,3D</AvailableMensurationCapabilities>
<ClipToBoundary Sync="TRUE">-1</ClipToBoundary>
<FootprintMayContainNoData Sync="TRUE">-1</FootprintMayContainNoData>
<CellSizeTolerance Sync="TRUE">0.8</CellSizeTolerance>
<MinimumPixelContribution Sync="TRUE">1</MinimumPixelContribution>
<AvailableMosaicMethods Sync="TRUE">NorthWest,Center,LockRaster,ByAttribute,Nadir,Viewpoint,Seamline,None</AvailableMosaicMethods>
<AvailableCompressionMethods Sync="TRUE">None,JPEG,LZ77,LERC</AvailableCompressionMethods>
<AvailableItemMetadataLevels Sync="TRUE">None,Basic,Full</AvailableItemMetadataLevels>
<BandDefinitionKeyword Sync="TRUE">NONE</BandDefinitionKeyword>
<_docversion_ Sync="TRUE">10</_docversion_>
<AllowedFields Sync="TRUE">name,minps,maxps,lowps,highps,tag,groupname,productname,centerx,centery,zorder,st_area(shape),st_perimeter(shape),beginyear,endyear,dataset_name,public,resolution,metadata</AllowedFields>
<MaxCellSize Sync="TRUE">1280000</MaxCellSize>
<LowCellSize Sync="TRUE">250</LowCellSize>
<HighCellSize Sync="TRUE">128000</HighCellSize>
<AvailableFields Sync="TRUE">name,minps,maxps,lowps,highps,tag,groupname,productname,centerx,centery,zorder,st_area(shape),st_perimeter(shape)</AvailableFields>
<SortableFields Sync="TRUE">minps,maxps,lowps,highps,centerx,centery,zorder,st_area(shape),st_perimeter(shape)</SortableFields>
<SortAscending Sync="TRUE">-1</SortAscending>
<MosaicOperator Sync="TRUE">1</MosaicOperator>
<BlendWidthUnits Sync="TRUE">1</BlendWidthUnits>
<ClipToFootprint Sync="TRUE">0</ClipToFootprint>
<ClipOverviewsToFootprint Sync="TRUE">0</ClipOverviewsToFootprint>
<HasDodgingTable Sync="TRUE">0</HasDodgingTable>
<ApplyColorCorrection Sync="TRUE">0</ApplyColorCorrection>
<UseTime Sync="TRUE">0</UseTime>
<StartTimeFieldName Sync="TRUE"/>
<EndTimeFieldName Sync="TRUE"/>
<TimeValueFormat Sync="TRUE"/>
<UseRange Sync="TRUE">0</UseRange>
<TimeInterval Sync="TRUE"/>
<TimeIntervalUnits Sync="TRUE"/>
<DataType Sync="TRUE">Generic</DataType>
<RasterStatics.Count Sync="TRUE">374031497</RasterStatics.Count>
</Properties>
<Functions Sync="TRUE">
<Function Description="Performs on-the-fly mosaic on a raster catalog." Name="Mosaic Function"/>
</Functions>
</RasterProperties>
</DataProperties>
<scaleRange>
<minScale>150000000</minScale>
<maxScale>5000</maxScale>
</scaleRange>
<SyncDate>20250710</SyncDate>
<SyncTime>10232100</SyncTime>
<ModDate>20250825</ModDate>
<ModTime>12030100</ModTime>
<ArcGISProfile>ISO19139</ArcGISProfile>
</Esri>
<mdLang>
<languageCode value="eng"/>
<countryCode Sync="TRUE" value="USA"/>
</mdLang>
<mdChar>
<CharSetCd value="004"/>
</mdChar>
<mdHrLv>
<ScopeCd value="005"/>
</mdHrLv>
<mdContact>
<rpIndName>Barry Tyler Wilson</rpIndName>
<rpOrgName>USDA Forest Service, Northern Research Station</rpOrgName>
<rpPosName>Research Forester</rpPosName>
<rpCntInfo>
<cntPhone>
<voiceNum>651-649-5189</voiceNum>
</cntPhone>
<cntAddress addressType="both">
<delPoint>1992 Fowell Avenue</delPoint>
<city>Saint Paul</city>
<adminArea>MN</adminArea>
<postCode>55104</postCode>
<country>US</country>
</cntAddress>
</rpCntInfo>
<role>
<RoleCd value="007"/>
</role>
</mdContact>
<mdDateSt Sync="TRUE">20250825</mdDateSt>
<mdStanName>ArcGIS Metadata</mdStanName>
<mdStanVer>1.0</mdStanVer>
<distInfo>
<distributor>
<distorCont>
<rpIndName>Research Data Archivist</rpIndName>
<rpOrgName>USDA Forest Service, Research and Development</rpOrgName>
<rpPosName>Research Data Archivist</rpPosName>
<rpCntInfo>
<cntPhone>
<voiceNum>608-231-9234</voiceNum>
</cntPhone>
<cntAddress addressType="both">
<delPoint>1601 N. Kent Street, Room 400</delPoint>
<city>Arlington</city>
<adminArea>VA</adminArea>
<postCode>22209-2137</postCode>
<country>US</country>
</cntAddress>
<cntInstr>This contact information was current as of February 2013. For current information see Contact Us page on: http://dx.doi.org/10.2737/RDS.</cntInstr>
</rpCntInfo>
<role>
<RoleCd value="005"/>
</role>
</distorCont>
<distorOrdPrc>
<resFees>none</resFees>
</distorOrdPrc>
<distorFormat>
<formatName>IMG</formatName>
<formatVer>see Format Specification</formatVer>
<formatSpec>ERDAS image file</formatSpec>
<fileDecmTech>Files zipped with Winzip 14.0.</fileDecmTech>
</distorFormat>
<distorTran>
<onLineSrc>
<linkage>http://www.fs.usda.gov/rds/archive</linkage>
</onLineSrc>
</distorTran>
<distorTran>
<onLineSrc>
<orDesc>RDS-2013-0004</orDesc>
</onLineSrc>
</distorTran>
</distributor>
<distTranOps>
<onLineSrc>
<linkage>http://dx.doi.org/10.2737/RDS-2013-0004</linkage>
</onLineSrc>
</distTranOps>
</distInfo>
<dataIdInfo>
<idCitation>
<resTitle>USFS_EDW_FIA_BelowGroundForestCarbon</resTitle>
<date>
<pubDate>2013-01-01</pubDate>
</date>
<citRespParty>
<rpOrgName>Wilson, Barry Tyler</rpOrgName>
<role>
<RoleCd value="006"/>
</role>
</citRespParty>
<citRespParty>
<rpOrgName>Griffith, Douglas M.</rpOrgName>
<role>
<RoleCd value="006"/>
</role>
</citRespParty>
<citRespParty>
<rpOrgName>USDA Forest Service, Northern Research Station</rpOrgName>
<rpCntInfo>
<cntAddress>
<delPoint>Newtown Square, PA</delPoint>
</cntAddress>
</rpCntInfo>
<role>
<RoleCd value="010"/>
</role>
</citRespParty>
<citRespParty>
<rpOrgName>Woodall, Christopher W.</rpOrgName>
<role>
<RoleCd value="006"/>
</role>
</citRespParty>
<presForm>
<PresFormCd value="005"/>
</presForm>
<presForm>
<fgdcGeoform>raster digital data</fgdcGeoform>
</presForm>
<otherCitDet>doi:10.2737/RDS-2013-0004</otherCitDet>
</idCitation>
<idAbs>&lt;div style='text-align:Left;'&gt;&lt;div&gt;&lt;div&gt;&lt;p&gt;&lt;span&gt;Through application of a nearest-neighbor imputation approach, mapped estimates of forest carbon density were developed for the contiguous United States using the annual forest inventory conducted by the USDA Forest Service Forest Inventory and Analysis (FIA) program, MODIS satellite imagery, and ancillary geospatial datasets. This data product contains the following 8 raster maps: total forest carbon in all stocks, live tree aboveground forest carbon, live tree belowground forest carbon, forest down dead carbon, forest litter carbon, forest standing dead carbon, forest soil organic carbon, and forest understory carbon.&lt;/span&gt;&lt;/p&gt;&lt;p&gt;&lt;span&gt;The paper on which these maps are based may be found here: https://dx.doi.org/10.2737/RDS-2013-0004.&lt;/span&gt;&lt;/p&gt;&lt;p&gt;&lt;span&gt;Access to full metadata and other information can be accessed here: https://dx.doi.org/10.2737/RDS-2013-0004.&lt;/span&gt;&lt;/p&gt;&lt;/div&gt;&lt;/div&gt;&lt;/div&gt;</idAbs>
<idPurp>Forest carbon stocks of the contiguous United States</idPurp>
<idStatus>
<ProgCd value="001"/>
</idStatus>
<idPoC>
<rpIndName>Barry Tyler Wilson</rpIndName>
<rpOrgName>USDA Forest Service, Northern Research Station</rpOrgName>
<rpPosName>Research Forester</rpPosName>
<rpCntInfo>
<cntPhone>
<voiceNum>651-649-5189</voiceNum>
</cntPhone>
<cntAddress addressType="both">
<delPoint>Northern Research Station</delPoint>
<delPoint>1992 Folwell Avenue</delPoint>
<city>Saint Paul</city>
<adminArea>MN</adminArea>
<postCode>55108</postCode>
<country>US</country>
</cntAddress>
</rpCntInfo>
<role>
<RoleCd value="007"/>
</role>
</idPoC>
<resMaint>
<maintFreq>
<MaintFreqCd value="012"/>
</maintFreq>
</resMaint>
<placeKeys>
<thesaName>
<resTitle>Geographic Names Information System</resTitle>
</thesaName>
<keyword>United States</keyword>
<keyword>CONUS</keyword>
</placeKeys>
<themeKeys>
<thesaName>
<resTitle>National Research &amp; Development Taxonomy</resTitle>
</thesaName>
<keyword>Soil</keyword>
<keyword>Monitoring</keyword>
<keyword>Plant ecology</keyword>
<keyword>Carbon</keyword>
<keyword>Ecology, Ecosystems, &amp; Environment</keyword>
<keyword>Inventory, Monitoring, &amp; Analysis</keyword>
<keyword>Climate Change</keyword>
<keyword>climatology</keyword>
<keyword>Meteorology</keyword>
<keyword>Atmosphere</keyword>
<keyword>Forest</keyword>
<keyword>Stocks</keyword>
</themeKeys>
<searchKeys>
<keyword>United</keyword>
<keyword>States</keyword>
<keyword>Climatology</keyword>
<keyword>Meteorology</keyword>
<keyword>Atmosphere</keyword>
<keyword>Soil</keyword>
<keyword>Stocks</keyword>
<keyword>Monitoring</keyword>
<keyword>Imagery</keyword>
<keyword>BaseMaps</keyword>
<keyword>EarthCover</keyword>
<keyword>Plant</keyword>
<keyword>Ecology</keyword>
<keyword>CONUS</keyword>
<keyword>Carbon</keyword>
<keyword>Forest</keyword>
<keyword>Ecosystems</keyword>
<keyword>Environment</keyword>
<keyword>Inventory</keyword>
<keyword>Analysis</keyword>
<keyword>Climate</keyword>
<keyword>Change</keyword>
<keyword>Below</keyword>
<keyword>Ground</keyword>
<keyword>USFS</keyword>
<keyword>FIA</keyword>
</searchKeys>
<resConst>
<LegConsts>
<useLimit>This metadata document has been reviewed for accuracy and completeness. The data are considered to satisfy the USDA Forest Service's quality standards relative to the purpose for which the data were collected. However, the Forest Service cannot assure the reliability or suitability of these data for a particular purpose. The act of distribution shall not constitute any such warranty, and no responsibility is assumed by the Forest Service for a user's application of these data or related materials. The metadata, data, or related materials may be updated without notification. If a user believes errors are present in the metadata, data or related materials, please use the information in (1) Identification Information: Point of Contact, (2) Metadata Reference: Metadata Contact, or (3) Distribution Information: Distributor to notify the Forest Service of the issues. Additional information is available at http://www.fs.fed.us/qoi.</useLimit>
</LegConsts>
</resConst>
<aggrInfo>
<aggrDSName>
<resTitle>Imputing forest carbon stock estimates from inventory plots to a nationally continuous coverage</resTitle>
<date>
<pubDate>2013-01-01</pubDate>
</date>
<citRespParty>
<rpOrgName>Wilson, Barry Tyler</rpOrgName>
<role>
<RoleCd value="006"/>
</role>
</citRespParty>
<citRespParty>
<rpOrgName>Woodall, Christopher W.</rpOrgName>
<role>
<RoleCd value="006"/>
</role>
</citRespParty>
<citRespParty>
<rpOrgName>Griffith, Douglas M.</rpOrgName>
<role>
<RoleCd value="006"/>
</role>
</citRespParty>
<presForm>
<fgdcGeoform>journal article</fgdcGeoform>
</presForm>
<datasetSeries>
<seriesName>Carbon Balance and Management</seriesName>
<issId>8:1</issId>
</datasetSeries>
<citOnlineRes>
<linkage>http://www.treesearch.fs.fed.us/pubs/42806</linkage>
</citOnlineRes>
</aggrDSName>
<assocType>
<AscTypeCd value="001"/>
</assocType>
</aggrInfo>
<dataLang>
<languageCode value="eng"/>
<countryCode Sync="TRUE" value="USA"/>
</dataLang>
<dataExt>
<exDesc>ground condition</exDesc>
<tempEle>
<TempExtent>
<exTemp>
<TM_Period>
<tmBegin>2000-01-01</tmBegin>
<tmEnd>2009-01-01</tmEnd>
</TM_Period>
</exTemp>
</TempExtent>
</tempEle>
</dataExt>
<dataExt>
<geoEle>
<GeoBndBox>
<westBL>-125</westBL>
<eastBL>-66</eastBL>
<southBL>24</southBL>
<northBL>50</northBL>
</GeoBndBox>
</geoEle>
</dataExt>
<envirDesc Sync="TRUE">Microsoft Windows Server 2016 Technical Preview Version 10.0 (Build 17763) ; Esri ArcGIS 13.5.0.57366</envirDesc>
<spatRpType>
<SpatRepTypCd Sync="TRUE" value="002"/>
</spatRpType>
<dataExt>
<geoEle>
<GeoBndBox esriExtentType="search">
<exTypeCode Sync="TRUE">1</exTypeCode>
<westBL Sync="TRUE">-128.489638</westBL>
<eastBL Sync="TRUE">-64.738448</eastBL>
<northBL Sync="TRUE">51.928590</northBL>
<southBL Sync="TRUE">22.427866</southBL>
</GeoBndBox>
</geoEle>
</dataExt>
<resConst>
<Consts>
<useLimit>&lt;div style='text-align:Left;'&gt;&lt;div&gt;&lt;div&gt;&lt;p style='margin:0 0 11 0;'&gt;&lt;span&gt;The USDA Forest Service makes no warranty, expressed or implied, including the warranties of merchantability and fitness for a particular purpose, nor assumes any legal liability or responsibility for the accuracy, reliability, completeness or utility of these geospatial data, or for the improper or incorrect use of these geospatial data. These geospatial data and related maps or graphics are not legal documents and are not intended to be used as such. The data and maps may not be used to determine title, ownership, legal descriptions or boundaries, legal jurisdiction, or restrictions that may be in place on either public or private land. Natural hazards may or may not be depicted on the data and maps, and land users should exercise due caution. The data are dynamic and may change over time. The user is responsible to verify the limitations of the geospatial data and to use the data accordingly. &lt;/span&gt;&lt;/p&gt;&lt;p style='margin:0 0 11 0;'&gt;&lt;span /&gt;&lt;/p&gt;&lt;p style='margin:0 0 11 0;'&gt;&lt;span&gt;Additionally, the U.S. Forest Service waives copyright and related rights in the work worldwide through the CC0 (which can be found at https://creativecommons.org/public-domain/cc0/). &lt;/span&gt;&lt;/p&gt;&lt;p style='margin:0 0 11 0;'&gt;&lt;span /&gt;&lt;/p&gt;&lt;p style='margin:0 0 11 0;'&gt;&lt;span&gt;In accordance with Federal civil rights law and U.S. Department of Agriculture (USDA) civil rights regulations and policies, the USDA, its Agencies, offices, and employees, and institutions participating in or administering USDA programs are prohibited from discriminating based on race, color, national origin, religion, sex, disability, age, marital status, family/parental status, income derived from a public assistance program, political beliefs, or reprisal or retaliation for prior civil rights activity, in any program or activity conducted or funded by USDA (not all bases apply to all programs). Remedies and complaint filing deadlines vary by program or incident. &lt;/span&gt;&lt;/p&gt;&lt;p style='margin:0 0 11 0;'&gt;&lt;span /&gt;&lt;/p&gt;&lt;p style='margin:0 0 11 0;'&gt;&lt;span&gt;Persons with disabilities who require alternative means of communication for program information (e.g., Braille, large print, audiotape, American Sign Language, etc.) should contact the State or local Agency that administers the program or contact USDA through the Telecommunications Relay Service at 711 (voice and TTY). Additionally, program information may be made available in languages other than English. &lt;/span&gt;&lt;/p&gt;&lt;p style='margin:0 0 11 0;'&gt;&lt;span /&gt;&lt;/p&gt;&lt;p style='margin:0 0 11 0;'&gt;&lt;span&gt;To file a program discrimination complaint, complete the USDA Program Discrimination Complaint Form, AD-3027, found online at How to File a Program Discrimination Complaint and at any USDA office or write a letter addressed to USDA and provide in the letter all of the information requested in the form. To request a copy of the complaint form, call (866) 632-9992. Submit your completed form or letter to USDA by: (1) mail: U.S. Department of Agriculture, Office of the Assistant Secretary for Civil Rights, 1400 Independence Avenue, SW, Mail Stop 9410, Washington, D.C. 20250-9410; (2) fax: (202) 690-7442; or (3) email: program.intake@usda.gov. &lt;/span&gt;&lt;/p&gt;&lt;p style='margin:0 0 11 0;'&gt;&lt;span /&gt;&lt;/p&gt;&lt;p style='margin:0 0 11 0;'&gt;&lt;span&gt;USDA is an equal opportunity provider, employer, and lender. &lt;/span&gt;&lt;/p&gt;&lt;/div&gt;&lt;/div&gt;&lt;/div&gt;</useLimit>
</Consts>
</resConst>
<idCredit>These data were collected using funding from the U.S. Government and can be used without additional permissions or fees. If you use these data in a publication, presentation, or other research product please use the following citation:
Wilson, Barry Tyler; Woodall, Christopher W.; Griffith, Douglas M. 2013. Forest carbon stocks of the contiguous United States (2000-2009). Newtown Square, PA: U.S. Department of Agriculture, Forest Service, Northern Research Station. https://doi.org/10.2737/RDS-2013-0004</idCredit>
<tpCat>
<TopicCatCd value="010"/>
</tpCat>
<tpCat>
<TopicCatCd value="007"/>
</tpCat>
<tpCat>
<TopicCatCd value="004"/>
</tpCat>
</dataIdInfo>
<mdMaint>
<maintFreq>
<MaintFreqCd value="012"/>
</maintFreq>
</mdMaint>
<dqInfo>
<dqScope>
<scpLvl>
<ScopeCd value="005"/>
</scpLvl>
</dqScope>
<report type="DQConcConsis">
<measDesc>Validation results suggest strong agreement between the estimates produced from the forest inventory plots and those from the imputed maps, particularly when the carbon pool is closely associated with the imputation model, with weaker agreement for standing dead trees. The level of agreement depends upon scale, as well as thematic resolution, with better results when assessing larger aggregations of carbon pools.</measDesc>
</report>
<report type="DQCompOm">
<measDesc>not applicable</measDesc>
</report>
<report type="DQQuanAttAcc">
<measDesc>A complete comparative assessment of these raster data, relative to FIA field plot data, can be found in: Wilson, Barry Tyler; Woodall, Christopher W.; Griffith, Douglas M. 2013. Imputing forest carbon stock estimates from inventory plots to a nationally continuous coverage. Carbon Balance and Management. 8:1.</measDesc>
</report>
<report dimension="horizontal" type="DQAbsExtPosAcc">
<measDesc>Several other raster datasets were used in the development of these data, along with FIA field plot data. Uncertainty in the geographic registration in each of these data sources will contribute to the positional accuracy of the final product. Overall horizontal positional accuracy is expected to be within 1 pixel in either dimension (i.e. 250 meters).</measDesc>
</report>
<dataLineage>
<prcStep>
<stepDesc>The methodology utilized outputs from an ecological ordination model that related live tree measurements made on FIA field plots (response variables) with the associated environmental factors (predictor variables) at each plot location, such as seasonal temperatures and precipitation from the Daymet model, landscape position from the Elevation Derivatives for National Applications dataset, USEPA Level III ecological regions, and vegetation phenology derived from MODIS satellite imagery. These outputs, along with tree canopy cover information from the National Land Cover Dataset, were used to impute forest carbon stock estimates derived for individual field plots to each pixel in the raster map. A complete description of the mapping methodology, including data sources used, can be found in: Wilson, Barry Tyler; Woodall, Christopher W.; Griffith, Douglas M. 2013. Imputing forest carbon stock estimates from inventory plots to a nationally continuous coverage. Carbon Balance and Management. 8:1.</stepDesc>
<stepDateTm date="unknown"/>
</prcStep>
</dataLineage>
</dqInfo>
<spatRepInfo>
<Georect>
<numDims>2</numDims>
<axisDimension type="001">
<dimSize>11917</dimSize>
<dimResol>
<value Sync="TRUE" uom="m">250.000000</value>
</dimResol>
</axisDimension>
<axisDimension type="002">
<dimSize>18744</dimSize>
<dimResol>
<value Sync="TRUE" uom="m">250.000000</value>
</dimResol>
</axisDimension>
<cellGeo>
<CellGeoCd Sync="TRUE" value="002"/>
</cellGeo>
<tranParaAv Sync="TRUE">1</tranParaAv>
<chkPtAv Sync="TRUE">0</chkPtAv>
<cornerPts>
<pos Sync="TRUE">-14303401.039500 2562973.816500</pos>
</cornerPts>
<cornerPts>
<pos Sync="TRUE">-14303401.039500 6787223.816500</pos>
</cornerPts>
<cornerPts>
<pos Sync="TRUE">-7206651.039500 6787223.816500</pos>
</cornerPts>
<cornerPts>
<pos Sync="TRUE">-7206651.039500 2562973.816500</pos>
</cornerPts>
<centerPt>
<pos Sync="TRUE">-10755026.039500 4675098.816500</pos>
</centerPt>
<ptInPixel>
<PixOrientCd Sync="TRUE" value="001"/>
</ptInPixel>
</Georect>
</spatRepInfo>
<refSysInfo>
<RefSystem>
<refSysID>
<identCode Sync="TRUE" code="3857"/>
<idCodeSpace Sync="TRUE">EPSG</idCodeSpace>
<idVersion Sync="TRUE">6.18.3(9.3.1.2)</idVersion>
</refSysID>
</RefSystem>
</refSysInfo>
<contInfo>
<ImgDesc>
<contentTyp>
