{ "extent": { "ymin": 3832932.8427177686, "xmin": -13891335.736749625, "ymax": 6593622.8430858608, "xmax": -11267115.736399729, "spatialReference": { "latestWkid": 3857, "wkid": 102100 } }, "blockWidth": 2048, "mosaicOperator": "First", "serviceSourceType": "esriImageServiceSourceTypeMosaicDataset", "hasMultidimensions": false, "maxImageWidth": 100000, "maxRecordCount": 1000, "meanValues": [0.80953237701535652], "hasColormap": false, "compressionType": "None", "defaultCompressionQuality": 75, "maxValues": [3], "hasHistograms": true, "datasetFormat": "AMD", "maxImageHeight": 100000, "sortField": "", "bandNames": ["Band_1"], "spatialReference": { "latestWkid": 3857, "wkid": 102100 }, "fullExtent": { "ymin": 3832932.8427177686, "xmin": -13891335.736749625, "ymax": 6593622.8430858608, "xmax": -11267115.736399729, "spatialReference": { "latestWkid": 3857, "wkid": 102100 } }, "bandCount": 1, "rasterFunctionInfos": [ { "help": "", "name": "sagebrushecologicalintegrity_symbology", "description": "sagebrush ecological integrity symbology" }, { "help": "", "name": "None", "description": "Make a Raster or Raster Dataset into a Function Raster Dataset." } ], "supportsStatistics": true, "sortableFields": "minps,maxps,lowps,highps,centerx,centery,zorder", "minValues": [0], "allowRasterFunction": true, "allowComputeTiePoints": false, "serviceDataType": "esriImageServiceDataTypeGeneric", "supportsAdvancedQueries": true, "maxDownloadSizeLimit": 2048, "currentVersion": 12, "sortValue": null, "objectIdField": "objectid", "blockHeight": 256, "initialExtent": { "ymin": 3832932.8427177686, "xmin": -13891335.736749625, "ymax": 6593622.8430858608, "xmax": -11267115.736399729, "spatialReference": { "latestWkid": 3857, "wkid": 102100 } }, "pixelSizeX": 30.000000004, "pixelSizeY": 30.000000004000004, "defaultMosaicMethod": "Northwest", "name": "Ecosystems/USFS_CRV_Biodiversity_SagebrushEcologicalIntegrity", "allowedMosaicMethods": "NorthWest,Center,LockRaster,ByAttribute,Nadir,Viewpoint,Seamline,None", "maxDownloadImageCount": 20, "fields": [ { "domain": null, "name": "objectid", "alias": "objectid", "type": "esriFieldTypeOID" }, { "domain": null, "name": "name", "length": 200, "alias": "name", "type": "esriFieldTypeString" }, { "domain": null, "name": "minps", "alias": "minps", "type": "esriFieldTypeDouble" }, { "domain": null, "name": "maxps", "alias": "maxps", "type": "esriFieldTypeDouble" }, { "domain": null, "name": "lowps", "alias": "lowps", "type": "esriFieldTypeDouble" }, { "domain": null, "name": "highps", "alias": "highps", "type": "esriFieldTypeDouble" }, { "domain": { "splitPolicy": "esriSPTDefaultValue", "name": "MosaicCatalogItemCategoryDomain", "description": "Catalog item categories.", "type": "codedValue", "codedValues": [ { "code": 0, "name": "Unknown" }, { "code": 1, "name": "Primary" }, { "code": 2, "name": "Overview" }, { "code": 3, "name": "Unprocessed Overview" }, { "code": 4, "name": "Partial Overview" }, { "code": 5, "name": "Inactive" }, { "code": 253, "name": "Uploaded" }, { "code": 254, "name": "Incomplete" }, { "code": 255, "name": "Custom" } ], "mergePolicy": "esriMPTDefaultValue" }, "name": "category", "alias": "category", "type": "esriFieldTypeInteger" }, { "domain": null, "name": "tag", "length": 100, "alias": "tag", "type": "esriFieldTypeString" }, { "domain": null, "name": "groupname", "length": 100, "alias": "groupname", "type": "esriFieldTypeString" }, { "domain": null, "name": "productname", "length": 100, "alias": "productname", "type": "esriFieldTypeString" }, { "domain": null, "name": "centerx", "alias": "centerx", "type": "esriFieldTypeDouble" }, { "domain": null, "name": "centery", "alias": "centery", "type": "esriFieldTypeDouble" }, { "domain": null, "name": "zorder", "alias": "zorder", "type": "esriFieldTypeInteger" }, { "domain": null, "name": "shape", "alias": "shape", "type": "esriFieldTypeGeometry" } ], "allowAnalysis": true, "hasRasterAttributeTable": false, "useStandardizedQueries": true, "description": "", "pixelType": "U8", "meanPixelSize": 30.000000004, "exportTilesAllowed": false, "editFieldsInfo": null, "rasterTypeInfos": [{ "help": "", "name": "Raster Dataset", "description": "Supports all ArcGIS Raster Datasets" }], "defaultResamplingMethod": "Nearest", "itemAccess": false, "minScale": 0, "serviceProperties": "NorthWest<\/MosaicMethod>First<\/MosaicOperator>true<\/SortAscending><\/LockImageID>name<\/TileOrderField>0<\/TileOrderBase>600.000000<\/AvgImageSpacingX>300.000000<\/AvgImageSpacingY>0.0<\/ViewPointX>0.0<\/ViewPointY>0.0<\/ViewPointDefShiftX>0.0<\/ViewPointDefShiftY>None<\/CompressionMethod>75<\/CompressionQuality>0.010000<\/CompressionTolerance>Nearest<\/SamplingMethod><\/ImageServiceProperties><\/ImageServer>", "advancedQueryCapabilities": { "supportsStatistics": true, "supportsSqlExpression": true, "supportsOrderBy": true, "useStandardizedQueries": true, "supportsPagination": true, "supportsDistinct": true }, "serviceItemId": "0231d625dc43445ea63d3387d85d5763", "capabilities": "Image,Metadata,Catalog,Mensuration", "maxScale": 0, "stdvValues": [1.1998750543572476], "allowedFields": "name,minps,maxps,lowps,highps,tag,groupname,productname,centerx,centery,zorder", "minPixelSize": 0, "sortAscending": true, "maxMosaicImageCount": 100, "inspectionCapabilities": "", "maxPixelSize": 0, "uncompressedSize": 8049619902, "serviceDescription": "

These data were compiled as a part of a landscape conservation design effort for the sagebrush biome, and are the result of applying a spatially explicit model that assessed geographic patterns in sagebrush ecological integrity and used these results to identify Core Sagebrush Areas (CSAs), Growth Opportunity Areas (GOAs), and Other Rangeland Areas (ORAs). The estimation of sagebrush ecological integrity was derived from a spatial model that characterizes patches with high ecological integrity as those with abundant big sagebrush and perennial grass/forb cover and with minimal annual grass/forb cover, minimal conifers, and minimal human modification. \u201cCore Sagebrush Areas\u201d are places where those high-integrity patches converge to create large intact landscapes. This spatial model was applied over the entire sagebrush biome for several time periods and was estimated for 5 historical time periods between 1998 and 2020, and for one future time period (2030-2060). For each time period, input data were derived from satellite imagery (e.g. data on sagebrush and perennial grass cover), and the spatial model used those input values to estimate sagebrush ecological integrity. This approach to estimating ecological integrity was developed by consultation with experts from across the biome, allowing for the relationship between integrity and plant cover to vary among regions, as described in Doherty et al (2022). These data can be used to inform and prioritize conservation and restoration efforts across the sagebrush biome. For more information, please see - https://www.sciencebase.gov/catalog/item/62d57e89d34e87fffb2dda62 . <\/SPAN><\/P>
<\/P>
Spatial Extent: Western CONUS<\/SPAN><\/P>
Units: \"Categories of Sagebrush:<\/SPAN><\/P>
Non-sagebrush areas (not included in analyses)<\/SPAN><\/P>
Core habitat areas<\/SPAN><\/P>
Growth opportunity areas<\/SPAN><\/P>
Other rangeland areas\"<\/SPAN><\/P><\/DIV><\/DIV>", "allowCopy": true, "copyrightText": "Doherty, K., Theobald, D.M., Holdrege, M.C., Wiechman, L.A., and Bradford, J.B., 2022, Biome-wide sagebrush core habitat and growth areas estimated from a threat-based conservation design: U.S. Geological Survey data release, https://doi.org/10.5066/P94Y5CDV.", "mensurationCapabilities": "Basic", "ownershipBasedAccessControlForRasters": null }