{ "extent": { "ymin": 2816729.9892890798, "xmin": -13888530, "ymax": 6340375.9921999872, "xmax": -7452628.8066483326, "spatialReference": { "latestWkid": 3857, "wkid": 102100 } }, "blockWidth": 2048, "mosaicOperator": "First", "serviceSourceType": "esriImageServiceSourceTypeMosaicDataset", "hasMultidimensions": false, "maxImageWidth": 100000, "maxRecordCount": 1000, "meanValues": [1.9301697219826139], "hasColormap": false, "compressionType": "None", "defaultCompressionQuality": 75, "maxValues": [7], "hasHistograms": true, "datasetFormat": "AMD", "maxImageHeight": 100000, "sortField": "", "bandNames": ["Band_1"], "spatialReference": { "latestWkid": 3857, "wkid": 102100 }, "fullExtent": { "ymin": 2816729.9892890798, "xmin": -13888530, "ymax": 6340375.9921999872, "xmax": -7452628.8066483326, "spatialReference": { "latestWkid": 3857, "wkid": 102100 } }, "bandCount": 1, "rasterFunctionInfos": [ { "help": "", "name": "physiographicdiversity_symbology", "description": "physiographic diversity symbology" }, { "help": "", "name": "None", "description": "Make a Raster or Raster Dataset into a Function Raster Dataset." } ], "supportsStatistics": true, "sortableFields": "minps,maxps,lowps,highps,centerx,centery,zorder", "minValues": [0], "allowRasterFunction": true, "allowComputeTiePoints": false, "serviceDataType": "esriImageServiceDataTypeGeneric", "supportsAdvancedQueries": true, "maxDownloadSizeLimit": 2048, "currentVersion": 12, "sortValue": null, "objectIdField": "objectid", "blockHeight": 256, "initialExtent": { "ymin": 2816729.9892890798, "xmin": -13888530, "ymax": 6340375.9921999872, "xmax": -7452628.8066483326, "spatialReference": { "latestWkid": 3857, "wkid": 102100 } }, "pixelSizeX": 304.62920402100002, "pixelSizeY": 304.62920402100002, "defaultMosaicMethod": "Northwest", "name": "Ecosystems/USFS_CRV_Biodiversity_PhysiographicDiversity", "allowedMosaicMethods": "NorthWest,Center,LockRaster,ByAttribute,Nadir,Viewpoint,Seamline,None", "maxDownloadImageCount": 20, "fields": [ { "domain": null, "name": "objectid", "alias": "objectid", "type": "esriFieldTypeOID" }, { "domain": null, "name": "name", "length": 200, "alias": "name", "type": "esriFieldTypeString" }, { "domain": null, "name": "minps", "alias": "minps", "type": "esriFieldTypeDouble" }, { "domain": null, "name": "maxps", "alias": "maxps", "type": "esriFieldTypeDouble" }, { "domain": null, "name": "lowps", "alias": "lowps", "type": "esriFieldTypeDouble" }, { "domain": null, "name": "highps", "alias": "highps", "type": "esriFieldTypeDouble" }, { "domain": { "splitPolicy": "esriSPTDefaultValue", "name": "MosaicCatalogItemCategoryDomain", "description": "Catalog item categories.", "type": "codedValue", "codedValues": [ { "code": 0, "name": "Unknown" }, { "code": 1, "name": "Primary" }, { "code": 2, "name": "Overview" }, { "code": 3, "name": "Unprocessed Overview" }, { "code": 4, "name": "Partial Overview" }, { "code": 5, "name": "Inactive" }, { "code": 253, "name": "Uploaded" }, { "code": 254, "name": "Incomplete" }, { "code": 255, "name": "Custom" } ], "mergePolicy": "esriMPTDefaultValue" }, "name": "category", "alias": "category", "type": "esriFieldTypeInteger" }, { "domain": null, "name": "tag", "length": 100, "alias": "tag", "type": "esriFieldTypeString" }, { "domain": null, "name": "groupname", "length": 100, "alias": "groupname", "type": "esriFieldTypeString" }, { "domain": null, "name": "productname", "length": 100, "alias": "productname", "type": "esriFieldTypeString" }, { "domain": null, "name": "centerx", "alias": "centerx", "type": "esriFieldTypeDouble" }, { "domain": null, "name": "centery", "alias": "centery", "type": "esriFieldTypeDouble" }, { "domain": null, "name": "zorder", "alias": "zorder", "type": "esriFieldTypeInteger" }, { "domain": null, "name": "shape", "alias": "shape", "type": "esriFieldTypeGeometry" } ], "allowAnalysis": true, "hasRasterAttributeTable": false, "useStandardizedQueries": true, "description": "", "pixelType": "U8", "meanPixelSize": 304.62920402100002, "exportTilesAllowed": false, "editFieldsInfo": null, "rasterTypeInfos": [{ "help": "", "name": "Raster Dataset", "description": "Supports all ArcGIS Raster Datasets" }], "defaultResamplingMethod": "Nearest", "itemAccess": false, "minScale": 0, "serviceProperties": "NorthWest<\/MosaicMethod>First<\/MosaicOperator>true<\/SortAscending><\/LockImageID>name<\/TileOrderField>0<\/TileOrderBase>600.000000<\/AvgImageSpacingX>300.000000<\/AvgImageSpacingY>0.0<\/ViewPointX>0.0<\/ViewPointY>0.0<\/ViewPointDefShiftX>0.0<\/ViewPointDefShiftY>None<\/CompressionMethod>75<\/CompressionQuality>0.010000<\/CompressionTolerance>Nearest<\/SamplingMethod><\/ImageServiceProperties><\/ImageServer>", "advancedQueryCapabilities": { "supportsStatistics": true, "supportsSqlExpression": true, "supportsOrderBy": true, "useStandardizedQueries": true, "supportsPagination": true, "supportsDistinct": true }, "serviceItemId": "90cb85c10a034ba5b9751ace2a59efd6", "capabilities": "Image,Metadata,Catalog,Mensuration", "maxScale": 0, "stdvValues": [1.1848047435583042], "allowedFields": "name,minps,maxps,lowps,highps,tag,groupname,productname,centerx,centery,zorder", "minPixelSize": 0, "sortAscending": true, "maxMosaicImageCount": 100, "inspectionCapabilities": "", "maxPixelSize": 0, "uncompressedSize": 244376009, "serviceDescription": "

Physiographic diversity, or geodiversity, is a measure of abiotic diversity. It refers to the physical features that provide the environmental setting or \"stage\" for biological activity. Areas with greater diversity in physical features usually correlate with higher levels of biodiversity. The greater number of ecological niches present in a physiographically diverse landscape often support the presence of rare species and high levels of endemism. As a result, geodiversity may be used in some contexts as a proxy for biodiversity and/or endemism when other data are unavailable and/or to augment existing information on species and their habitats. Geodiversity is also recognized as a crucial element of climate refugia. To develop this dataset, Theobald et al. generated novel spatial databases for 15 landform and 269 physiographic types across the conterminous United States of America. They examined their potential use by natural resource managers by placing them within a contemporary climate change adaptation framework, and found the physiographic databases could play key roles in four of seven general adaptation strategies. They also calculated correlations with common empirical measures of biodiversity to examine the degree to which the physiographic setting explains various aspects of current biodiversity patterns. Additionally, they evaluated the relationship between landform diversity and measures of climate change to explore how changes may unfold across a geophysical template. ( Theobald et al 2015 - https://journals.plos.org/plosone/article?id=10.1371/journal.pone.0143619 ). <\/SPAN><\/P>
<\/P>
Spatial Extent: CONUS<\/SPAN><\/P>
Units: Shannon's Equitability<\/SPAN><\/P><\/DIV><\/DIV>", "allowCopy": true, "copyrightText": "Conservation Planning Technologies: Theobald et al. 2015", "mensurationCapabilities": "Basic", "ownershipBasedAccessControlForRasters": null }