{ "extent": { "ymin": 2663198.7052080417, "xmin": -14230566.692751875, "ymax": 6717248.7052080417, "xmax": -7279776.6927518751, "spatialReference": { "latestWkid": 3857, "wkid": 102100 } }, "blockWidth": 2048, "mosaicOperator": "First", "serviceSourceType": "esriImageServiceSourceTypeMosaicDataset", "hasMultidimensions": false, "maxImageWidth": 100000, "maxRecordCount": 1000, "meanValues": [82.632470689628548], "hasColormap": false, "compressionType": "None", "defaultCompressionQuality": 75, "maxValues": [99], "hasHistograms": true, "datasetFormat": "AMD", "maxImageHeight": 100000, "sortField": "", "bandNames": ["Band_1"], "spatialReference": { "latestWkid": 3857, "wkid": 102100 }, "fullExtent": { "ymin": 2663198.7052080417, "xmin": -14230566.692751875, "ymax": 6717248.7052080417, "xmax": -7279776.6927518751, "spatialReference": { "latestWkid": 3857, "wkid": 102100 } }, "bandCount": 1, "rasterFunctionInfos": [ { "help": "", "name": "biodiversityimportance_symbology", "description": "biodiversity importance symbology" }, { "help": "", "name": "None", "description": "Make a Raster or Raster Dataset into a Function Raster Dataset." } ], "supportsStatistics": true, "sortableFields": "minps,maxps,lowps,highps,centerx,centery,zorder", "minValues": [75], "allowRasterFunction": true, "allowComputeTiePoints": false, "serviceDataType": "esriImageServiceDataTypeGeneric", "supportsAdvancedQueries": true, "maxDownloadSizeLimit": 2048, "currentVersion": 12, "sortValue": null, "objectIdField": "objectid", "blockHeight": 256, "initialExtent": { "ymin": 2663198.7052080417, "xmin": -14230566.692751875, "ymax": 6717248.7052080417, "xmax": -7279776.6927518751, "spatialReference": { "latestWkid": 3857, "wkid": 102100 } }, "pixelSizeX": 990, "pixelSizeY": 990, "defaultMosaicMethod": "Northwest", "name": "Ecosystems/USFS_CRV_Biodiversity_NatureServeMapOfBiodiversityImpor", "allowedMosaicMethods": "NorthWest,Center,LockRaster,ByAttribute,Nadir,Viewpoint,Seamline,None", "maxDownloadImageCount": 20, "fields": [ { "domain": null, "name": "objectid", "alias": "objectid", "type": "esriFieldTypeOID" }, { "domain": null, "name": "name", "length": 200, "alias": "name", "type": "esriFieldTypeString" }, { "domain": null, "name": "minps", "alias": "minps", "type": "esriFieldTypeDouble" }, { "domain": null, "name": "maxps", "alias": "maxps", "type": "esriFieldTypeDouble" }, { "domain": null, "name": "lowps", "alias": "lowps", "type": "esriFieldTypeDouble" }, { "domain": null, "name": "highps", "alias": "highps", "type": "esriFieldTypeDouble" }, { "domain": { "splitPolicy": "esriSPTDefaultValue", "name": "MosaicCatalogItemCategoryDomain", "description": "Catalog item categories.", "type": "codedValue", "codedValues": [ { "code": 0, "name": "Unknown" }, { "code": 1, "name": "Primary" }, { "code": 2, "name": "Overview" }, { "code": 3, "name": "Unprocessed Overview" }, { "code": 4, "name": "Partial Overview" }, { "code": 5, "name": "Inactive" }, { "code": 253, "name": "Uploaded" }, { "code": 254, "name": "Incomplete" }, { "code": 255, "name": "Custom" } ], "mergePolicy": "esriMPTDefaultValue" }, "name": "category", "alias": "category", "type": "esriFieldTypeInteger" }, { "domain": null, "name": "tag", "length": 100, "alias": "tag", "type": "esriFieldTypeString" }, { "domain": null, "name": "groupname", "length": 100, "alias": "groupname", "type": "esriFieldTypeString" }, { "domain": null, "name": "productname", "length": 100, "alias": "productname", "type": "esriFieldTypeString" }, { "domain": null, "name": "centerx", "alias": "centerx", "type": "esriFieldTypeDouble" }, { "domain": null, "name": "centery", "alias": "centery", "type": "esriFieldTypeDouble" }, { "domain": null, "name": "zorder", "alias": "zorder", "type": "esriFieldTypeInteger" }, { "domain": null, "name": "shape", "alias": "shape", "type": "esriFieldTypeGeometry" } ], "allowAnalysis": true, "hasRasterAttributeTable": false, "useStandardizedQueries": true, "description": "", "pixelType": "U8", "meanPixelSize": 990, "exportTilesAllowed": false, "editFieldsInfo": null, "rasterTypeInfos": [{ "help": "", "name": "Raster Dataset", "description": "Supports all ArcGIS Raster Datasets" }], "defaultResamplingMethod": "Nearest", "itemAccess": false, "minScale": 0, "serviceProperties": "NorthWest<\/MosaicMethod>First<\/MosaicOperator>true<\/SortAscending><\/LockImageID>name<\/TileOrderField>0<\/TileOrderBase>600.000000<\/AvgImageSpacingX>300.000000<\/AvgImageSpacingY>0.0<\/ViewPointX>0.0<\/ViewPointY>0.0<\/ViewPointDefShiftX>0.0<\/ViewPointDefShiftY>None<\/CompressionMethod>75<\/CompressionQuality>0.010000<\/CompressionTolerance>Nearest<\/SamplingMethod><\/ImageServiceProperties><\/ImageServer>", "advancedQueryCapabilities": { "supportsStatistics": true, "supportsSqlExpression": true, "supportsOrderBy": true, "useStandardizedQueries": true, "supportsPagination": true, "supportsDistinct": true }, "serviceItemId": "d8a75b7542ce4532af7e8f0b053170db", "capabilities": "Image,Metadata,Catalog,Mensuration", "maxScale": 0, "stdvValues": [9.0695486570775845], "allowedFields": "name,minps,maxps,lowps,highps,tag,groupname,productname,centerx,centery,zorder", "minPixelSize": 0, "sortAscending": true, "maxMosaicImageCount": 100, "inspectionCapabilities": "", "maxPixelSize": 0, "uncompressedSize": 28750995, "serviceDescription": "

This dataset uses habitat suitability models to identify areas representing habitat conservation opportunities for a taxonomically diverse set of 2,216 of the nation's most imperiled species as listed below. Imperiled species are defined as species designated Globally Critically Imperiled (G1), Globally Imperiled (G2), or listed at the full species level on the Endangered Species Act. Higher scores are driven by the rarity (range size) of an imperiled species, the number of imperiled species co-occurring in a single grid cell, or a combination of both. Species include: -Vertebrates (birds, mammals, amphibians, reptiles, freshwater fishes; 309 species) -Freshwater invertebrates (mussels and crayfishes; 228 species) -Pollinators (bumblebees, butterflies, and skippers; 43 species) -Vascular plants (1,636 species) MoBI highlights the important relationship between species range size and habitat conservation opportunities. Within each Forest Service region, the grid cells with the highest (25%, 10%, 5%, and 1%) scores were identified. <\/SPAN><\/P>
<\/P>
Spatial Extent: CONUS<\/SPAN><\/P>
Units: Categories of top scoring areas (top 1, 5, 10, and 25%) for summed range-size rarity of imperiled species<\/SPAN><\/P><\/DIV><\/DIV><\/DIV>", "allowCopy": true, "copyrightText": "NatureServe (Healy et al. 2022)", "mensurationCapabilities": "Basic", "ownershipBasedAccessControlForRasters": null }