{ "extent": { "ymin": 2677061.9724000022, "xmin": -11811345.142000001, "ymax": 6499061.9724000022, "xmax": -7327345.1420000009, "spatialReference": { "latestWkid": 3857, "wkid": 102100 } }, "blockWidth": 2048, "mosaicOperator": "First", "serviceSourceType": "esriImageServiceSourceTypeMosaicDataset", "hasMultidimensions": true, "maxImageWidth": 100000, "maxRecordCount": 1000, "meanValues": [2.800679605706208], "hasColormap": false, "compressionType": "None", "defaultCompressionQuality": 75, "maxValues": [14], "hasHistograms": true, "datasetFormat": "AMD", "maxImageHeight": 100000, "sortField": "", "bandNames": ["Band_1"], "spatialReference": { "latestWkid": 3857, "wkid": 102100 }, "fullExtent": { "ymin": 2677061.9724000022, "xmin": -11811345.142000001, "ymax": 6499061.9724000022, "xmax": -7327345.1420000009, "spatialReference": { "latestWkid": 3857, "wkid": 102100 } }, "bandCount": 1, "rasterFunctionInfos": [ { "help": "", "name": "None", "description": "Make a Raster or Raster Dataset into a Function Raster Dataset." }, { "help": "", "name": "SHIFT_45", "description": "A raster function template." }, { "help": "", "name": "SHIFT_85", "description": "A raster function template." } ], "supportsStatistics": true, "sortableFields": "minps,maxps,lowps,highps,centerx,centery,zorder,tree_species_code,st_area(shape),st_perimeter(shape)", "minValues": [0], "allowRasterFunction": true, "allowComputeTiePoints": false, "serviceDataType": "esriImageServiceDataTypeThematic", "supportsAdvancedQueries": true, "maxDownloadSizeLimit": 2048, "currentVersion": 12, "sortValue": null, "objectIdField": "objectid", "blockHeight": 256, "initialExtent": { "ymin": 2677061.9724000022, "xmin": -11811345.142000001, "ymax": 6499061.9724000022, "xmax": -7327345.1420000009, "spatialReference": { "latestWkid": 3857, "wkid": 102100 } }, "pixelSizeX": 1000, "pixelSizeY": 1000, "defaultMosaicMethod": "Northwest", "name": "Ecosystems/TreeMigration_USFS_ForestEcosystemAtlas", "allowedMosaicMethods": "NorthWest,Center,LockRaster,ByAttribute,Nadir,Viewpoint,Seamline,None", "maxDownloadImageCount": 20, "fields": [ { "domain": null, "name": "objectid", "alias": "objectid", "type": "esriFieldTypeOID" }, { "domain": null, "name": "name", "length": 200, "alias": "name", "type": "esriFieldTypeString" }, { "domain": null, "name": "minps", "alias": "minps", "type": "esriFieldTypeDouble" }, { "domain": null, "name": "maxps", "alias": "maxps", "type": "esriFieldTypeDouble" }, { "domain": null, "name": "lowps", "alias": "lowps", "type": "esriFieldTypeDouble" }, { "domain": null, "name": "highps", "alias": "highps", "type": "esriFieldTypeDouble" }, { "domain": { "splitPolicy": "esriSPTDefaultValue", "name": "MosaicCatalogItemCategoryDomain", "description": "Catalog item categories.", "type": "codedValue", "codedValues": [ { "code": 0, "name": "Unknown" }, { "code": 1, "name": "Primary" }, { "code": 2, "name": "Overview" }, { "code": 3, "name": "Unprocessed Overview" }, { "code": 4, "name": "Partial Overview" }, { "code": 5, "name": "Inactive" }, { "code": 253, "name": "Uploaded" }, { "code": 254, "name": "Incomplete" }, { "code": 255, "name": "Custom" } ], "mergePolicy": "esriMPTDefaultValue" }, "name": "category", "alias": "category", "type": "esriFieldTypeInteger" }, { "domain": null, "name": "tag", "length": 100, "alias": "tag", "type": "esriFieldTypeString" }, { "domain": null, "name": "groupname", "length": 100, "alias": "groupname", "type": "esriFieldTypeString" }, { "domain": null, "name": "productname", "length": 100, "alias": "productname", "type": "esriFieldTypeString" }, { "domain": null, "name": "centerx", "alias": "centerx", "type": "esriFieldTypeDouble" }, { "domain": null, "name": "centery", "alias": "centery", "type": "esriFieldTypeDouble" }, { "domain": null, "name": "zorder", "alias": "zorder", "type": "esriFieldTypeInteger" }, { "domain": null, "name": "shape", "alias": "shape", "type": "esriFieldTypeGeometry" } ], "defaultVariable": "", "allowAnalysis": true, "hasRasterAttributeTable": false, "useStandardizedQueries": true, "description": "
Migration potential is simulated by computing colonization likelihoods (CL) modeled using current species relative abundance, historical migration rates, current habitat fragmentation, and a search distance function to simulate long distance migration (Prasad et al., 2013). End of century migration potential is achieved both inside and beyond the current range by matching future projections of habitat suitability from the DISTRIB-II model based on the generation time (length of time until reproductive maturity) of individual tree species. An optimistic migration rate of 50 km/century (~ 31 mi/century), which is within the range of historical migration, is used within a search window of 500 km (~ 311 mi) to simulate rare long-distance dispersals.<\/span><\/p> We assume that the colonized species overcomes competitive exclusion and generates propagules for the next generation \u2013 this assumption is necessary since the data and computation required to test establishment and reproduction are beyond the scope of our model. We also assume there is no climatic or dispersal (both wind and animal dispersals are treated the same) constraints to migration. The latter assumption is justified since there were no systematic differences in historical migration between wind and animal dispersed trees (Davis 1981; Portnoy and Willson, 1993). The 2011 National Land Cover Database was used to determine percent forest cover within the 1 km2 (0.6 mi2) grids and information for individual species\u2019 generation times were obtained from the USDA Forest Service Silvics Manual (Burns and Honkala 1990a, 1990b).<\/span><\/p> Modeled habitat suitability for 125 eastern United States trees species under 1981-2010 climate conditions and projected future conditions (2070-2099) were created using a statistical modeling approach that correlates mean importance values (i.e., relative abundance) to environmental data. Potential suitable habitat was modeled using Random Forest (Breiman 2001), a decision-tree based ensemble approach that correlates mean importance values with environmental data on climate, elevation, and soil. Swapping 30-year mean climate conditions for a baseline period (1981-2010) with projections for the future (2070-2099) results in potential suitable habitat representing a species potential abundance. A hybrid lattice consisting of 10 × 10 and 20 × 20 kilometer (km) cells, defined by the density of forest inventory plots, was used to process environmental data and model potential suitable habitat as individual tree species importance values. Downscaled future climate projections were obtained from the NASA Earth Exchange Downscaled Climate Projections (NEX-DCP30) program (Thrasher et al. 2013). Output from three general circulation models (GCM) were used to explore possible changes in habitat suitability resulting from climate change, and included the NCAR Community Climate System Model (CCSM4, Gent et al. 2011), NOAA Geophysical Fluid Dynamics Laboratory Coupled Model 3 (GFDL CM3, Donner et al. 2011), and Met Office Hadley Global Environment Model 2 - Earth System (HadGEM2 - ES, Jones et al. 2011). Projections under the representative concentration pathways (RCP, Moss et al. 2008) 4.5 and 8.5 were used to encapsulate the range of plausible increases in greenhouse gases during this century. Reported values are based on a statistical process to include mean importance values supplemented by median importance values, when the median predicted values were zero and the mean predicted values were ≥ 2.75 times the coefficient of variation for each 10 × 10 or 20 × 20 km cell. An important caveat when interpreting these models is that they are predicting potential suitable habitat by year 2100 \u2013 not where the species will be found. See Iverson et al. (2019) and Peters et al. (2019) for more details.<\/span><\/p> End of century colonization likelihoods were intersected with future projections of DISTRIB-II habitat suitability models under RCP 4.5 and 8.5 using the average habitat quality (HQ) among the three GCMs scenarios. This data for the eastern United States provides an estimate of individual species migration potential by the end of the century based on modeled habitat suitability.<\/span><\/p> An important caveat when interpreting these models is that they are predicting potential suitable habitat and colonization likelihoods by year 2100 \u2013 not where the species will be found. See Iverson et al. (2019) and Peters et al. (2019) for more details. Additional information and products available at https://doi.org/10.2737/Climate-Change-Tree-Atlas-v4<\/span><\/p> Colonization likelihoods were modeled under RCP 4.5 and 8.5 using the average habitat suitability among the three GCMs scenarios. This data for the eastern United States provides an estimate of individual species migration potential by the end of the century based on modeled habitat suitability.<\/span><\/p> <\/p> References:<\/span><\/p> Breiman, L. (2001). Random Forest. Machine Learning 45(1): 5-32.<\/span><\/p> Burns, R.M., Honkala, B.H. (1990a). Silvics of North America: 1. Conifers. Agric. Handb. 654 Washington, DC, U.S. Department of Agriculture, Forest Service<\/span><\/p> Burns, R.M., Honkala, B.H. (1990b). Silvics of North America: 2. Hardwoods. Agric. Handb. 654 Washington, DC, U.S. Department of Agriculture, Forest Service<\/span><\/p> Davis, M.B. (1981). Quaternary history and the stability of forest communities. In: West, D.C., Shugart, H.H., Botkin, D.B. Forest Succession. Springer, New York, NY. doi: 10.1007/978-1-4612-5950-3_10<\/span><\/p> Donner, L. J., B. L. Wyman, R. S. Hemler, L. W. Horowitz, et al. (2011). The Dynamical Core, Physical Parameterizations, and Basic Simulation Characteristics of the Atmospheric Component AM3 of the GFDL Global Coupled Model CM3. Journal of Climate 24(13): 3484-3519. doi: 10.1175/2011jcli3955.1<\/span><\/p> Gent, P. R., G. Danabasoglu, L. J. Donner, M. M. Holland, et al. (2011). The Community Climate System Model Version 4. Journal of Climate 24(19): 4973-4991. doi: 10.1175/2011jcli4083.1<\/span><\/p> Iverson, L. R., M. P. Peters, A. M. Prasad and S. N. Matthews (2019). Analysis of Climate Change Impacts on Tree Species of the Eastern US: Results of DISTRIB-II Modeling. Forests 10(4): 302. doi: 10.3390/f10040302<\/span><\/p> Jones, C. D., J. K. Hughes, N. Bellouin, S. C. Hardiman, et al. (2011). The HadGEM2-ES implementation of CMIP5 centennial simulations. Geosci. Model Dev. 4(3): 543-570. doi: 10.5194/gmd-4-543-2011<\/span><\/p> Moss, R., W. Babiker, S. Brinkman, E. Calvo, et al. (2008). Towards New Scenarios for the Analysis of Emissions, Climate Change, Impacts, and Response Strategies. Technical Summary. Intergovernmental Panel on Climate Change, Geneva, 25 pp.<\/span><\/p> Peters, M. P., L. R. Iverson, A. M. Prasad and S. N. Matthews (2019). Utilizing the density of inventory samples to define a hybrid lattice for species distribution models: DISTRIB-II for 135 eastern United States trees. Ecology and Evolution 9(15): 8876-8899. doi: 10.1002/ece3.5445<\/span><\/p> Portnoy, S., Willson, M.F. (1993). Seed dispersal curves: Behavior of the tail of the distribution. Evolutionary Ecology 7, 25-44. doi: 10.1007/BF01237733<\/span><\/p> Thrasher, B., J. Xiong, W. Wang, F. Melton, et al. (2013). Downscaled Climate Projections Suitable for Resource Management. Eos, Transactions American Geophysical Union 94(37): 321-323. doi: 10.1002/2013eo370002<\/span><\/p><\/div><\/div><\/div>",
"pixelType": "U8",
"meanPixelSize": 1000,
"exportTilesAllowed": false,
"editFieldsInfo": null,
"rasterTypeInfos": [{
"help": "",
"name": "Raster Dataset",
"description": "Supports all ArcGIS Raster Datasets"
}],
"defaultResamplingMethod": "Nearest",
"itemAccess": false,
"minScale": 0,
"serviceProperties": " Migration potential is simulated by computing colonization likelihoods (CL) modeled using current species relative abundance, historical migration rates, current habitat fragmentation, and a search distance function to simulate long distance migration (Prasad et al., 2013). End of century migration potential is achieved both inside and beyond the current range by matching future projections of habitat suitability from the DISTRIB-II model based on the generation time (length of time until reproductive maturity) of individual tree species. An optimistic migration rate of 50 km/century (~ 31 mi/century), which is within the range of historical migration, is used within a search window of 500 km (~ 311 mi) to simulate rare long-distance dispersals.<\/SPAN><\/P> We assume that the colonized species overcomes competitive exclusion and generates propagules for the next generation \u2013 this assumption is necessary since the data and computation required to test establishment and reproduction are beyond the scope of our model. We also assume there is no climatic or dispersal (both wind and animal dispersals are treated the same) constraints to migration. The latter assumption is justified since there were no systematic differences in historical migration between wind and animal dispersed trees (Davis 1981; Portnoy and Willson, 1993). The 2011 National Land Cover Database was used to determine percent forest cover within the 1 km2 (0.6 mi2) grids and information for individual species\u2019 generation times were obtained from the USDA Forest Service Silvics Manual (Burns and Honkala 1990a, 1990b).<\/SPAN><\/P> Modeled habitat suitability for 125 eastern United States trees species under 1981-2010 climate conditions and projected future conditions (2070-2099) were created using a statistical modeling approach that correlates mean importance values (i.e., relative abundance) to environmental data. Potential suitable habitat was modeled using Random Forest (Breiman 2001), a decision-tree based ensemble approach that correlates mean importance values with environmental data on climate, elevation, and soil. Swapping 30-year mean climate conditions for a baseline period (1981-2010) with projections for the future (2070-2099) results in potential suitable habitat representing a species potential abundance. A hybrid lattice consisting of 10 × 10 and 20 × 20 kilometer (km) cells, defined by the density of forest inventory plots, was used to process environmental data and model potential suitable habitat as individual tree species importance values. Downscaled future climate projections were obtained from the NASA Earth Exchange Downscaled Climate Projections (NEX-DCP30) program (Thrasher et al. 2013). Output from three general circulation models (GCM) were used to explore possible changes in habitat suitability resulting from climate change, and included the NCAR Community Climate System Model (CCSM4, Gent et al. 2011), NOAA Geophysical Fluid Dynamics Laboratory Coupled Model 3 (GFDL CM3, Donner et al. 2011), and Met Office Hadley Global Environment Model 2 - Earth System (HadGEM2 - ES, Jones et al. 2011). Projections under the representative concentration pathways (RCP, Moss et al. 2008) 4.5 and 8.5 were used to encapsulate the range of plausible increases in greenhouse gases during this century. Reported values are based on a statistical process to include mean importance values supplemented by median importance values, when the median predicted values were zero and the mean predicted values were ≥ 2.75 times the coefficient of variation for each 10 × 10 or 20 × 20 km cell. An important caveat when interpreting these models is that they are predicting potential suitable habitat by year 2100 \u2013 not where the species will be found. See Iverson et al. (2019) and Peters et al. (2019) for more details.<\/SPAN><\/P> End of century colonization likelihoods were intersected with future projections of DISTRIB-II habitat suitability models under RCP 4.5 and 8.5 using the average habitat quality (HQ) among the three GCMs scenarios. This data for the eastern United States provides an estimate of individual species migration potential by the end of the century based on modeled habitat suitability.<\/SPAN><\/P> An important caveat when interpreting these models is that they are predicting potential suitable habitat and colonization likelihoods by year 2100 \u2013 not where the species will be found. See Iverson et al. (2019) and Peters et al. (2019) for more details. Additional information and products available at https://doi.org/10.2737/Climate-Change-Tree-Atlas-v4<\/SPAN><\/P> Colonization likelihoods were modeled under RCP 4.5 and 8.5 using the average habitat suitability among the three GCMs scenarios. This data for the eastern United States provides an estimate of individual species migration potential by the end of the century based on modeled habitat suitability.<\/SPAN><\/P> <\/P> References:<\/SPAN><\/P> Breiman, L. (2001). Random Forest. Machine Learning 45(1): 5-32.<\/SPAN><\/P> Burns, R.M., Honkala, B.H. (1990a). Silvics of North America: 1. Conifers. Agric. Handb. 654 Washington, DC, U.S. Department of Agriculture, Forest Service<\/SPAN><\/P> Burns, R.M., Honkala, B.H. (1990b). Silvics of North America: 2. Hardwoods. Agric. Handb. 654 Washington, DC, U.S. Department of Agriculture, Forest Service<\/SPAN><\/P> Davis, M.B. (1981). Quaternary history and the stability of forest communities. In: West, D.C., Shugart, H.H., Botkin, D.B. Forest Succession. Springer, New York, NY. doi: 10.1007/978-1-4612-5950-3_10<\/SPAN><\/P> Donner, L. J., B. L. Wyman, R. S. Hemler, L. W. Horowitz, et al. (2011). The Dynamical Core, Physical Parameterizations, and Basic Simulation Characteristics of the Atmospheric Component AM3 of the GFDL Global Coupled Model CM3. Journal of Climate 24(13): 3484-3519. doi: 10.1175/2011jcli3955.1<\/SPAN><\/P> Gent, P. R., G. Danabasoglu, L. J. Donner, M. M. Holland, et al. (2011). The Community Climate System Model Version 4. Journal of Climate 24(19): 4973-4991. doi: 10.1175/2011jcli4083.1<\/SPAN><\/P> Iverson, L. R., M. P. Peters, A. M. Prasad and S. N. Matthews (2019). Analysis of Climate Change Impacts on Tree Species of the Eastern US: Results of DISTRIB-II Modeling. Forests 10(4): 302. doi: 10.3390/f10040302<\/SPAN><\/P> Jones, C. D., J. K. Hughes, N. Bellouin, S. C. Hardiman, et al. (2011). The HadGEM2-ES implementation of CMIP5 centennial simulations. Geosci. Model Dev. 4(3): 543-570. doi: 10.5194/gmd-4-543-2011<\/SPAN><\/P> Moss, R., W. Babiker, S. Brinkman, E. Calvo, et al. (2008). Towards New Scenarios for the Analysis of Emissions, Climate Change, Impacts, and Response Strategies. Technical Summary. Intergovernmental Panel on Climate Change, Geneva, 25 pp.<\/SPAN><\/P> Peters, M. P., L. R. Iverson, A. M. Prasad and S. N. Matthews (2019). Utilizing the density of inventory samples to define a hybrid lattice for species distribution models: DISTRIB-II for 135 eastern United States trees. Ecology and Evolution 9(15): 8876-8899. doi: 10.1002/ece3.5445<\/SPAN><\/P> Portnoy, S., Willson, M.F. (1993). Seed dispersal curves: Behavior of the tail of the distribution. Evolutionary Ecology 7, 25-44. doi: 10.1007/BF01237733<\/SPAN><\/P> Thrasher, B., J. Xiong, W. Wang, F. Melton, et al. (2013). Downscaled Climate Projections Suitable for Resource Management. Eos, Transactions American Geophysical Union 94(37): 321-323. doi: 10.1002/2013eo370002<\/SPAN><\/P><\/DIV><\/DIV><\/DIV>",
"allowCopy": true,
"copyrightText": "This data was produced by the US Forest Service Northern Research Station, Forest Sciences Lab, and is served by the Interdepartmental Imagery Publication Platform (IIPP), which is hosted by the Dept. Of Interior's Geoplatform.",
"mensurationCapabilities": "Basic",
"ownershipBasedAccessControlForRasters": null
}