<?xml version="1.0" encoding="UTF-8" standalone="no"?>
<metadata xml:lang="en">
<Esri>
<CreaDate>20250416</CreaDate>
<CreaTime>09212000</CreaTime>
<ArcGISFormat>1.0</ArcGISFormat>
<SyncOnce>FALSE</SyncOnce>
<scaleRange>
<minScale>20000000</minScale>
<maxScale>50000</maxScale>
</scaleRange>
<DataProperties>
<itemProps>
<itemName Sync="TRUE">usfs_ecosystems.usfs.TreeMigration_USFS_ForestEcosystemAtlas</itemName>
<itemLocation>
<linkage Sync="TRUE">Server=iipp-arcgis-d-3.cmwoth4tqfhc.us-east-1.rds.amazonaws.com; Service=sde:postgresql:iipp-arcgis-d-3.cmwoth4tqfhc.us-east-1.rds.amazonaws.com; Database=usfs_ecosystems; User=usfs; Version=sde.DEFAULT</linkage>
<protocol Sync="TRUE">ArcSDE Connection</protocol>
</itemLocation>
<nativeExtBox>
<westBL Sync="TRUE">-11811345.142000</westBL>
<eastBL Sync="TRUE">-7327345.142000</eastBL>
<southBL Sync="TRUE">2677061.972400</southBL>
<northBL Sync="TRUE">6499061.972400</northBL>
<exTypeCode Sync="TRUE">1</exTypeCode>
</nativeExtBox>
<imsContentType export="False">007</imsContentType>
</itemProps>
<coordRef>
<type Sync="TRUE">Projected</type>
<geogcsn Sync="TRUE">GCS_WGS_1984</geogcsn>
<csUnits Sync="TRUE">Linear Unit: Meter (1.000000)</csUnits>
<projcsn Sync="TRUE">WGS_1984_Web_Mercator_Auxiliary_Sphere</projcsn>
<peXml Sync="TRUE">&lt;ProjectedCoordinateSystem xsi:type='typens:ProjectedCoordinateSystem' xmlns:xsi='http://www.w3.org/2001/XMLSchema-instance' xmlns:xs='http://www.w3.org/2001/XMLSchema' xmlns:typens='http://www.esri.com/schemas/ArcGIS/3.2.0'&gt;&lt;WKT&gt;PROJCS[&amp;quot;WGS_1984_Web_Mercator_Auxiliary_Sphere&amp;quot;,GEOGCS[&amp;quot;GCS_WGS_1984&amp;quot;,DATUM[&amp;quot;D_WGS_1984&amp;quot;,SPHEROID[&amp;quot;WGS_1984&amp;quot;,6378137.0,298.257223563]],PRIMEM[&amp;quot;Greenwich&amp;quot;,0.0],UNIT[&amp;quot;Degree&amp;quot;,0.0174532925199433]],PROJECTION[&amp;quot;Mercator_Auxiliary_Sphere&amp;quot;],PARAMETER[&amp;quot;False_Easting&amp;quot;,0.0],PARAMETER[&amp;quot;False_Northing&amp;quot;,0.0],PARAMETER[&amp;quot;Central_Meridian&amp;quot;,0.0],PARAMETER[&amp;quot;Standard_Parallel_1&amp;quot;,0.0],PARAMETER[&amp;quot;Auxiliary_Sphere_Type&amp;quot;,0.0],UNIT[&amp;quot;Meter&amp;quot;,1.0],AUTHORITY[&amp;quot;EPSG&amp;quot;,3857]]&lt;/WKT&gt;&lt;XOrigin&gt;-20037700&lt;/XOrigin&gt;&lt;YOrigin&gt;-30241100&lt;/YOrigin&gt;&lt;XYScale&gt;148923141.92838538&lt;/XYScale&gt;&lt;ZOrigin&gt;-100000&lt;/ZOrigin&gt;&lt;ZScale&gt;10000&lt;/ZScale&gt;&lt;MOrigin&gt;-100000&lt;/MOrigin&gt;&lt;MScale&gt;10000&lt;/MScale&gt;&lt;XYTolerance&gt;0.001&lt;/XYTolerance&gt;&lt;ZTolerance&gt;0.001&lt;/ZTolerance&gt;&lt;MTolerance&gt;0.001&lt;/MTolerance&gt;&lt;HighPrecision&gt;true&lt;/HighPrecision&gt;&lt;WKID&gt;102100&lt;/WKID&gt;&lt;LatestWKID&gt;3857&lt;/LatestWKID&gt;&lt;/ProjectedCoordinateSystem&gt;</peXml>
</coordRef>
<RasterProperties>
<General>
<PixelDepth Sync="TRUE">8</PixelDepth>
<HasColormap Sync="TRUE">FALSE</HasColormap>
<CompressionType Sync="TRUE">None</CompressionType>
<NumBands Sync="TRUE">1</NumBands>
<Format Sync="TRUE">AMD</Format>
<HasPyramids Sync="TRUE">TRUE</HasPyramids>
<SourceType Sync="TRUE">continuous</SourceType>
<PixelType Sync="TRUE">unsigned integer</PixelType>
<NoDataValue Sync="TRUE"/>
</General>
<Properties>
<MaxImageHeight Sync="TRUE">100000</MaxImageHeight>
<MaxImageWidth Sync="TRUE">100000</MaxImageWidth>
<MaxRecordCount Sync="TRUE">1000</MaxRecordCount>
<MaxDownloadImageCount Sync="TRUE">20</MaxDownloadImageCount>
<MaxDownloadSizeLimit Sync="TRUE">2048</MaxDownloadSizeLimit>
<MaxMosaicImageCount Sync="TRUE">100</MaxMosaicImageCount>
<DefaultCompressionQuality Sync="TRUE">75</DefaultCompressionQuality>
<DefaultCompressionTolerance Sync="TRUE">0.01</DefaultCompressionTolerance>
<BlendWidth Sync="TRUE">10</BlendWidth>
<ViewpointSpacingX Sync="TRUE">600</ViewpointSpacingX>
<ViewpointSpacingY Sync="TRUE">300</ViewpointSpacingY>
<AllowedItemMetadata Sync="TRUE">Basic</AllowedItemMetadata>
<DefaultResamplingMethod Sync="TRUE">0</DefaultResamplingMethod>
<AllowedMosaicMethods Sync="TRUE">NorthWest,Center,LockRaster,ByAttribute,Nadir,Viewpoint,Seamline,None</AllowedMosaicMethods>
<AllowedCompressions Sync="TRUE">None,JPEG,LZ77,LERC</AllowedCompressions>
<AllowedMensurationCapabilities Sync="TRUE">Basic</AllowedMensurationCapabilities>
<AvailableMensurationCapabilities Sync="TRUE">None,Basic,Base-Top Height,Top-Top Shadow Height,Base-Top Shadow Height,3D</AvailableMensurationCapabilities>
<ClipToBoundary Sync="TRUE">-1</ClipToBoundary>
<FootprintMayContainNoData Sync="TRUE">-1</FootprintMayContainNoData>
<CellSizeTolerance Sync="TRUE">0.8</CellSizeTolerance>
<MinimumPixelContribution Sync="TRUE">1</MinimumPixelContribution>
<AvailableMosaicMethods Sync="TRUE">NorthWest,Center,LockRaster,ByAttribute,Nadir,Viewpoint,Seamline,None</AvailableMosaicMethods>
<AvailableCompressionMethods Sync="TRUE">None,JPEG,LZ77,LERC</AvailableCompressionMethods>
<AvailableItemMetadataLevels Sync="TRUE">None,Basic,Full</AvailableItemMetadataLevels>
<BandDefinitionKeyword Sync="TRUE">NONE</BandDefinitionKeyword>
<_docversion_ Sync="TRUE">10</_docversion_>
<AllowedFields Sync="TRUE">name,minps,maxps,lowps,highps,tag,groupname,productname,centerx,centery,zorder,variable,dimensions,tree_species_number,st_area(shape),st_perimeter(shape)</AllowedFields>
<MaxCellSize Sync="TRUE">160000</MaxCellSize>
<LowCellSize Sync="TRUE">1000</LowCellSize>
<HighCellSize Sync="TRUE">16000</HighCellSize>
<DataType Sync="TRUE">Thematic</DataType>
<AvailableFields Sync="TRUE">name,minps,maxps,lowps,highps,tag,groupname,productname,centerx,centery,zorder,variable,dimensions,tree_species_number,st_area(shape),st_perimeter(shape)</AvailableFields>
<SortableFields Sync="TRUE">minps,maxps,lowps,highps,centerx,centery,zorder,st_area(shape),st_perimeter(shape),Tree_Species_Number</SortableFields>
<SortAscending Sync="TRUE">-1</SortAscending>
<MosaicOperator Sync="TRUE">1</MosaicOperator>
<BlendWidthUnits Sync="TRUE">1</BlendWidthUnits>
<ClipToFootprint Sync="TRUE">0</ClipToFootprint>
<ClipOverviewsToFootprint Sync="TRUE">0</ClipOverviewsToFootprint>
<HasDodgingTable Sync="TRUE">0</HasDodgingTable>
<ApplyColorCorrection Sync="TRUE">0</ApplyColorCorrection>
<UseTime Sync="TRUE">0</UseTime>
<StartTimeFieldName Sync="TRUE"/>
<EndTimeFieldName Sync="TRUE"/>
<TimeValueFormat Sync="TRUE"/>
<UseRange Sync="TRUE">0</UseRange>
<TimeInterval Sync="TRUE"/>
<TimeIntervalUnits Sync="TRUE"/>
</Properties>
<Functions Sync="TRUE">
<Function Description="Performs on-the-fly mosaic on a raster catalog." Name="Mosaic Function"/>
</Functions>
</RasterProperties>
</DataProperties>
<SyncDate>20250416</SyncDate>
<SyncTime>10142600</SyncTime>
<ModDate>20250416</ModDate>
<ModTime>10243700</ModTime>
<ArcGISProfile>ISO19115_3</ArcGISProfile>
</Esri>
<mdHrLv>
<ScopeCd value="005"/>
</mdHrLv>
<mdDateSt Sync="TRUE">20250416</mdDateSt>
<dataIdInfo>
<idPurp>Colonization likelihoods (CL) of modeled habitat suitability classified as habitat quality (HQ) for individual tree species within the eastern United States under projected future climate conditions (2070-2099) created using a statistical modeling approach that correlates mean importance values to environmental data. This file includes the combination of habitat quality and migration potential as categorical values.</idPurp>
<idAbs>&lt;div style='text-align:Left;'&gt;&lt;div&gt;&lt;div&gt;&lt;p&gt;&lt;span&gt;Migration potential is simulated by computing colonization likelihoods (CL) modeled using current species relative abundance, historical migration rates, current habitat fragmentation, and a search distance function to simulate long distance migration (Prasad et al., 2013). End of century migration potential is achieved both inside and beyond the current range by matching future projections of habitat suitability from the DISTRIB-II model based on the generation time (length of time until reproductive maturity) of individual tree species. An optimistic migration rate of 50 km/century (~ 31 mi/century), which is within the range of historical migration, is used within a search window of 500 km (~ 311 mi) to simulate rare long-distance dispersals.&lt;/span&gt;&lt;/p&gt;&lt;p&gt;&lt;span&gt;We assume that the colonized species overcomes competitive exclusion and generates propagules for the next generation – this assumption is necessary since the data and computation required to test establishment and reproduction are beyond the scope of our model. We also assume there is no climatic or dispersal (both wind and animal dispersals are treated the same) constraints to migration. The latter assumption is justified since there were no systematic differences in historical migration between wind and animal dispersed trees (Davis 1981; Portnoy and Willson, 1993). The 2011 National Land Cover Database was used to determine percent forest cover within the 1 km2 (0.6 mi2) grids and information for individual species’ generation times were obtained from the USDA Forest Service Silvics Manual (Burns and Honkala 1990a, 1990b).&lt;/span&gt;&lt;/p&gt;&lt;p&gt;&lt;span&gt;Modeled habitat suitability for 125 eastern United States trees species under 1981-2010 climate conditions and projected future conditions (2070-2099) were created using a statistical modeling approach that correlates mean importance values (i.e., relative abundance) to environmental data. Potential suitable habitat was modeled using Random Forest (Breiman 2001), a decision-tree based ensemble approach that correlates mean importance values with environmental data on climate, elevation, and soil. Swapping 30-year mean climate conditions for a baseline period (1981-2010) with projections for the future (2070-2099) results in potential suitable habitat representing a species potential abundance. A hybrid lattice consisting of 10 × 10 and 20 × 20 kilometer (km) cells, defined by the density of forest inventory plots, was used to process environmental data and model potential suitable habitat as individual tree species importance values. Downscaled future climate projections were obtained from the NASA Earth Exchange Downscaled Climate Projections (NEX-DCP30) program (Thrasher et al. 2013). Output from three general circulation models (GCM) were used to explore possible changes in habitat suitability resulting from climate change, and included the NCAR Community Climate System Model (CCSM4, Gent et al. 2011), NOAA Geophysical Fluid Dynamics Laboratory Coupled Model 3 (GFDL CM3, Donner et al. 2011), and Met Office Hadley Global Environment Model 2 - Earth System (HadGEM2 - ES, Jones et al. 2011). Projections under the representative concentration pathways (RCP, Moss et al. 2008) 4.5 and 8.5 were used to encapsulate the range of plausible increases in greenhouse gases during this century. Reported values are based on a statistical process to include mean importance values supplemented by median importance values, when the median predicted values were zero and the mean predicted values were ≥ 2.75 times the coefficient of variation for each 10 × 10 or 20 × 20 km cell. An important caveat when interpreting these models is that they are predicting potential suitable habitat by year 2100 – not where the species will be found. See Iverson et al. (2019) and Peters et al. (2019) for more details.&lt;/span&gt;&lt;/p&gt;&lt;p&gt;&lt;span&gt;End of century colonization likelihoods were intersected with future projections of DISTRIB-II habitat suitability models under RCP 4.5 and 8.5 using the average habitat quality (HQ) among the three GCMs scenarios. This data for the eastern United States provides an estimate of individual species migration potential by the end of the century based on modeled habitat suitability.&lt;/span&gt;&lt;/p&gt;&lt;p&gt;&lt;span&gt;An important caveat when interpreting these models is that they are predicting potential suitable habitat and colonization likelihoods by year 2100 – not where the species will be found. See Iverson et al. (2019) and Peters et al. (2019) for more details. Additional information and products available at https://doi.org/10.2737/Climate-Change-Tree-Atlas-v4&lt;/span&gt;&lt;/p&gt;&lt;p&gt;&lt;span&gt;Colonization likelihoods were modeled under RCP 4.5 and 8.5 using the average habitat suitability among the three GCMs scenarios. This data for the eastern United States provides an estimate of individual species migration potential by the end of the century based on modeled habitat suitability.&lt;/span&gt;&lt;/p&gt;&lt;p&gt;&lt;span /&gt;&lt;/p&gt;&lt;p&gt;&lt;span&gt;References:&lt;/span&gt;&lt;/p&gt;&lt;p&gt;&lt;span&gt;Breiman, L. (2001). Random Forest. Machine Learning 45(1): 5-32.&lt;/span&gt;&lt;/p&gt;&lt;p&gt;&lt;span&gt;Burns, R.M., Honkala, B.H. (1990a). Silvics of North America: 1. Conifers. Agric. Handb. 654 Washington, DC, U.S. Department of Agriculture, Forest Service&lt;/span&gt;&lt;/p&gt;&lt;p&gt;&lt;span&gt;Burns, R.M., Honkala, B.H. (1990b). Silvics of North America: 2. Hardwoods. Agric. Handb. 654 Washington, DC, U.S. Department of Agriculture, Forest Service&lt;/span&gt;&lt;/p&gt;&lt;p&gt;&lt;span&gt;Davis, M.B. (1981). Quaternary history and the stability of forest communities. In: West, D.C., Shugart, H.H., Botkin, D.B. Forest Succession. Springer, New York, NY. doi: 10.1007/978-1-4612-5950-3_10&lt;/span&gt;&lt;/p&gt;&lt;p&gt;&lt;span&gt;Donner, L. J., B. L. Wyman, R. S. Hemler, L. W. Horowitz, et al. (2011). The Dynamical Core, Physical Parameterizations, and Basic Simulation Characteristics of the Atmospheric Component AM3 of the GFDL Global Coupled Model CM3. Journal of Climate 24(13): 3484-3519. doi: 10.1175/2011jcli3955.1&lt;/span&gt;&lt;/p&gt;&lt;p&gt;&lt;span&gt;Gent, P. R., G. Danabasoglu, L. J. Donner, M. M. Holland, et al. (2011). The Community Climate System Model Version 4. Journal of Climate 24(19): 4973-4991. doi: 10.1175/2011jcli4083.1&lt;/span&gt;&lt;/p&gt;&lt;p&gt;&lt;span&gt;Iverson, L. R., M. P. Peters, A. M. Prasad and S. N. Matthews (2019). Analysis of Climate Change Impacts on Tree Species of the Eastern US: Results of DISTRIB-II Modeling. Forests 10(4): 302. doi: 10.3390/f10040302&lt;/span&gt;&lt;/p&gt;&lt;p&gt;&lt;span&gt;Jones, C. D., J. K. Hughes, N. Bellouin, S. C. Hardiman, et al. (2011). The HadGEM2-ES implementation of CMIP5 centennial simulations. Geosci. Model Dev. 4(3): 543-570. doi: 10.5194/gmd-4-543-2011&lt;/span&gt;&lt;/p&gt;&lt;p&gt;&lt;span&gt;Moss, R., W. Babiker, S. Brinkman, E. Calvo, et al. (2008). Towards New Scenarios for the Analysis of Emissions, Climate Change, Impacts, and Response Strategies. Technical Summary. Intergovernmental Panel on Climate Change, Geneva, 25 pp.&lt;/span&gt;&lt;/p&gt;&lt;p&gt;&lt;span&gt;Peters, M. P., L. R. Iverson, A. M. Prasad and S. N. Matthews (2019). Utilizing the density of inventory samples to define a hybrid lattice for species distribution models: DISTRIB-II for 135 eastern United States trees. Ecology and Evolution 9(15): 8876-8899. doi: 10.1002/ece3.5445&lt;/span&gt;&lt;/p&gt;&lt;p&gt;&lt;span&gt;Portnoy, S., Willson, M.F. (1993). Seed dispersal curves: Behavior of the tail of the distribution. Evolutionary Ecology 7, 25-44. doi: 10.1007/BF01237733&lt;/span&gt;&lt;/p&gt;&lt;p&gt;&lt;span&gt;Thrasher, B., J. Xiong, W. Wang, F. Melton, et al. (2013). Downscaled Climate Projections Suitable for Resource Management. Eos, Transactions American Geophysical Union 94(37): 321-323. doi: 10.1002/2013eo370002&lt;/span&gt;&lt;/p&gt;&lt;/div&gt;&lt;/div&gt;&lt;/div&gt;</idAbs>
<idCitation>
<resTitle>TreeMigration_USFS_ForestEcosystemAtlas</resTitle>
<presForm>
<PresFormCd Sync="TRUE" value="005"/>
</presForm>
</idCitation>
<searchKeys>
<keyword>eastern United States</keyword>
<keyword>colonization likelihood</keyword>
<keyword>migration potential</keyword>
<keyword>modeled niche</keyword>
<keyword>potential suitable habitat</keyword>
<keyword>tree species</keyword>
<keyword>importance values</keyword>
<keyword>climate change</keyword>
<keyword>migration</keyword>
<keyword>Interdepartmental Imagery Publication Platform</keyword>
<keyword>IIPP</keyword>
<keyword>USDA</keyword>
<keyword>Forest Service</keyword>
</searchKeys>
<resConst>
<Consts>
<useLimit>&lt;div style='text-align:Left;'&gt;&lt;div&gt;&lt;div&gt;&lt;p&gt;&lt;span&gt;The USDA Forest Service makes no warranty, expressed or implied, including the warranties of merchantability and fitness for a particular purpose, nor assumes any legal liability or responsibility for the accuracy, reliability, completeness or utility of these geospatial data, or for the improper or incorrect use of these geospatial data. These geospatial data and related maps or graphics are not legal documents and are not intended to be used as such. The data and maps may not be used to determine title, ownership, legal descriptions or boundaries, legal jurisdiction, or restrictions that may be in place on either public or private land. Natural hazards may or may not be depicted on the data and maps, and users should exercise due caution. The data are dynamic and may change over time. The user is responsible to verify the limitations of the geospatial data and to use the data accordingly.&lt;/span&gt;&lt;/p&gt;&lt;/div&gt;&lt;/div&gt;&lt;/div&gt;</useLimit>
</Consts>
</resConst>
<envirDesc Sync="TRUE">Microsoft Windows Server 2016 Technical Preview Version 10.0 (Build 17763) ; Esri ArcGIS 13.2.0.49743</envirDesc>
<dataLang>
<languageCode Sync="TRUE" value="eng"/>
<countryCode Sync="TRUE" value="USA"/>
</dataLang>
<spatRpType>
<SpatRepTypCd Sync="TRUE" value="002"/>
</spatRpType>
<dataExt>
<geoEle>
<GeoBndBox esriExtentType="search">
<exTypeCode Sync="TRUE">1</exTypeCode>
<westBL Sync="TRUE">-106.103119</westBL>
<eastBL Sync="TRUE">-65.822661</eastBL>
<northBL Sync="TRUE">50.303835</northBL>
<southBL Sync="TRUE">23.371949</southBL>
</GeoBndBox>
</geoEle>
<exDesc>United States east of the 100th Meridian</exDesc>
</dataExt>
<idCredit>This data was produced by the US Forest Service Northern Research Station, Forest Sciences Lab, and is served by the Interdepartmental Imagery Publication Platform (IIPP), which is hosted by the Dept. Of Interior's Geoplatform.</idCredit>
<themeKeys>
<keyword>eastern United States; colonization likelihood; migration potential; modeled niche; potential suitable habitat; tree species; importance values; climate change; migration; Interdepartmental Imagery Publication Platform; IIPP; USDA; Forest Service;</keyword>
</themeKeys>
<dataChar>
<CharSetCd value="004"/>
</dataChar>
<tpCat>
<TopicCatCd value="002"/>
</tpCat>
<tpCat>
<TopicCatCd value="007"/>
</tpCat>
<tpCat>
<TopicCatCd value="008"/>
</tpCat>
</dataIdInfo>
<mdLang>
<languageCode Sync="TRUE" value="eng"/>
<countryCode Sync="TRUE" value="USA"/>
</mdLang>
<refSysInfo>
<RefSystem>
<refSysID>
<identCode Sync="TRUE" code="3857"/>
<idCodeSpace Sync="TRUE">EPSG</idCodeSpace>
<idVersion Sync="TRUE">6.18.3(9.3.1.2)</idVersion>
</refSysID>
</RefSystem>
</refSysInfo>
<spatRepInfo>
<Georect>
<cellGeo>
<CellGeoCd Sync="TRUE" value="002"/>
</cellGeo>
<numDims Sync="TRUE">2</numDims>
<tranParaAv Sync="TRUE">1</tranParaAv>
<chkPtAv Sync="TRUE">0</chkPtAv>
<cornerPts>
<pos Sync="TRUE">-11811345.142000 2677061.972400</pos>
</cornerPts>
<cornerPts>
<pos Sync="TRUE">-11811345.142000 6499061.972400</pos>
</cornerPts>
<cornerPts>
<pos Sync="TRUE">-7327345.142000 6499061.972400</pos>
</cornerPts>
<cornerPts>
<pos Sync="TRUE">-7327345.142000 2677061.972400</pos>
</cornerPts>
<centerPt>
<pos Sync="TRUE">-9569345.142000 4588061.972400</pos>
</centerPt>
<axisDimension type="002">
<dimSize Sync="TRUE">4484</dimSize>
<dimResol>
<value Sync="TRUE" uom="m">1000.000000</value>
</dimResol>
</axisDimension>
<axisDimension type="001">
<dimSize Sync="TRUE">3822</dimSize>
<dimResol>
<value Sync="TRUE" uom="m">1000.000000</value>
</dimResol>
</axisDimension>
<ptInPixel>
<PixOrientCd Sync="TRUE" value="001"/>
</ptInPixel>
</Georect>
</spatRepInfo>
<contInfo>
<ImgDesc>
<contentTyp>
<ContentTypCd Sync="TRUE" value="001"/>
</contentTyp>
<covDim>
<Band>
<dimDescrp Sync="TRUE">Band_1</dimDescrp>
<maxVal Sync="TRUE">14.000000</maxVal>
<minVal Sync="TRUE">0.000000</minVal>
<bitsPerVal Sync="TRUE">8</bitsPerVal>
<valUnit>
<UOM gmlID="" type="length"/>
</valUnit>
</Band>
</covDim>
<trianInd>False</trianInd>
<radCalDatAv>False</radCalDatAv>
<camCalInAv>False</camCalInAv>
<filmDistInAv>False</filmDistInAv>
<lensDistInAv>False</lensDistInAv>
</ImgDesc>
</contInfo>
<mdChar>
<CharSetCd value="004"/>
</mdChar>
<mdMaint>
<maintFreq>
<MaintFreqCd value="012"/>
</maintFreq>
</mdMaint>
</metadata>
