<?xml version="1.0" encoding="UTF-8" standalone="no"?>
<metadata xml:lang="en">
<Esri>
<CreaDate>20250415</CreaDate>
<CreaTime>15151400</CreaTime>
<ArcGISFormat>1.0</ArcGISFormat>
<SyncOnce>FALSE</SyncOnce>
<scaleRange>
<minScale>20000000</minScale>
<maxScale>50000</maxScale>
</scaleRange>
<DataProperties>
<itemProps>
<itemName Sync="TRUE">usfs_ecosystems.usfs.TreeHabitatSuitability_USFS_ForestEcosystemAtlas</itemName>
<itemLocation>
<linkage Sync="TRUE">Server=iipp-arcgis-d-3.cmwoth4tqfhc.us-east-1.rds.amazonaws.com; Service=sde:postgresql:iipp-arcgis-d-3.cmwoth4tqfhc.us-east-1.rds.amazonaws.com; Database=usfs_ecosystems; User=usfs; Version=sde.DEFAULT</linkage>
<protocol Sync="TRUE">ArcSDE Connection</protocol>
</itemLocation>
<nativeExtBox>
<westBL Sync="TRUE">-11815297.200800</westBL>
<eastBL Sync="TRUE">-7295297.200800</eastBL>
<southBL Sync="TRUE">2674863.127400</southBL>
<northBL Sync="TRUE">6514863.127400</northBL>
<exTypeCode Sync="TRUE">1</exTypeCode>
</nativeExtBox>
<imsContentType export="False">007</imsContentType>
</itemProps>
<coordRef>
<type Sync="TRUE">Projected</type>
<geogcsn Sync="TRUE">GCS_WGS_1984</geogcsn>
<csUnits Sync="TRUE">Linear Unit: Meter (1.000000)</csUnits>
<projcsn Sync="TRUE">WGS_1984_Web_Mercator_Auxiliary_Sphere</projcsn>
<peXml Sync="TRUE">&lt;ProjectedCoordinateSystem xsi:type='typens:ProjectedCoordinateSystem' xmlns:xsi='http://www.w3.org/2001/XMLSchema-instance' xmlns:xs='http://www.w3.org/2001/XMLSchema' xmlns:typens='http://www.esri.com/schemas/ArcGIS/3.2.0'&gt;&lt;WKT&gt;PROJCS[&amp;quot;WGS_1984_Web_Mercator_Auxiliary_Sphere&amp;quot;,GEOGCS[&amp;quot;GCS_WGS_1984&amp;quot;,DATUM[&amp;quot;D_WGS_1984&amp;quot;,SPHEROID[&amp;quot;WGS_1984&amp;quot;,6378137.0,298.257223563]],PRIMEM[&amp;quot;Greenwich&amp;quot;,0.0],UNIT[&amp;quot;Degree&amp;quot;,0.0174532925199433]],PROJECTION[&amp;quot;Mercator_Auxiliary_Sphere&amp;quot;],PARAMETER[&amp;quot;False_Easting&amp;quot;,0.0],PARAMETER[&amp;quot;False_Northing&amp;quot;,0.0],PARAMETER[&amp;quot;Central_Meridian&amp;quot;,0.0],PARAMETER[&amp;quot;Standard_Parallel_1&amp;quot;,0.0],PARAMETER[&amp;quot;Auxiliary_Sphere_Type&amp;quot;,0.0],UNIT[&amp;quot;Meter&amp;quot;,1.0],AUTHORITY[&amp;quot;EPSG&amp;quot;,3857]]&lt;/WKT&gt;&lt;XOrigin&gt;-20037700&lt;/XOrigin&gt;&lt;YOrigin&gt;-30241100&lt;/YOrigin&gt;&lt;XYScale&gt;148923141.92838538&lt;/XYScale&gt;&lt;ZOrigin&gt;-100000&lt;/ZOrigin&gt;&lt;ZScale&gt;10000&lt;/ZScale&gt;&lt;MOrigin&gt;-100000&lt;/MOrigin&gt;&lt;MScale&gt;10000&lt;/MScale&gt;&lt;XYTolerance&gt;0.001&lt;/XYTolerance&gt;&lt;ZTolerance&gt;0.001&lt;/ZTolerance&gt;&lt;MTolerance&gt;0.001&lt;/MTolerance&gt;&lt;HighPrecision&gt;true&lt;/HighPrecision&gt;&lt;WKID&gt;102100&lt;/WKID&gt;&lt;LatestWKID&gt;3857&lt;/LatestWKID&gt;&lt;/ProjectedCoordinateSystem&gt;</peXml>
</coordRef>
<RasterProperties>
<General>
<PixelDepth Sync="TRUE">8</PixelDepth>
<HasColormap Sync="TRUE">FALSE</HasColormap>
<CompressionType Sync="TRUE">None</CompressionType>
<NumBands Sync="TRUE">1</NumBands>
<Format Sync="TRUE">AMD</Format>
<HasPyramids Sync="TRUE">TRUE</HasPyramids>
<SourceType Sync="TRUE">continuous</SourceType>
<PixelType Sync="TRUE">unsigned integer</PixelType>
<NoDataValue Sync="TRUE"/>
</General>
<Properties>
<MaxImageHeight Sync="TRUE">100000</MaxImageHeight>
<MaxImageWidth Sync="TRUE">100000</MaxImageWidth>
<MaxRecordCount Sync="TRUE">1000</MaxRecordCount>
<MaxDownloadImageCount Sync="TRUE">20</MaxDownloadImageCount>
<MaxDownloadSizeLimit Sync="TRUE">2048</MaxDownloadSizeLimit>
<MaxMosaicImageCount Sync="TRUE">100</MaxMosaicImageCount>
<DefaultCompressionQuality Sync="TRUE">75</DefaultCompressionQuality>
<DefaultCompressionTolerance Sync="TRUE">0.01</DefaultCompressionTolerance>
<BlendWidth Sync="TRUE">10</BlendWidth>
<ViewpointSpacingX Sync="TRUE">600</ViewpointSpacingX>
<ViewpointSpacingY Sync="TRUE">300</ViewpointSpacingY>
<AllowedItemMetadata Sync="TRUE">Basic</AllowedItemMetadata>
<DefaultResamplingMethod Sync="TRUE">0</DefaultResamplingMethod>
<AllowedMosaicMethods Sync="TRUE">None,NorthWest,Center,LockRaster,ByAttribute,Nadir,Viewpoint,Seamline</AllowedMosaicMethods>
<AllowedCompressions Sync="TRUE">None,JPEG,LZ77,LERC</AllowedCompressions>
<AllowedMensurationCapabilities Sync="TRUE">Basic</AllowedMensurationCapabilities>
<AvailableMensurationCapabilities Sync="TRUE">None,Basic,Base-Top Height,Top-Top Shadow Height,Base-Top Shadow Height,3D</AvailableMensurationCapabilities>
<ClipToBoundary Sync="TRUE">-1</ClipToBoundary>
<FootprintMayContainNoData Sync="TRUE">-1</FootprintMayContainNoData>
<CellSizeTolerance Sync="TRUE">0.8</CellSizeTolerance>
<MinimumPixelContribution Sync="TRUE">1</MinimumPixelContribution>
<AvailableMosaicMethods Sync="TRUE">NorthWest,Center,LockRaster,ByAttribute,Nadir,Viewpoint,Seamline,None</AvailableMosaicMethods>
<AvailableCompressionMethods Sync="TRUE">None,JPEG,LZ77,LERC</AvailableCompressionMethods>
<AvailableItemMetadataLevels Sync="TRUE">None,Basic,Full</AvailableItemMetadataLevels>
<BandDefinitionKeyword Sync="TRUE">NONE</BandDefinitionKeyword>
<_docversion_ Sync="TRUE">10</_docversion_>
<AllowedFields Sync="TRUE">name,minps,maxps,lowps,highps,tag,groupname,productname,centerx,centery,zorder,st_area(shape),st_perimeter(shape),Dimensions,Tree_Species_Number,Variable</AllowedFields>
<MaxCellSize Sync="TRUE">100000</MaxCellSize>
<LowCellSize Sync="TRUE">10000</LowCellSize>
<HighCellSize Sync="TRUE">10000</HighCellSize>
<DataType Sync="TRUE">Thematic</DataType>
<AvailableFields Sync="TRUE">name,minps,maxps,lowps,highps,tag,groupname,productname,centerx,centery,zorder,st_area(shape),st_perimeter(shape)</AvailableFields>
<SortableFields Sync="TRUE">minps,maxps,lowps,highps,centerx,centery,zorder,st_area(shape),st_perimeter(shape)</SortableFields>
<SortAscending Sync="TRUE">-1</SortAscending>
<MosaicOperator Sync="TRUE">1</MosaicOperator>
<BlendWidthUnits Sync="TRUE">1</BlendWidthUnits>
<ClipToFootprint Sync="TRUE">0</ClipToFootprint>
<ClipOverviewsToFootprint Sync="TRUE">0</ClipOverviewsToFootprint>
<HasDodgingTable Sync="TRUE">0</HasDodgingTable>
<ApplyColorCorrection Sync="TRUE">0</ApplyColorCorrection>
<UseTime Sync="TRUE">0</UseTime>
<StartTimeFieldName Sync="TRUE"/>
<EndTimeFieldName Sync="TRUE"/>
<TimeValueFormat Sync="TRUE"/>
<UseRange Sync="TRUE">0</UseRange>
<TimeInterval Sync="TRUE"/>
<TimeIntervalUnits Sync="TRUE"/>
</Properties>
<Functions Sync="TRUE">
<Function Description="Performs on-the-fly mosaic on a raster catalog." Name="Mosaic Function"/>
</Functions>
</RasterProperties>
</DataProperties>
<SyncDate>20250415</SyncDate>
<SyncTime>16012700</SyncTime>
<ModDate>20250416</ModDate>
<ModTime>8482000</ModTime>
<ArcGISProfile>ISO19115_3</ArcGISProfile>
</Esri>
<mdLang>
<languageCode Sync="TRUE" value="eng"/>
<countryCode Sync="TRUE" value="USA"/>
</mdLang>
<mdHrLv>
<ScopeCd value="005"/>
</mdHrLv>
<mdDateSt Sync="TRUE">20250416</mdDateSt>
<dataIdInfo>
<envirDesc Sync="TRUE">Microsoft Windows Server 2016 Technical Preview Version 10.0 (Build 17763) ; Esri ArcGIS 13.2.0.49743</envirDesc>
<dataLang>
<languageCode Sync="TRUE" value="eng"/>
<countryCode Sync="TRUE" value="USA"/>
</dataLang>
<idCitation>
<resTitle Sync="TRUE">TreeHabitatSuitability_USFS_ForestEcosystemAtlas</resTitle>
<presForm>
<PresFormCd Sync="FALSE" value="003"/>
<fgdcGeoform>raster digital data</fgdcGeoform>
</presForm>
<otherCitDet>Details on the models were published in:
Peters et al. (2019) and Iverson et al. (2019).
Iverson, Louis R.; Peters, Matthew P.; Prasad, Anantha M.; Matthews, Stephen N. 2019. Analysis of Climate Change Impacts on Tree Species of the Eastern US: Results of DISTRIB-II Modeling. Forests. 10(4): 302. https://doi.org/10.3390/f10040302.
Peters, Matthew P.; Iverson, Louis R.; Prasad, Anantha M.; Matthews, Stephen N. 2019. Utilizing the density of inventory samples to define a hybrid lattice for species distribution models: DISTRIB II for 135 eastern U.S. trees. Ecology and Evolution . 9(15): 8876-8899. https://doi.org/10.1002/ece3.5445.</otherCitDet>
</idCitation>
<spatRpType>
<SpatRepTypCd Sync="TRUE" value="002"/>
</spatRpType>
<dataExt>
<geoEle>
<GeoBndBox esriExtentType="search">
<exTypeCode Sync="TRUE">1</exTypeCode>
<westBL Sync="TRUE">-106.138621</westBL>
<eastBL Sync="TRUE">-65.534770</eastBL>
<northBL Sync="TRUE">50.394411</northBL>
<southBL Sync="TRUE">23.353816</southBL>
</GeoBndBox>
</geoEle>
<exDesc>United States east of the 100th Meridian</exDesc>
</dataExt>
<idPurp>Modeled habitat suitability of tree species helps forest managers consider where species might be found, where species could grow under recent climate conditions, and how different climate change scenarios could impact habitat suitability. These models provide a coarse scale, 10 and 20 km (6.2 and 12.4 miles), representation of individual tree species habitat suitability derived from relative abundance and 45 environmental conditions.</idPurp>
<idAbs>&lt;div style='text-align:Left;'&gt;&lt;div&gt;&lt;div&gt;&lt;p&gt;&lt;span&gt;Modeled habitat suitability for 125 tree species in the eastern United States under current (1981-2010) climate conditions and projected future conditions (2070-2099) created using a statistical modeling approach that correlates mean importance values to 45 environmental data layers. This data set includes 148 tree species represented by a hybrid lattice of 10 and 20 km grids that provides information on relative abundance (i.e., importance values), derived from tree basal area and number of stems, for the species according to USDA Forest Service Forest Inventory and Analysis data (2001-2016), and modeled for 125 species under current conditions and for eight future scenarios.&lt;/span&gt;&lt;/p&gt;&lt;/div&gt;&lt;/div&gt;&lt;/div&gt;</idAbs>
<searchKeys>
<keyword>Biota</keyword>
<keyword>Environment</keyword>
<keyword>Geoscientific</keyword>
<keyword>habitat</keyword>
<keyword>ecosystem</keyword>
<keyword>Northern Research Station</keyword>
<keyword>USDA</keyword>
<keyword>Forest Service</keyword>
<keyword>eastern United States</keyword>
<keyword>modeled niche</keyword>
<keyword>potential suitable habitat</keyword>
<keyword>tree species</keyword>
<keyword>importance values</keyword>
<keyword>climate change</keyword>
<keyword>Interdepartmental Imagery Publication Platform</keyword>
<keyword>IIPP</keyword>
</searchKeys>
<resConst>
<Consts>
<useLimit>&lt;div style='text-align:Left;'&gt;&lt;div&gt;&lt;div&gt;&lt;p&gt;&lt;span&gt;The USDA Forest Service makes no warranty, expressed or implied, including the warranties of merchantability and fitness for a particular purpose, nor assumes any legal liability or responsibility for the accuracy, reliability, completeness or utility of these geospatial data, or for the improper or incorrect use of these geospatial data. These geospatial data and related maps or graphics are not legal documents and are not intended to be used as such. The data and maps may not be used to determine title, ownership, legal descriptions or boundaries, legal jurisdiction, or restrictions that may be in place on either public or private land. Natural hazards may or may not be depicted on the data and maps, and users should exercise due caution. The data are dynamic and may change over time. The user is responsible to verify the limitations of the geospatial data and to use the data accordingly.&lt;/span&gt;&lt;/p&gt;&lt;/div&gt;&lt;/div&gt;&lt;/div&gt;</useLimit>
</Consts>
</resConst>
<dataChar>
<CharSetCd value="004"/>
</dataChar>
<suppInfo>Random forest regression models (Breiman 2001) were trained with a subset of the hybrid lattice having two or more FIA plots, forest cover greater than five percent, and the mean importance value was less than 1.5 times the inter-quartile range of all cell importance values for the species. Random forest was parameterized to generate 1,001 regression trees, use eight randomly selected predictor variables at each node (i.e., mtry), and grow each regression tree with a minimum of 10 observations. Predicted importance values were performed on the training records (RFpred) and importance values were imputed to all records within the hybrid lattice having complete predictor variable information (RFimp). Predictions were also performed using the future climate scenarios for three general circulation models (GCM) (CCSM4, GFDL CM3, and HadGEM2-ES) under the 4.5 and 8.5 representative concentration pathways (RCP). An average importance value for each RCP was calculated using the three GCMs.
The random forest default is to calculate the mean value among the regression trees within the ensemble, thus at each terminal node the value among 1,001 regression trees are averaged for the final prediction. In many cases this results in acceptable values, however, there are instances when a majority of the regression trees predict a zero and a few trees predict values greater than zero. This produces low values in locations that one may not expect to find suitable habitat for the species, so to limit these potentially erroneous values, we replaced the mean value with the median (i.e., 0) when the median prediction equaled zero and the mean prediction had a coefficient of variation greater than or equal to 2.75.
See Peters et al. (2019) and Iverson et al. (2019) for more details.
Breiman, Leo. 2001. Random Forest. Machine Learning 45(1): 5-32. https://doi.org/10.1023/A:1010933404324
Iverson, Louis R.; Peters, Matthew P.; Prasad, Anantha M.; Matthews, Stephen N. 2019. Analysis of climate change impacts on tree species of the eastern US: Results of DISTRIB-II modeling. Forests 10(4): 302. https://doi.org/10.3390/f10040302
Peters, Matthew P.; Iverson, Louis R.; Prasad, Anantha M.; Matthews, Stephen N. 2019. Utilizing the density of inventory samples to define a hybrid lattice for species distribution models: DISTRIB-II for 135 eastern U.S. trees. Ecology and Evolution. https://doi.org/10.1002/ece3.5445</suppInfo>
<themeKeys>
<keyword>Biota; Environment; Geoscientific; habitat; ecosystem; Northern Research Station; USDA; Forest Service; eastern United States; modeled niche; potential suitable habitat; tree species; importance values; climate change; Interdepartmental Imagery Publication Platform; IIPP;</keyword>
</themeKeys>
<placeKeys>
<keyword>eastern United States; US; United States east of the 100th Meridian;</keyword>
</placeKeys>
<idCredit>Details on the models were published in:
Peters et al. (2019) and Iverson et al. (2019).
Iverson, Louis R.; Peters, Matthew P.; Prasad, Anantha M.; Matthews, Stephen N. 2019. Analysis of Climate Change Impacts on Tree Species of the Eastern US: Results of DISTRIB-II Modeling. Forests. 10(4): 302. https://doi.org/10.3390/f10040302.
Peters, Matthew P.; Iverson, Louis R.; Prasad, Anantha M.; Matthews, Stephen N. 2019. Utilizing the density of inventory samples to define a hybrid lattice for species distribution models: DISTRIB II for 135 eastern U.S. trees. Ecology and Evolution . 9(15): 8876-8899. https://doi.org/10.1002/ece3.5445.</idCredit>
<resMaint>
<maintFreq>
<MaintFreqCd value="012"/>
</maintFreq>
</resMaint>
<tpCat>
<TopicCatCd value="002"/>
</tpCat>
<tpCat>
<TopicCatCd value="008"/>
</tpCat>
<tpCat>
<TopicCatCd value="007"/>
</tpCat>
</dataIdInfo>
<spatRepInfo>
<Georect>
<cellGeo>
<CellGeoCd Sync="TRUE" value="002"/>
</cellGeo>
<numDims Sync="TRUE">2</numDims>
<tranParaAv Sync="TRUE">1</tranParaAv>
<chkPtAv Sync="TRUE">0</chkPtAv>
<cornerPts>
<pos Sync="TRUE">-11815297.200800 2674863.127400</pos>
</cornerPts>
<cornerPts>
<pos Sync="TRUE">-11815297.200800 6514863.127400</pos>
</cornerPts>
<cornerPts>
<pos Sync="TRUE">-7295297.200800 6514863.127400</pos>
</cornerPts>
<cornerPts>
<pos Sync="TRUE">-7295297.200800 2674863.127400</pos>
</cornerPts>
<centerPt>
<pos Sync="TRUE">-9555297.200800 4594863.127400</pos>
</centerPt>
<axisDimension type="002">
<dimSize Sync="TRUE">452</dimSize>
<dimResol>
<value Sync="TRUE" uom="m">10000.000000</value>
</dimResol>
</axisDimension>
<axisDimension type="001">
<dimSize Sync="TRUE">384</dimSize>
<dimResol>
<value Sync="TRUE" uom="m">10000.000000</value>
</dimResol>
</axisDimension>
<ptInPixel>
<PixOrientCd Sync="TRUE" value="001"/>
</ptInPixel>
</Georect>
</spatRepInfo>
<refSysInfo>
<RefSystem dimension="">
<refSysID>
<identCode Sync="TRUE" code="3857"/>
<idCodeSpace Sync="TRUE">EPSG</idCodeSpace>
<idVersion Sync="TRUE">6.18.3(9.3.1.2)</idVersion>
</refSysID>
</RefSystem>
</refSysInfo>
<contInfo>
<ImgDesc>
<contentTyp>
<ContentTypCd Sync="TRUE" value="002"/>
</contentTyp>
<covDim>
<Band>
<dimDescrp Sync="TRUE">Band_1</dimDescrp>
<maxVal Sync="TRUE">7</maxVal>
<minVal Sync="TRUE">0</minVal>
<bitsPerVal Sync="TRUE">8</bitsPerVal>
<valUnit>
<UOM gmlID="" type="length"/>
</valUnit>
</Band>
</covDim>
<trianInd>False</trianInd>
<radCalDatAv>False</radCalDatAv>
<camCalInAv>False</camCalInAv>
<filmDistInAv>False</filmDistInAv>
<lensDistInAv>False</lensDistInAv>
</ImgDesc>
</contInfo>
<mdChar>
<CharSetCd value="004"/>
</mdChar>
<mdMaint>
<maintFreq>
<MaintFreqCd value="012"/>
</maintFreq>
</mdMaint>
</metadata>
