{ "extent": { "ymin": 8343775.3736460088, "xmin": -16713220.198899999, "ymax": 8770967.6140000001, "xmax": -15972819.905265516, "spatialReference": { "latestWkid": 3857, "wkid": 102100 } }, "blockWidth": 2048, "mosaicOperator": "First", "serviceSourceType": "esriImageServiceSourceTypeMosaicDataset", "hasMultidimensions": false, "maxImageWidth": 100000, "maxRecordCount": 1000, "meanValues": [126.31230389300299], "hasColormap": false, "compressionType": "None", "defaultCompressionQuality": 75, "maxValues": [255], "hasHistograms": true, "datasetFormat": "AMD", "maxImageHeight": 100000, "sortField": "", "bandNames": ["Band_1"], "spatialReference": { "latestWkid": 3857, "wkid": 102100 }, "fullExtent": { "ymin": 8343775.3736460088, "xmin": -16713220.198899999, "ymax": 8770967.6140000001, "xmax": -15972819.905265516, "spatialReference": { "latestWkid": 3857, "wkid": 102100 } }, "bandCount": 1, "rasterFunctionInfos": [{ "help": "", "name": "None", "description": "" }], "supportsStatistics": true, "sortableFields": "minps,maxps,lowps,highps,centerx,centery,zorder,st_area(shape),st_perimeter(shape),beginyear,endyear", "minValues": [1], "allowRasterFunction": true, "allowComputeTiePoints": false, "serviceDataType": "esriImageServiceDataTypeGeneric", "supportsAdvancedQueries": true, "maxDownloadSizeLimit": 2048, "currentVersion": 11.5, "sortValue": null, "timeInfo": { "startTimeField": "beginyear", "endTimeField": "endyear", "timeExtent": [ 1136073600000, 1136073600000 ], "timeReference": null }, "objectIdField": "objectid", "blockHeight": 256, "initialExtent": { "ymin": 8343775.3736460088, "xmin": -16713220.198899999, "ymax": 8770967.6140000001, "xmax": -15972819.905265516, "spatialReference": { "latestWkid": 3857, "wkid": 102100 } }, "pixelSizeX": 0.99984374899999939, "pixelSizeY": 0.99984374900000061, "defaultMosaicMethod": "Northwest", "name": "Aerial_Imagery/Pan_post2000_USFS_R10_Alaska_multiRes", "allowedMosaicMethods": "NorthWest,Center,LockRaster,ByAttribute,Nadir,Viewpoint,Seamline,None", "maxDownloadImageCount": 20, "fields": [ { "domain": null, "name": "objectid", "alias": "objectid", "type": "esriFieldTypeOID" }, { "domain": null, "name": "name", "length": 200, "alias": "name", "type": "esriFieldTypeString" }, { "domain": null, "name": "minps", "alias": "minps", "type": "esriFieldTypeDouble" }, { "domain": null, "name": "maxps", "alias": "maxps", "type": "esriFieldTypeDouble" }, { "domain": null, "name": "lowps", "alias": "lowps", "type": "esriFieldTypeDouble" }, { "domain": null, "name": "highps", "alias": "highps", "type": "esriFieldTypeDouble" }, { "domain": { "splitPolicy": "esriSPTDefaultValue", "name": "MosaicCatalogItemCategoryDomain", "description": "Catalog item categories.", "type": "codedValue", "codedValues": [ { "code": 0, "name": "Unknown" }, { "code": 1, "name": "Primary" }, { "code": 2, "name": "Overview" }, { "code": 3, "name": "Unprocessed Overview" }, { "code": 4, "name": "Partial Overview" }, { "code": 5, "name": "Inactive" }, { "code": 253, "name": "Uploaded" }, { "code": 254, "name": "Incomplete" }, { "code": 255, "name": "Custom" } ], "mergePolicy": "esriMPTDefaultValue" }, "name": "category", "alias": "category", "type": "esriFieldTypeInteger" }, { "domain": null, "name": "tag", "length": 100, "alias": "tag", "type": "esriFieldTypeString" }, { "domain": null, "name": "groupname", "length": 100, "alias": "groupname", "type": "esriFieldTypeString" }, { "domain": null, "name": "productname", "length": 100, "alias": "productname", "type": "esriFieldTypeString" }, { "domain": null, "name": "centerx", "alias": "centerx", "type": "esriFieldTypeDouble" }, { "domain": null, "name": "centery", "alias": "centery", "type": "esriFieldTypeDouble" }, { "domain": null, "name": "zorder", "alias": "zorder", "type": "esriFieldTypeInteger" }, { "domain": null, "name": "shape", "alias": "shape", "type": "esriFieldTypeGeometry" }, { "domain": null, "name": "beginyear", "alias": "beginyear", "type": "esriFieldTypeSmallInteger" }, { "domain": null, "name": "endyear", "alias": "endyear", "type": "esriFieldTypeSmallInteger" }, { "domain": null, "name": "dataset_name", "length": 100, "alias": "dataset_name", "type": "esriFieldTypeString" }, { "domain": null, "name": "public", "length": 3, "alias": "public", "type": "esriFieldTypeString" }, { "domain": null, "name": "metadata", "length": 255, "alias": "metadata", "type": "esriFieldTypeString" }, { "domain": null, "name": "resolution", "alias": "resolution", "type": "esriFieldTypeDouble" }, { "domain": null, "name": "st_area(shape)", "alias": "st_area(shape)", "type": "esriFieldTypeDouble" }, { "domain": null, "name": "st_perimeter(shape)", "alias": "st_perimeter(shape)", "type": "esriFieldTypeDouble" } ], "allowAnalysis": true, "hasRasterAttributeTable": false, "useStandardizedQueries": true, "description": "
This is a collection of aerial digital orthophotos covering selected U.S. Forest Service and adjoining lands in the Alaska Region. The data are presented in a time-enabled format, allowing the end-user to view available data year-by-year, or all available years at once, within a GIS system. The data encompass varying years from 2000 to the present, varying resolutions, and varying geographic extents, dependent upon available imagery as provided by the region. The data contains a single grey-scale panchromatic band.The data contains an attribute table. Notable attributes that may be of interest to an end-user are:lowps: the pixel size of the source raster, given in meters.highps: the pixel size of the top-most pyramid for the raster, given in meters.beginyear: the first year of data acquisition for an individual dataset.endyear: the final year of data acquisition for an individual dataset.dataset_name: the name of the individual dataset within the collection.metadata: A URL link to a file on IIPP's Portal containing metadata pertaining to an individual dataset within the image service.resolution: The pixel size of the source raster, given in meters.A digital orthophoto is a georeferenced image prepared from aerial imagery, or other remotely-sensed data in which the displacement within the image due to sensor orientation and terrain relief has been removed. Orthophotos combine the characteristics of an image with the geometric qualities of a map. Orthoimages show ground features such as roads, buildings, and streams in their proper positions, without the distortion characteristic of unrectified aerial imagery. Digital orthoimages produced and used within the Forest Service are developed from imagery acquired through various national and regional image acquisition programs. The resulting orthoimages, also known as orthomaps, can be directly applied in remote sensing, GIS and mapping applications. They serve a variety of purposes, from interim maps to references for earth science investigations and analysis. Because of the orthographic property, an orthoimage can be used like a map for measurement of distances, angles, and areas with scale being constant everywhere. Also, they can be used as map layers in GIS or other computer-based manipulation, overlaying, and analysis. An orthoimage differs from a map in a manner of depiction of detail; on a map only selected detail is shown by conventional symbols, whereas on an orthoimage all details appear just as in original aerial or satellite imagery.<\/SPAN><\/P><\/DIV><\/DIV><\/DIV>",
"pixelType": "U8",
"meanPixelSize": 0.99984374900000006,
"exportTilesAllowed": false,
"editFieldsInfo": null,
"rasterTypeInfos": [{
"help": "",
"name": "Raster Dataset",
"description": "Supports all ArcGIS Raster Datasets"
}],
"defaultResamplingMethod": "Bilinear",
"itemAccess": false,
"minScale": 0,
"serviceProperties": " This is a collection of aerial digital orthophotos covering selected U.S. Forest Service and adjoining lands in the Alaska Region. The data are presented in a time-enabled format, allowing the end-user to view available data year-by-year, or all available years at once, within a GIS system. The data encompass varying years from 2000 to the present, varying resolutions, and varying geographic extents, dependent upon available imagery as provided by the region. The data contains a single grey-scale panchromatic band.<\/SPAN><\/P> The data contains an attribute table. Notable attributes that may be of interest to an end-user are:<\/SPAN><\/P> lowps: the pixel size of the source raster, given in meters.<\/SPAN><\/P><\/LI> highps: the pixel size of the top-most pyramid for the raster, given in meters.<\/SPAN><\/P><\/LI> beginyear: the first year of data acquisition for an individual dataset.<\/SPAN><\/P><\/LI> endyear: the final year of data acquisition for an individual dataset.<\/SPAN><\/P><\/LI> dataset_name: the name of the individual dataset within the collection.<\/SPAN><\/P><\/LI><\/UL> A digital orthophoto is a georeferenced image prepared from aerial imagery, or other remotely-sensed data in which the displacement within the image due to sensor orientation and terrain relief has been removed. Orthophotos combine the characteristics of an image with the geometric qualities of a map. Orthoimages show ground features such as roads, buildings, and streams in their proper positions, without the distortion characteristic of unrectified aerial imagery. Digital orthoimages produced and used within the Forest Service are developed from imagery acquired through various national and regional image acquisition programs. The resulting orthoimages, also known as orthomaps, can be directly applied in remote sensing, GIS and mapping applications. They serve a variety of purposes, from interim maps to references for earth science investigations and analysis. Because of the orthographic property, an orthoimage can be used like a map for measurement of distances, angles, and areas with scale being constant everywhere. Also, they can be used as map layers in GIS or other computer-based manipulation, overlaying, and analysis. An orthoimage differs from a map in a manner of depiction of detail; on a map only selected detail is shown by conventional symbols, whereas on an orthoimage all details appear just as in original aerial or satellite imagery.<\/SPAN><\/P><\/DIV><\/DIV><\/DIV>",
"allowCopy": true,
"copyrightText": "These datasets were provided by the U.S. Forest Service Alaska Region (R10) and are served by the U.S. Forest Service Geospatial Technology & Applications Center (GTAC), in cooperation with the U.S. Department of the Interior's Geospatial Platform (GeoPlatform), as part of the Interdepartmental Imagery Publication Platform (IIPP).",
"mensurationCapabilities": "Basic",
"ownershipBasedAccessControlForRasters": null
}